BEGIN:VCALENDAR
VERSION:2.0
PRODID:-//Stateline Kids - ECPv6.5.1.3//NONSGML v1.0//EN
CALSCALE:GREGORIAN
METHOD:PUBLISH
X-ORIGINAL-URL:https://statelinekids.com
X-WR-CALDESC:Events for Stateline Kids
REFRESH-INTERVAL;VALUE=DURATION:PT1H
X-Robots-Tag:noindex
X-PUBLISHED-TTL:PT1H
BEGIN:VTIMEZONE
TZID:America/Chicago
BEGIN:DAYLIGHT
TZOFFSETFROM:-0600
TZOFFSETTO:-0500
TZNAME:CDT
DTSTART:20220313T080000
END:DAYLIGHT
BEGIN:STANDARD
TZOFFSETFROM:-0500
TZOFFSETTO:-0600
TZNAME:CST
DTSTART:20221106T070000
END:STANDARD
END:VTIMEZONE
BEGIN:VEVENT
DTSTART;TZID=America/Chicago:20221203T120000
DTEND;TZID=America/Chicago:20221203T150000
DTSTAMP:20260419T113615
CREATED:20221127T184022Z
LAST-MODIFIED:20221127T184022Z
UID:25125-1670068800-1670079600@statelinekids.com
SUMMARY:Swim with Santa
DESCRIPTION:Kids can swim for a 45 minute block with Santa. Register here. \nCost: $5 per person
URL:https://statelinekids.com/event/swim-with-santa-2/
LOCATION:YMCA of Northern Rock County\, 221 Dodge St.\, Janesville\, WI\, United States
CATEGORIES:Janesville
END:VEVENT
BEGIN:VEVENT
DTSTART;TZID=America/Chicago:20221105T100000
DTEND;TZID=America/Chicago:20221105T120000
DTSTAMP:20260419T113615
CREATED:20221030T155842Z
LAST-MODIFIED:20221030T155842Z
UID:24685-1667642400-1667649600@statelinekids.com
SUMMARY:Milwaukee Bucks Youth Basketball One-Day Clinic
DESCRIPTION:Kids ages 5-12 can learn basketball skills and receive Milwaukee Bucks branded headband\, basketball\, or t-shirt for an additional fee. Register here.
URL:https://statelinekids.com/event/milwaukee-bucks-youth-basketball-one-day-clinic/
LOCATION:YMCA of Northern Rock County\, 221 Dodge St.\, Janesville\, WI\, United States
CATEGORIES:Janesville
END:VEVENT
BEGIN:VEVENT
DTSTART;TZID=America/Chicago:20221022T110000
DTEND;TZID=America/Chicago:20221022T123000
DTSTAMP:20260419T113615
CREATED:20221016T194022Z
LAST-MODIFIED:20221016T194022Z
UID:24303-1666436400-1666441800@statelinekids.com
SUMMARY:Pumpkin Splash!
DESCRIPTION:Kids ages 3-12 can swim with pumpkins and pick out a favorite. Register here.
URL:https://statelinekids.com/event/pumpkin-splash/
LOCATION:YMCA of Northern Rock County\, 221 Dodge St.\, Janesville\, WI\, United States
CATEGORIES:Janesville
END:VEVENT
END:VCALENDAR