BEGIN:VCALENDAR
VERSION:2.0
PRODID:-//Stateline Kids - ECPv6.5.1.3//NONSGML v1.0//EN
CALSCALE:GREGORIAN
METHOD:PUBLISH
X-ORIGINAL-URL:https://statelinekids.com
X-WR-CALDESC:Events for Stateline Kids
REFRESH-INTERVAL;VALUE=DURATION:PT1H
X-Robots-Tag:noindex
X-PUBLISHED-TTL:PT1H
BEGIN:VTIMEZONE
TZID:America/Chicago
BEGIN:DAYLIGHT
TZOFFSETFROM:-0600
TZOFFSETTO:-0500
TZNAME:CDT
DTSTART:20220313T080000
END:DAYLIGHT
BEGIN:STANDARD
TZOFFSETFROM:-0500
TZOFFSETTO:-0600
TZNAME:CST
DTSTART:20221106T070000
END:STANDARD
BEGIN:DAYLIGHT
TZOFFSETFROM:-0600
TZOFFSETTO:-0500
TZNAME:CDT
DTSTART:20230312T080000
END:DAYLIGHT
BEGIN:STANDARD
TZOFFSETFROM:-0500
TZOFFSETTO:-0600
TZNAME:CST
DTSTART:20231105T070000
END:STANDARD
BEGIN:DAYLIGHT
TZOFFSETFROM:-0600
TZOFFSETTO:-0500
TZNAME:CDT
DTSTART:20240310T080000
END:DAYLIGHT
BEGIN:STANDARD
TZOFFSETFROM:-0500
TZOFFSETTO:-0600
TZNAME:CST
DTSTART:20241103T070000
END:STANDARD
END:VTIMEZONE
BEGIN:VEVENT
DTSTART;TZID=America/Chicago:20240524T193000
DTEND;TZID=America/Chicago:20240524T210000
DTSTAMP:20260421T140458
CREATED:20240518T204932Z
LAST-MODIFIED:20240518T204932Z
UID:35022-1716579000-1716584400@statelinekids.com
SUMMARY:Beauty and the Beast Movie Singalong
DESCRIPTION:Watch Beauty and the Beast and sing along. Get tickets here.
URL:https://statelinekids.com/event/beauty-and-the-beast-movie-singalong/
LOCATION:Woodstock Opera House\, 121 W. Van Buren.\, Woodstock\, IL\, United States
CATEGORIES:Woodstock
END:VEVENT
BEGIN:VEVENT
DTSTART;TZID=America/Chicago:20240203T150000
DTEND;TZID=America/Chicago:20240203T170000
DTSTAMP:20260421T140458
CREATED:20240128T182639Z
LAST-MODIFIED:20240128T182639Z
UID:33172-1706972400-1706979600@statelinekids.com
SUMMARY:DATE NIGHT: Piano Man - The Billy Joel Experience
DESCRIPTION:Enjoy a tribute to one of the best-selling artists of all time. Get tickets here.
URL:https://statelinekids.com/event/date-night-piano-man-the-billy-joel-experience/2024-02-03/
LOCATION:Woodstock Opera House\, 121 W. Van Buren.\, Woodstock\, IL\, United States
END:VEVENT
BEGIN:VEVENT
DTSTART;TZID=America/Chicago:20240202T070000
DTEND;TZID=America/Chicago:20240202T080000
DTSTAMP:20260421T140458
CREATED:20240128T190137Z
LAST-MODIFIED:20240128T190137Z
UID:33179-1706857200-1706860800@statelinekids.com
SUMMARY:Groundhog Day Ceremony
DESCRIPTION:Watch the groundhog emerge to see if he’ll see his shadow and listen to a polka band.
URL:https://statelinekids.com/event/groundhog-day-ceremony/
LOCATION:Woodstock Opera House\, 121 W. Van Buren.\, Woodstock\, IL\, United States
CATEGORIES:Woodstock
END:VEVENT
BEGIN:VEVENT
DTSTART;TZID=America/Chicago:20240127T130000
DTEND;TZID=America/Chicago:20240127T143000
DTSTAMP:20260421T140458
CREATED:20240121T222848Z
LAST-MODIFIED:20240121T222848Z
UID:33086-1706360400-1706365800@statelinekids.com
SUMMARY:Treasure Island
DESCRIPTION:Kids can become part of the performance at this interactive play. Get tickets here.
URL:https://statelinekids.com/event/treasure-island/2024-01-27/
LOCATION:Woodstock Opera House\, 121 W. Van Buren.\, Woodstock\, IL\, United States
CATEGORIES:Woodstock
END:VEVENT
BEGIN:VEVENT
DTSTART;TZID=America/Chicago:20231215T190000
DTEND;TZID=America/Chicago:20231215T210000
DTSTAMP:20260421T140458
CREATED:20231210T192217Z
LAST-MODIFIED:20231210T192217Z
UID:32531-1702666800-1702674000@statelinekids.com
SUMMARY:The Nutcracker
DESCRIPTION:Watch a performance of the Christmas ballet performed by the Judith Svalander School of Ballet. Get tickets here.
URL:https://statelinekids.com/event/the-nutcracker-9/2023-12-15/
LOCATION:Woodstock Opera House\, 121 W. Van Buren.\, Woodstock\, IL\, United States
CATEGORIES:Woodstock
END:VEVENT
BEGIN:VEVENT
DTSTART;TZID=America/Chicago:20231208T190000
DTEND;TZID=America/Chicago:20231208T210000
DTSTAMP:20260421T140458
CREATED:20231203T190345Z
LAST-MODIFIED:20231203T190345Z
UID:32358-1702062000-1702069200@statelinekids.com
SUMMARY:The Nutcracker
DESCRIPTION:Watch a performance of the Christmas ballet performed by the Judith Svalander School of Ballet. Get tickets here.
URL:https://statelinekids.com/event/the-nutcracker-8/2023-12-08/
LOCATION:Woodstock Opera House\, 121 W. Van Buren.\, Woodstock\, IL\, United States
CATEGORIES:Woodstock
END:VEVENT
BEGIN:VEVENT
DTSTART;TZID=America/Chicago:20231117T193000
DTEND;TZID=America/Chicago:20231117T213000
DTSTAMP:20260421T140458
CREATED:20231111T183342Z
LAST-MODIFIED:20231111T183342Z
UID:32055-1700249400-1700256600@statelinekids.com
SUMMARY:White Christmas
DESCRIPTION:Watch an uplifting musical for all ages about Christmas. Get tickets here.
URL:https://statelinekids.com/event/white-christmas/2023-11-17/
LOCATION:Woodstock Opera House\, 121 W. Van Buren.\, Woodstock\, IL\, United States
CATEGORIES:Woodstock
END:VEVENT
BEGIN:VEVENT
DTSTART;TZID=America/Chicago:20231006T193000
DTEND;TZID=America/Chicago:20231006T213000
DTSTAMP:20260421T140458
CREATED:20230930T182836Z
LAST-MODIFIED:20230930T182836Z
UID:30985-1696620600-1696627800@statelinekids.com
SUMMARY:Puffs
DESCRIPTION:Watch a play about wizards who just happened to be there during the seven years a boy wizard went to a Wizard School. Get tickets here. \nCost: $20-26 per person / $10-16 per student
URL:https://statelinekids.com/event/puffs/2023-10-06/
LOCATION:Woodstock Opera House\, 121 W. Van Buren.\, Woodstock\, IL\, United States
CATEGORIES:Janesville
END:VEVENT
BEGIN:VEVENT
DTSTART;TZID=America/Chicago:20230303T193000
DTEND;TZID=America/Chicago:20230303T213000
DTSTAMP:20260421T140458
CREATED:20230225T185818Z
LAST-MODIFIED:20230225T185818Z
UID:26623-1677871800-1677879000@statelinekids.com
SUMMARY:Seussical the Musical
DESCRIPTION:Watch a musical based on Horton Hears a Who\, Horton Hatches an Egg\, and Miss Gertrude McFuzz. Get tickets here.
URL:https://statelinekids.com/event/seussical-the-musical/2023-03-03/
LOCATION:Woodstock Opera House\, 121 W. Van Buren.\, Woodstock\, IL\, United States
CATEGORIES:Woodstock
END:VEVENT
BEGIN:VEVENT
DTSTART;TZID=America/Chicago:20230225T200000
DTEND;TZID=America/Chicago:20230225T220000
DTSTAMP:20260421T140458
CREATED:20230219T201313Z
LAST-MODIFIED:20230219T201313Z
UID:26555-1677355200-1677362400@statelinekids.com
SUMMARY:Joe Diamond - America’s Greatest Mind Reader
DESCRIPTION:Watch Joe Diamond’s mind reader performance. Get tickets here.
URL:https://statelinekids.com/event/joe-diamond-americas-greatest-mind-reader/
LOCATION:Woodstock Opera House\, 121 W. Van Buren.\, Woodstock\, IL\, United States
CATEGORIES:Woodstock
END:VEVENT
BEGIN:VEVENT
DTSTART;TZID=America/Chicago:20230202T070000
DTEND;TZID=America/Chicago:20230202T080000
DTSTAMP:20260421T140458
CREATED:20230129T220907Z
LAST-MODIFIED:20230129T222511Z
UID:26177-1675321200-1675324800@statelinekids.com
SUMMARY:Groundhog Day Prognostication
DESCRIPTION:Come out to hear if Woodstock Willie predicts another six weeks of winter. This event is part of Groundhog Days.
URL:https://statelinekids.com/event/groundhog-day-prognostication/
LOCATION:Woodstock Opera House\, 121 W. Van Buren.\, Woodstock\, IL\, United States
CATEGORIES:Woodstock
END:VEVENT
BEGIN:VEVENT
DTSTART;TZID=America/Chicago:20230128T130000
DTEND;TZID=America/Chicago:20230128T140000
DTSTAMP:20260421T140458
CREATED:20230122T172152Z
LAST-MODIFIED:20230122T172152Z
UID:25999-1674910800-1674914400@statelinekids.com
SUMMARY:Treasure Island Participation Play
DESCRIPTION:Kids in the audience become members of Long John Silver’s pirate gang and Captain Smollet’s crew in this participation play. Get tickets here.
URL:https://statelinekids.com/event/treasure-island-participation-play/2023-01-28/
LOCATION:Woodstock Opera House\, 121 W. Van Buren.\, Woodstock\, IL\, United States
CATEGORIES:Woodstock
END:VEVENT
BEGIN:VEVENT
DTSTART;TZID=America/Chicago:20221209T190000
DTEND;TZID=America/Chicago:20221209T210000
DTSTAMP:20260421T140458
CREATED:20221203T232733Z
LAST-MODIFIED:20221203T232733Z
UID:25182-1670612400-1670619600@statelinekids.com
SUMMARY:The Nutcracker
DESCRIPTION:Watch the classic tale of The Nutcracker. Get tickets here.
URL:https://statelinekids.com/event/the-nutcracker-6/2022-12-09/
LOCATION:Woodstock Opera House\, 121 W. Van Buren.\, Woodstock\, IL\, United States
CATEGORIES:Woodstock
END:VEVENT
BEGIN:VEVENT
DTSTART;TZID=America/Chicago:20221118T193000
DTEND;TZID=America/Chicago:20221118T220000
DTSTAMP:20260421T140458
CREATED:20221112T183400Z
LAST-MODIFIED:20221112T183400Z
UID:24809-1668799800-1668808800@statelinekids.com
SUMMARY:A Christmas Carol
DESCRIPTION:Watch a performance of Charles Dickens A Christmas Carol. Get tickets here. \nCost: $26 per adult / $24 per student
URL:https://statelinekids.com/event/a-christmas-carol-2/2022-11-18/
LOCATION:Woodstock Opera House\, 121 W. Van Buren.\, Woodstock\, IL\, United States
CATEGORIES:Woodstock
END:VEVENT
BEGIN:VEVENT
DTSTART;TZID=America/Chicago:20221007T193000
DTEND;TZID=America/Chicago:20221007T220000
DTSTAMP:20260421T140458
CREATED:20221001T194508Z
LAST-MODIFIED:20221001T194508Z
UID:24009-1665171000-1665180000@statelinekids.com
SUMMARY:Cinderella
DESCRIPTION:Watch a musical performance of Cinderella. Get tickets here.
URL:https://statelinekids.com/event/cinderella-2/2022-10-07/
LOCATION:Woodstock Opera House\, 121 W. Van Buren.\, Woodstock\, IL\, United States
CATEGORIES:Woodstock
END:VEVENT
BEGIN:VEVENT
DTSTART;TZID=America/Chicago:20220520T200000
DTEND;TZID=America/Chicago:20220520T220000
DTSTAMP:20260421T140458
CREATED:20220508T003054Z
LAST-MODIFIED:20220508T003054Z
UID:20247-1653076800-1653084000@statelinekids.com
SUMMARY:Piano Man
DESCRIPTION:Listen to a tribute band that brings the music of Billy Joel and Elton John to live. Get tickets here.
URL:https://statelinekids.com/event/piano-man/
LOCATION:Woodstock Opera House\, 121 W. Van Buren.\, Woodstock\, IL\, United States
CATEGORIES:Woodstock
END:VEVENT
END:VCALENDAR