BEGIN:VCALENDAR
VERSION:2.0
PRODID:-//Stateline Kids - ECPv6.5.1.3//NONSGML v1.0//EN
CALSCALE:GREGORIAN
METHOD:PUBLISH
X-ORIGINAL-URL:https://statelinekids.com
X-WR-CALDESC:Events for Stateline Kids
REFRESH-INTERVAL;VALUE=DURATION:PT1H
X-Robots-Tag:noindex
X-PUBLISHED-TTL:PT1H
BEGIN:VTIMEZONE
TZID:America/Chicago
BEGIN:DAYLIGHT
TZOFFSETFROM:-0600
TZOFFSETTO:-0500
TZNAME:CDT
DTSTART:20190310T080000
END:DAYLIGHT
BEGIN:STANDARD
TZOFFSETFROM:-0500
TZOFFSETTO:-0600
TZNAME:CST
DTSTART:20191103T070000
END:STANDARD
BEGIN:DAYLIGHT
TZOFFSETFROM:-0600
TZOFFSETTO:-0500
TZNAME:CDT
DTSTART:20200308T080000
END:DAYLIGHT
BEGIN:STANDARD
TZOFFSETFROM:-0500
TZOFFSETTO:-0600
TZNAME:CST
DTSTART:20201101T070000
END:STANDARD
BEGIN:DAYLIGHT
TZOFFSETFROM:-0600
TZOFFSETTO:-0500
TZNAME:CDT
DTSTART:20210314T080000
END:DAYLIGHT
BEGIN:STANDARD
TZOFFSETFROM:-0500
TZOFFSETTO:-0600
TZNAME:CST
DTSTART:20211107T070000
END:STANDARD
BEGIN:DAYLIGHT
TZOFFSETFROM:-0600
TZOFFSETTO:-0500
TZNAME:CDT
DTSTART:20220313T080000
END:DAYLIGHT
BEGIN:STANDARD
TZOFFSETFROM:-0500
TZOFFSETTO:-0600
TZNAME:CST
DTSTART:20221106T070000
END:STANDARD
END:VTIMEZONE
BEGIN:VEVENT
DTSTART;TZID=America/Chicago:20220423T103000
DTEND;TZID=America/Chicago:20220423T113000
DTSTAMP:20260424T100856
CREATED:20220415T170423Z
LAST-MODIFIED:20220415T170423Z
UID:19778-1650709800-1650713400@statelinekids.com
SUMMARY:Rain Barrel Installation Demonstration
DESCRIPTION:Celebrate Earth Day by learning about how to install a rain barrel.
URL:https://statelinekids.com/event/rain-barrel-installation-demonstration/
LOCATION:Welty Environmental Center\, 1201 Big Hill Ct\, Beloit\, WI\, United States
CATEGORIES:Beloit
END:VEVENT
BEGIN:VEVENT
DTSTART;TZID=America/Chicago:20220409T130000
DTEND;TZID=America/Chicago:20220409T160000
DTSTAMP:20260424T100856
CREATED:20220402T210407Z
LAST-MODIFIED:20220402T210407Z
UID:19622-1649509200-1649520000@statelinekids.com
SUMMARY:Sarah’s Saturdays
DESCRIPTION:Kids can do activities and learn about nature mobiles. No registration is required.
URL:https://statelinekids.com/event/sarahs-saturdays-2/
LOCATION:Welty Environmental Center\, 1201 Big Hill Ct\, Beloit\, WI\, United States
CATEGORIES:Beloit
END:VEVENT
BEGIN:VEVENT
DTSTART;TZID=America/Chicago:20220326T130000
DTEND;TZID=America/Chicago:20220326T160000
DTSTAMP:20260424T100856
CREATED:20220320T181352Z
LAST-MODIFIED:20220320T181352Z
UID:19501-1648299600-1648310400@statelinekids.com
SUMMARY:Sarah’s Saturdays
DESCRIPTION:Kids of all ages can spend time learning about the natural world. This topic for this week is the Water Cycle.
URL:https://statelinekids.com/event/sarahs-saturdays/
LOCATION:Welty Environmental Center\, 1201 Big Hill Ct\, Beloit\, WI\, United States
CATEGORIES:Beloit
END:VEVENT
BEGIN:VEVENT
DTSTART;TZID=America/Chicago:20220318T193000
DTEND;TZID=America/Chicago:20220318T210000
DTSTAMP:20260424T100856
CREATED:20220313T191115Z
LAST-MODIFIED:20220313T191115Z
UID:19366-1647631800-1647637200@statelinekids.com
SUMMARY:Full Moon Hikes
DESCRIPTION:Take a hike beneath the full moon that covers 1-2 miles. Register here. \nCost: $10 per member / $12 per non-member
URL:https://statelinekids.com/event/full-moon-hikes-4/
LOCATION:Welty Environmental Center\, 1201 Big Hill Ct\, Beloit\, WI\, United States
CATEGORIES:Beloit
END:VEVENT
BEGIN:VEVENT
DTSTART;TZID=America/Chicago:20220226T130000
DTEND;TZID=America/Chicago:20220226T160000
DTSTAMP:20260424T100856
CREATED:20220219T224513Z
LAST-MODIFIED:20220219T224513Z
UID:19243-1645880400-1645891200@statelinekids.com
SUMMARY:Sarah’s Saturdays: Snow Art
DESCRIPTION:Kids can do hands-on activities with a snow art\, microscope\, and magnifying glass theme.
URL:https://statelinekids.com/event/sarahs-saturdays-snow-art/
LOCATION:Welty Environmental Center\, 1201 Big Hill Ct\, Beloit\, WI\, United States
CATEGORIES:Beloit
END:VEVENT
BEGIN:VEVENT
DTSTART;TZID=America/Chicago:20220216T193000
DTEND;TZID=America/Chicago:20220216T210000
DTSTAMP:20260424T100856
CREATED:20220213T193100Z
LAST-MODIFIED:20220213T193100Z
UID:19205-1645039800-1645045200@statelinekids.com
SUMMARY:Full Moon Hikes
DESCRIPTION:Take a guided 1-2 mile hike without flashlights after hearing a short Native American story. Register here. \nCost: $10 per member / $12 per non-member
URL:https://statelinekids.com/event/full-moon-hikes-3/
LOCATION:Welty Environmental Center\, 1201 Big Hill Ct\, Beloit\, WI\, United States
CATEGORIES:Beloit
END:VEVENT
BEGIN:VEVENT
DTSTART;TZID=America/Chicago:20211219T193000
DTEND;TZID=America/Chicago:20211219T210000
DTSTAMP:20260424T100856
CREATED:20211212T231039Z
LAST-MODIFIED:20211212T231039Z
UID:18698-1639942200-1639947600@statelinekids.com
SUMMARY:Full Moon Hikes
DESCRIPTION:Enjoy a full moon hike outdoors in nature. Register here. \nCost: $10 per member / $12 per non-members
URL:https://statelinekids.com/event/full-moon-hikes-2/
LOCATION:Welty Environmental Center\, 1201 Big Hill Ct\, Beloit\, WI\, United States
CATEGORIES:Beloit
END:VEVENT
BEGIN:VEVENT
DTSTART;TZID=America/Chicago:20211119T193000
DTEND;TZID=America/Chicago:20211119T210000
DTSTAMP:20260424T100856
CREATED:20211107T163258Z
LAST-MODIFIED:20211107T163258Z
UID:18224-1637350200-1637355600@statelinekids.com
SUMMARY:Full Moon Hikes
DESCRIPTION:Take a 1-2 mile walk by the light of the full moon after hearing a Native American story. Register here. \nCost: $10 members / $15 for non-members
URL:https://statelinekids.com/event/full-moon-hikes/
LOCATION:Welty Environmental Center\, 1201 Big Hill Ct\, Beloit\, WI\, United States
CATEGORIES:Beloit
END:VEVENT
BEGIN:VEVENT
DTSTART;TZID=America/Chicago:20211113T090000
DTEND;TZID=America/Chicago:20211113T103000
DTSTAMP:20260424T100856
CREATED:20211106T190823Z
LAST-MODIFIED:20211106T190823Z
UID:18173-1636794000-1636799400@statelinekids.com
SUMMARY:Gobblers on the Go
DESCRIPTION:Go on a birding hike to look for birds\, learn about migration\, and observe migrations patterns of birds. A kid’s craft will be available to do after the hike. Register here.
URL:https://statelinekids.com/event/gobblers-on-the-go/
LOCATION:Welty Environmental Center\, 1201 Big Hill Ct\, Beloit\, WI\, United States
CATEGORIES:Beloit
END:VEVENT
BEGIN:VEVENT
DTSTART;TZID=America/Chicago:20211023T180000
DTEND;TZID=America/Chicago:20211023T210000
DTSTAMP:20260424T100856
CREATED:20211017T205657Z
LAST-MODIFIED:20211017T205657Z
UID:17862-1635012000-1635022800@statelinekids.com
SUMMARY:Owl Pellet Dissection and Hike
DESCRIPTION:Learn more about the lives of owls\, dissect an owl pellet\, play games\, and take a night hike. Sign up here. \nCost: $10 per member / $12 per non-member
URL:https://statelinekids.com/event/owl-pellet-dissection-and-hike/
LOCATION:Welty Environmental Center\, 1201 Big Hill Ct\, Beloit\, WI\, United States
CATEGORIES:Beloit
END:VEVENT
BEGIN:VEVENT
DTSTART;TZID=America/Chicago:20210921T193000
DTEND;TZID=America/Chicago:20210921T210000
DTSTAMP:20260424T100856
CREATED:20210919T160216Z
LAST-MODIFIED:20210919T160216Z
UID:17409-1632252600-1632258000@statelinekids.com
SUMMARY:Full Moon Hike
DESCRIPTION:Listen to a short Indigenous People story then hike in the forest for 1-2 miles. Register here. \nCost: $10 members / $12 non-members
URL:https://statelinekids.com/event/full-moon-hike-5/
LOCATION:Welty Environmental Center\, 1201 Big Hill Ct\, Beloit\, WI\, United States
CATEGORIES:Beloit
END:VEVENT
BEGIN:VEVENT
DTSTART;TZID=America/Chicago:20210317T153000
DTEND;TZID=America/Chicago:20210317T170000
DTSTAMP:20260424T100856
CREATED:20210314T182325Z
LAST-MODIFIED:20210314T182325Z
UID:15085-1615995000-1616000400@statelinekids.com
SUMMARY:Rainbows and Pots of Gold
DESCRIPTION:Kids ages 3-12 can do experiments to make rainbows\, learn how to dance a jig\, and learn about the Irish people that settled in the Stateline area. Register here. \nCost: $5 for members / $7 for non-members
URL:https://statelinekids.com/event/rainbows-and-pots-of-gold/
LOCATION:Welty Environmental Center\, 1201 Big Hill Ct\, Beloit\, WI\, United States
CATEGORIES:Beloit
END:VEVENT
BEGIN:VEVENT
DTSTART;TZID=America/Chicago:20200902T193000
DTEND;TZID=America/Chicago:20200902T210000
DTSTAMP:20260424T100856
CREATED:20200830T180002Z
LAST-MODIFIED:20200830T180002Z
UID:12768-1599075000-1599080400@statelinekids.com
SUMMARY:Welty Full Moon Hike
DESCRIPTION:Listen to a story about Native American history then take a short 1-2 mile guided hike by moonlight. Register here. \nCost: $10 members / $12 non-members
URL:https://statelinekids.com/event/welty-full-moon-hike/2020-09-02/
LOCATION:Welty Environmental Center\, 1201 Big Hill Ct\, Beloit\, WI\, United States
CATEGORIES:Beloit
END:VEVENT
BEGIN:VEVENT
DTSTART;TZID=America/Chicago:20200315T133000
DTEND;TZID=America/Chicago:20200315T150000
DTSTAMP:20260424T100856
CREATED:20200307T171059Z
LAST-MODIFIED:20200313T194605Z
UID:10107-1584279000-1584284400@statelinekids.com
SUMMARY:CANCELED - Leprechauns\, Rainbows and Gold at Welty Environmental Center
DESCRIPTION:Learn how rainbows are formed\, create rainbows\, and search for leprechauns and gold. Register here or call 608-362-6212. \nCost: $5 per member\, $7 per non-member
URL:https://statelinekids.com/event/leprechauns-rainbows-and-gold-at-welty-environmental-center/
LOCATION:Welty Environmental Center\, 1201 Big Hill Ct\, Beloit\, WI\, United States
CATEGORIES:Beloit
END:VEVENT
BEGIN:VEVENT
DTSTART;TZID=America/Chicago:20200314T100000
DTEND;TZID=America/Chicago:20200314T150000
DTSTAMP:20260424T100856
CREATED:20200307T165127Z
LAST-MODIFIED:20200307T165127Z
UID:10097-1584180000-1584198000@statelinekids.com
SUMMARY:Saturdays with Welty at Welty Environmental Center
DESCRIPTION:Learn how the natural world works and do an activity. Kids must be accompanied by adults.
URL:https://statelinekids.com/event/saturdays-with-welty-at-welty-environmental-center/
LOCATION:Welty Environmental Center\, 1201 Big Hill Ct\, Beloit\, WI\, United States
CATEGORIES:Beloit
END:VEVENT
BEGIN:VEVENT
DTSTART;TZID=America/Chicago:20200307T100000
DTEND;TZID=America/Chicago:20200307T150000
DTSTAMP:20260424T100856
CREATED:20200229T180842Z
LAST-MODIFIED:20200229T180842Z
UID:10014-1583575200-1583593200@statelinekids.com
SUMMARY:Saturdays with Welty
DESCRIPTION:Learn how the natural world works and do an activity. Kids must be accompanied by adults. \nCost: Free\, small donations appreciated
URL:https://statelinekids.com/event/saturdays-with-welty-2/
LOCATION:Welty Environmental Center\, 1201 Big Hill Ct\, Beloit\, WI\, United States
CATEGORIES:Beloit
END:VEVENT
BEGIN:VEVENT
DTSTART;TZID=America/Chicago:20200301T130000
DTEND;TZID=America/Chicago:20200301T150000
DTSTAMP:20260424T100856
CREATED:20200222T174648Z
LAST-MODIFIED:20200222T174648Z
UID:9926-1583067600-1583074800@statelinekids.com
SUMMARY:Gourd Birdhouse Workshop
DESCRIPTION:Design and decorate a birdhouse gourd. Call 608-362-6212 to register. \nCost is $10 members\, $12 for non-members 
URL:https://statelinekids.com/event/gourd-birdhouse-workshop/
LOCATION:Welty Environmental Center\, 1201 Big Hill Ct\, Beloit\, WI\, United States
CATEGORIES:Beloit
END:VEVENT
BEGIN:VEVENT
DTSTART;TZID=America/Chicago:20200229T100000
DTEND;TZID=America/Chicago:20200229T150000
DTSTAMP:20260424T100856
CREATED:20200222T192153Z
LAST-MODIFIED:20200222T192153Z
UID:9943-1582970400-1582988400@statelinekids.com
SUMMARY:Saturdays with Welty
DESCRIPTION:Learn how the natural world works and do an activity. Kids must be accompanied by adults.
URL:https://statelinekids.com/event/saturdays-with-welty/
LOCATION:Welty Environmental Center\, 1201 Big Hill Ct\, Beloit\, WI\, United States
CATEGORIES:Beloit
END:VEVENT
BEGIN:VEVENT
DTSTART;TZID=America/Chicago:20200222T080000
DTEND;TZID=America/Chicago:20200222T120000
DTSTAMP:20260424T100856
CREATED:20200215T203348Z
LAST-MODIFIED:20200215T203348Z
UID:9815-1582358400-1582372800@statelinekids.com
SUMMARY:Maple Sugar Fest
DESCRIPTION:Enjoy a morning of maple sugar activities including tree tapping\, sap boiling demos\, drum circle\, crafts\, hikes and a pancake breakfast. Get tickets here. \nCost is $8 per adult\, $3 per kid (2-12 years old)\, kids 2 and under are free
URL:https://statelinekids.com/event/maple-sugar-fest-2/
LOCATION:Welty Environmental Center\, 1201 Big Hill Ct\, Beloit\, WI\, United States
CATEGORIES:Beloit
END:VEVENT
BEGIN:VEVENT
DTSTART;TZID=America/Chicago:20200216T140000
DTEND;TZID=America/Chicago:20200216T153000
DTSTAMP:20260424T100856
CREATED:20200208T225835Z
LAST-MODIFIED:20200208T225835Z
UID:9745-1581861600-1581867000@statelinekids.com
SUMMARY:Watch Your Step at Welty Environmental Center
DESCRIPTION:Identify animal tracks and become wildlife detectives. Dress for the weather. Register here. \nCost is $5 donation at the door
URL:https://statelinekids.com/event/watch-your-step-at-welty-environmental-center/
LOCATION:Welty Environmental Center\, 1201 Big Hill Ct\, Beloit\, WI\, United States
CATEGORIES:Beloit
END:VEVENT
BEGIN:VEVENT
DTSTART;TZID=America/Chicago:20200202T133000
DTEND;TZID=America/Chicago:20200202T153000
DTSTAMP:20260424T100856
CREATED:20200125T212709Z
LAST-MODIFIED:20200125T212709Z
UID:9574-1580650200-1580657400@statelinekids.com
SUMMARY:Candle Dipping at Welty
DESCRIPTION:Enjoy a hot cocoa and make your own candle. Register here. \nCost: $7 per non-members\, $5 per FWEC members
URL:https://statelinekids.com/event/candle-dipping-at-welty/
LOCATION:Welty Environmental Center\, 1201 Big Hill Ct\, Beloit\, WI\, United States
CATEGORIES:Beloit
END:VEVENT
BEGIN:VEVENT
DTSTART;TZID=America/Chicago:20200112T130000
DTEND;TZID=America/Chicago:20200112T150000
DTSTAMP:20260424T100856
CREATED:20200104T183715Z
LAST-MODIFIED:20200104T183715Z
UID:9332-1578834000-1578841200@statelinekids.com
SUMMARY:Shoebox Kitchen Waste Composting
DESCRIPTION:Learn how to turn a shoebox into a compost machine. You need to bring a shoebox\, two plastic hopping bags\, fruit and vegetable scraps\, and 2-3 washed eggshells. Register here. \nCost is $5 per participant
URL:https://statelinekids.com/event/shoebox-kitchen-waste-composting/
LOCATION:Welty Environmental Center\, 1201 Big Hill Ct\, Beloit\, WI\, United States
CATEGORIES:Beloit
END:VEVENT
BEGIN:VEVENT
DTSTART;TZID=America/Chicago:20200105T140000
DTEND;TZID=America/Chicago:20200105T153000
DTSTAMP:20260424T100856
CREATED:20191228T202137Z
LAST-MODIFIED:20191228T202137Z
UID:9195-1578232800-1578238200@statelinekids.com
SUMMARY:Happy National Bird Day
DESCRIPTION:Celebrate National Bird Day with birdwatching\, bird activities\, and a guided hike with binoculars. Register here. \nCost is $5 for members\, $7 for non-members
URL:https://statelinekids.com/event/happy-national-bird-day/
LOCATION:Welty Environmental Center\, 1201 Big Hill Ct\, Beloit\, WI\, United States
CATEGORIES:Beloit
END:VEVENT
BEGIN:VEVENT
DTSTART;TZID=America/Chicago:20191112T193000
DTEND;TZID=America/Chicago:20191112T210000
DTSTAMP:20260424T100856
CREATED:20191110T213804Z
LAST-MODIFIED:20191110T213804Z
UID:8514-1573587000-1573592400@statelinekids.com
SUMMARY:November Full Moon Hike
DESCRIPTION:Take a moon-lit hike in the forest and observe creatures silently. A flashlight is recommended. \nCost is $5 members\, $7 non-members
URL:https://statelinekids.com/event/november-full-moon-hike/
LOCATION:Welty Environmental Center\, 1201 Big Hill Ct\, Beloit\, WI\, United States
CATEGORIES:Beloit
END:VEVENT
BEGIN:VEVENT
DTSTART;TZID=America/Chicago:20191013T193000
DTEND;TZID=America/Chicago:20191013T210000
DTSTAMP:20260424T100856
CREATED:20191005T200302Z
LAST-MODIFIED:20191005T200302Z
UID:7847-1570995000-1571000400@statelinekids.com
SUMMARY:Full Moon Hike
DESCRIPTION:Walk in a spooky moonlit forest. A flashlight is recommended. Register here. \nCost: $5 members / $7 for nonmbers
URL:https://statelinekids.com/event/full-moon-hike/
LOCATION:Welty Environmental Center\, 1201 Big Hill Ct\, Beloit\, WI\, United States
CATEGORIES:Beloit
END:VEVENT
BEGIN:VEVENT
DTSTART;TZID=America/Chicago:20190806T140000
DTEND;TZID=America/Chicago:20190806T170000
DTSTAMP:20260424T100856
CREATED:20190804T205559Z
LAST-MODIFIED:20190804T205559Z
UID:6886-1565100000-1565110800@statelinekids.com
SUMMARY:Glorious Goldenrod
DESCRIPTION:Learn about goldenrod in Big Hill park. Take a nature walk and open a few galls. Register here. 
URL:https://statelinekids.com/event/glorious-goldenrod/
LOCATION:Welty Environmental Center\, 1201 Big Hill Ct\, Beloit\, WI\, United States
CATEGORIES:Beloit
END:VEVENT
BEGIN:VEVENT
DTSTART;TZID=America/Chicago:20190723T150000
DTEND;TZID=America/Chicago:20190723T163000
DTSTAMP:20260424T100856
CREATED:20190720T215254Z
LAST-MODIFIED:20190723T141039Z
UID:6689-1563894000-1563899400@statelinekids.com
SUMMARY:CANCELLED - Fish Lips and Casting Tips
DESCRIPTION:Learn how fish are able to survive\, take a fishing lesson and catch some fish. Fishing poles and bait will be provided. Register here. \nCost: $5 suggested donation
URL:https://statelinekids.com/event/fish-lips-and-casting-tips-2/
LOCATION:Welty Environmental Center\, 1201 Big Hill Ct\, Beloit\, WI\, United States
CATEGORIES:Beloit
END:VEVENT
BEGIN:VEVENT
DTSTART;TZID=America/Chicago:20190709T150000
DTEND;TZID=America/Chicago:20190709T163000
DTSTAMP:20260424T100856
CREATED:20190707T172402Z
LAST-MODIFIED:20190707T172402Z
UID:6421-1562684400-1562689800@statelinekids.com
SUMMARY:Outdoor Bug Hunt
DESCRIPTION:Look for bugs with nets\, shovels and more then identify them. Register here. \nCost: $5 suggested donation
URL:https://statelinekids.com/event/outdoor-bug-hunt/
LOCATION:Welty Environmental Center\, 1201 Big Hill Ct\, Beloit\, WI\, United States
CATEGORIES:Beloit
END:VEVENT
BEGIN:VEVENT
DTSTART;TZID=America/Chicago:20190702T193000
DTEND;TZID=America/Chicago:20190702T210000
DTSTAMP:20260424T100856
CREATED:20190630T204738Z
LAST-MODIFIED:20190630T204738Z
UID:6322-1562095800-1562101200@statelinekids.com
SUMMARY:Welty Kids: Fireflies
DESCRIPTION:Learn about fireflies and then try to catch and observe a few on a nature hike. Register here. \nCost: $5 per kid suggested donation
URL:https://statelinekids.com/event/welty-kids-fireflies/
LOCATION:Welty Environmental Center\, 1201 Big Hill Ct\, Beloit\, WI\, United States
CATEGORIES:Beloit
END:VEVENT
BEGIN:VEVENT
DTSTART;TZID=America/Chicago:20190618T150000
DTEND;TZID=America/Chicago:20190618T163000
DTSTAMP:20260424T100856
CREATED:20190616T234017Z
LAST-MODIFIED:20190616T234017Z
UID:6055-1560870000-1560875400@statelinekids.com
SUMMARY:Speak Bird
DESCRIPTION:Listen for bird song and learn how to use binoculars. Sign up here. \nCost: $5 suggested donation
URL:https://statelinekids.com/event/speak-bird-2/
LOCATION:Welty Environmental Center\, 1201 Big Hill Ct\, Beloit\, WI\, United States
CATEGORIES:Beloit
END:VEVENT
END:VCALENDAR