BEGIN:VCALENDAR
VERSION:2.0
PRODID:-//Stateline Kids - ECPv6.5.1.3//NONSGML v1.0//EN
CALSCALE:GREGORIAN
METHOD:PUBLISH
X-ORIGINAL-URL:https://statelinekids.com
X-WR-CALDESC:Events for Stateline Kids
REFRESH-INTERVAL;VALUE=DURATION:PT1H
X-Robots-Tag:noindex
X-PUBLISHED-TTL:PT1H
BEGIN:VTIMEZONE
TZID:America/Chicago
BEGIN:DAYLIGHT
TZOFFSETFROM:-0600
TZOFFSETTO:-0500
TZNAME:CDT
DTSTART:20210314T080000
END:DAYLIGHT
BEGIN:STANDARD
TZOFFSETFROM:-0500
TZOFFSETTO:-0600
TZNAME:CST
DTSTART:20211107T070000
END:STANDARD
BEGIN:DAYLIGHT
TZOFFSETFROM:-0600
TZOFFSETTO:-0500
TZNAME:CDT
DTSTART:20220313T080000
END:DAYLIGHT
BEGIN:STANDARD
TZOFFSETFROM:-0500
TZOFFSETTO:-0600
TZNAME:CST
DTSTART:20221106T070000
END:STANDARD
BEGIN:DAYLIGHT
TZOFFSETFROM:-0600
TZOFFSETTO:-0500
TZNAME:CDT
DTSTART:20230312T080000
END:DAYLIGHT
BEGIN:STANDARD
TZOFFSETFROM:-0500
TZOFFSETTO:-0600
TZNAME:CST
DTSTART:20231105T070000
END:STANDARD
BEGIN:DAYLIGHT
TZOFFSETFROM:-0600
TZOFFSETTO:-0500
TZNAME:CDT
DTSTART:20240310T080000
END:DAYLIGHT
BEGIN:STANDARD
TZOFFSETFROM:-0500
TZOFFSETTO:-0600
TZNAME:CST
DTSTART:20241103T070000
END:STANDARD
BEGIN:DAYLIGHT
TZOFFSETFROM:-0600
TZOFFSETTO:-0500
TZNAME:CDT
DTSTART:20250309T080000
END:DAYLIGHT
BEGIN:STANDARD
TZOFFSETFROM:-0500
TZOFFSETTO:-0600
TZNAME:CST
DTSTART:20251102T070000
END:STANDARD
END:VTIMEZONE
BEGIN:VEVENT
DTSTART;TZID=America/Chicago:20250405T100000
DTEND;TZID=America/Chicago:20250405T140000
DTSTAMP:20260422T054001
CREATED:20250329T200156Z
LAST-MODIFIED:20250329T200156Z
UID:40024-1743847200-1743861600@statelinekids.com
SUMMARY:Janesville Winter Farmers Market
DESCRIPTION:Shop indoors from local vendors.
URL:https://statelinekids.com/event/janesville-winter-farmers-market-15/
LOCATION:Uptown Janesville\, 2500 Milton Ave.\, Janesville\, WI\, United States
CATEGORIES:Janesville
END:VEVENT
BEGIN:VEVENT
DTSTART;TZID=America/Chicago:20250201T100000
DTEND;TZID=America/Chicago:20250201T140000
DTSTAMP:20260422T054001
CREATED:20250126T184955Z
LAST-MODIFIED:20250126T184955Z
UID:39439-1738404000-1738418400@statelinekids.com
SUMMARY:Janesville Winter Farmers Market
DESCRIPTION:Shop from local vendors indoors.
URL:https://statelinekids.com/event/janesville-winter-farmers-market-14/
LOCATION:Uptown Janesville\, 2500 Milton Ave.\, Janesville\, WI\, United States
CATEGORIES:Janesville
END:VEVENT
BEGIN:VEVENT
DTSTART;TZID=America/Chicago:20250111T100000
DTEND;TZID=America/Chicago:20250111T140000
DTSTAMP:20260422T054001
CREATED:20250102T030325Z
LAST-MODIFIED:20250102T030325Z
UID:39175-1736589600-1736604000@statelinekids.com
SUMMARY:Janesville Winter Farmers Market
DESCRIPTION:Shop from local vendors indoors.
URL:https://statelinekids.com/event/janesville-winter-farmers-market-13/
LOCATION:Uptown Janesville\, 2500 Milton Ave.\, Janesville\, WI\, United States
CATEGORIES:Janesville
END:VEVENT
BEGIN:VEVENT
DTSTART;VALUE=DATE:20241129
DTEND;VALUE=DATE:20241225
DTSTAMP:20260422T054001
CREATED:20241123T192256Z
LAST-MODIFIED:20241123T192256Z
UID:38718-1732838400-1735084799@statelinekids.com
SUMMARY:Santa at Uptown Janesville
DESCRIPTION:Stop by Uptown Janesville and meet with Santa. Reserve your spot here.
URL:https://statelinekids.com/event/santa-at-uptown-janesville/
LOCATION:Uptown Janesville\, 2500 Milton Ave.\, Janesville\, WI\, United States
CATEGORIES:Janesville
END:VEVENT
BEGIN:VEVENT
DTSTART;TZID=America/Chicago:20241123T100000
DTEND;TZID=America/Chicago:20241123T140000
DTSTAMP:20260422T054001
CREATED:20241118T005514Z
LAST-MODIFIED:20241118T005514Z
UID:38669-1732356000-1732370400@statelinekids.com
SUMMARY:Janesville Winter Farmers Market
DESCRIPTION:Shop from local vendors selling homemade items and more.
URL:https://statelinekids.com/event/janesville-winter-farmers-market-12/
LOCATION:Uptown Janesville\, 2500 Milton Ave.\, Janesville\, WI\, United States
CATEGORIES:Janesville
END:VEVENT
BEGIN:VEVENT
DTSTART;TZID=America/Chicago:20241109T100000
DTEND;TZID=America/Chicago:20241109T140000
DTSTAMP:20260422T054001
CREATED:20241102T220324Z
LAST-MODIFIED:20241102T220324Z
UID:38515-1731146400-1731160800@statelinekids.com
SUMMARY:Janesville Winter Farmers Market
DESCRIPTION:Shop from local vendors and farmers indoors.
URL:https://statelinekids.com/event/janesville-winter-farmers-market-11/
LOCATION:Uptown Janesville\, 2500 Milton Ave.\, Janesville\, WI\, United States
CATEGORIES:Janesville
END:VEVENT
BEGIN:VEVENT
DTSTART;TZID=America/Chicago:20240708T110000
DTEND;TZID=America/Chicago:20240708T120000
DTSTAMP:20260422T054001
CREATED:20240706T181806Z
LAST-MODIFIED:20240706T181806Z
UID:36617-1720436400-1720440000@statelinekids.com
SUMMARY:TNZ Magic Show
DESCRIPTION:Watch a magic show performance from Zack Percell of TNZ Magic.
URL:https://statelinekids.com/event/tnz-magic-show/
LOCATION:Uptown Janesville\, 2500 Milton Ave.\, Janesville\, WI\, United States
CATEGORIES:Janesville
END:VEVENT
BEGIN:VEVENT
DTSTART;TZID=America/Chicago:20240617T110000
DTEND;TZID=America/Chicago:20240617T120000
DTSTAMP:20260422T054001
CREATED:20240616T162103Z
LAST-MODIFIED:20240616T162103Z
UID:35636-1718622000-1718625600@statelinekids.com
SUMMARY:Mad Science: Up\, Up and Away
DESCRIPTION:Watch a dry cleaning bag become a hot air balloon in the Center Court at Uptown Janesville.
URL:https://statelinekids.com/event/mad-science-up-up-and-away/
LOCATION:Uptown Janesville\, 2500 Milton Ave.\, Janesville\, WI\, United States
CATEGORIES:Janesville
END:VEVENT
BEGIN:VEVENT
DTSTART;TZID=America/Chicago:20240406T100000
DTEND;TZID=America/Chicago:20240406T140000
DTSTAMP:20260422T054001
CREATED:20240331T174110Z
LAST-MODIFIED:20240331T174110Z
UID:34163-1712397600-1712412000@statelinekids.com
SUMMARY:Janesville Winter Farmers Market
DESCRIPTION:Shop from local vendors at the last winter market of the year.
URL:https://statelinekids.com/event/janesville-winter-farmers-market-10/
LOCATION:Uptown Janesville\, 2500 Milton Ave.\, Janesville\, WI\, United States
CATEGORIES:Janesville
END:VEVENT
BEGIN:VEVENT
DTSTART;TZID=America/Chicago:20240203T100000
DTEND;TZID=America/Chicago:20240203T140000
DTSTAMP:20260422T054001
CREATED:20240128T213221Z
LAST-MODIFIED:20240128T213221Z
UID:33208-1706954400-1706968800@statelinekids.com
SUMMARY:Janesville Winter Farmers Market
DESCRIPTION:Shop from local vendors.
URL:https://statelinekids.com/event/janesville-winter-farmers-market-8/
LOCATION:Uptown Janesville\, 2500 Milton Ave.\, Janesville\, WI\, United States
CATEGORIES:Janesville
END:VEVENT
BEGIN:VEVENT
DTSTART;TZID=America/Chicago:20211126T100000
DTEND;TZID=America/Chicago:20211126T190000
DTSTAMP:20260422T054001
CREATED:20211106T204309Z
LAST-MODIFIED:20211106T204904Z
UID:18207-1637920800-1637953200@statelinekids.com
SUMMARY:Holiday Market
DESCRIPTION:Shop from vendors and crafters set up throughout the main aisles of the mall.
URL:https://statelinekids.com/event/holiday-market/2021-11-26/
LOCATION:Uptown Janesville\, 2500 Milton Ave.\, Janesville\, WI\, United States
CATEGORIES:Janesville
END:VEVENT
END:VCALENDAR