BEGIN:VCALENDAR
VERSION:2.0
PRODID:-//Stateline Kids - ECPv6.5.1.3//NONSGML v1.0//EN
CALSCALE:GREGORIAN
METHOD:PUBLISH
X-ORIGINAL-URL:https://statelinekids.com
X-WR-CALDESC:Events for Stateline Kids
REFRESH-INTERVAL;VALUE=DURATION:PT1H
X-Robots-Tag:noindex
X-PUBLISHED-TTL:PT1H
BEGIN:VTIMEZONE
TZID:America/Chicago
BEGIN:DAYLIGHT
TZOFFSETFROM:-0600
TZOFFSETTO:-0500
TZNAME:CDT
DTSTART:20180311T080000
END:DAYLIGHT
BEGIN:STANDARD
TZOFFSETFROM:-0500
TZOFFSETTO:-0600
TZNAME:CST
DTSTART:20181104T070000
END:STANDARD
BEGIN:DAYLIGHT
TZOFFSETFROM:-0600
TZOFFSETTO:-0500
TZNAME:CDT
DTSTART:20190310T080000
END:DAYLIGHT
BEGIN:STANDARD
TZOFFSETFROM:-0500
TZOFFSETTO:-0600
TZNAME:CST
DTSTART:20191103T070000
END:STANDARD
END:VTIMEZONE
BEGIN:VEVENT
DTSTART;TZID=America/Chicago:20190803T090000
DTEND;TZID=America/Chicago:20190803T120000
DTSTAMP:20260423T135329
CREATED:20190728T201550Z
LAST-MODIFIED:20190728T201550Z
UID:6782-1564822800-1564833600@statelinekids.com
SUMMARY:Summer Celebration: Free Family Fair
DESCRIPTION:  \nEnjoy a free breakfast from Chick-fil-A\, diaper and clothes giveaways\, photo sessions\, massages\, kids’ haircuts\, face painting\, crafts\, car seat safety checks and more.
URL:https://statelinekids.com/event/summer-celebration-free-family-fair/
LOCATION:The Pregnancy Care Center of Rockford\, 4108 Morsay Drive\, Rockford\, IL\, United States
CATEGORIES:Rockford
END:VEVENT
BEGIN:VEVENT
DTSTART;TZID=America/Chicago:20180728T090000
DTEND;TZID=America/Chicago:20180728T110000
DTSTAMP:20260423T135329
CREATED:20180723T033744Z
LAST-MODIFIED:20180723T033744Z
UID:1259-1532768400-1532775600@statelinekids.com
SUMMARY:Summer Celebration: A Free Event Serving Moms of Young Children
DESCRIPTION:Join us for FREE breakfast | diaper\, baby clothes and giveaways | professional photo session for you and/or your baby | chair massages | hair cuts & styles | facials | chiropractic | healthy recipes | take home craft for moms & kids | balloon animals | car seat safety checks | much much more!
URL:https://statelinekids.com/event/summer-celebration-a-free-event-serving-moms-of-young-children/
LOCATION:The Pregnancy Care Center of Rockford\, 4108 Morsay Drive\, Rockford\, IL\, United States
CATEGORIES:Rockford
END:VEVENT
END:VCALENDAR