BEGIN:VCALENDAR
VERSION:2.0
PRODID:-//Stateline Kids - ECPv6.5.1.3//NONSGML v1.0//EN
CALSCALE:GREGORIAN
METHOD:PUBLISH
X-WR-CALNAME:Stateline Kids
X-ORIGINAL-URL:https://statelinekids.com
X-WR-CALDESC:Events for Stateline Kids
REFRESH-INTERVAL;VALUE=DURATION:PT1H
X-Robots-Tag:noindex
X-PUBLISHED-TTL:PT1H
BEGIN:VTIMEZONE
TZID:America/Chicago
BEGIN:DAYLIGHT
TZOFFSETFROM:-0600
TZOFFSETTO:-0500
TZNAME:CDT
DTSTART:20230312T080000
END:DAYLIGHT
BEGIN:STANDARD
TZOFFSETFROM:-0500
TZOFFSETTO:-0600
TZNAME:CST
DTSTART:20231105T070000
END:STANDARD
END:VTIMEZONE
BEGIN:VEVENT
DTSTART;TZID=America/Chicago:20231021T130000
DTEND;TZID=America/Chicago:20231021T160000
DTSTAMP:20260422T033307
CREATED:20231013T175238Z
LAST-MODIFIED:20231013T175238Z
UID:31359-1697893200-1697904000@statelinekids.com
SUMMARY:Grove Fall Fest
DESCRIPTION:Enjoy a day of family fun with 15 kids games\, two inflatables\, obstacle course\, live music\, and a food truck.
URL:https://statelinekids.com/event/grove-fall-fest/
LOCATION:The Grove Fellowship\, 4210 Countryside Estates Dr.\, Poplar Grove\, IL\, United States
CATEGORIES:Poplar Grove
END:VEVENT
END:VCALENDAR