BEGIN:VCALENDAR
VERSION:2.0
PRODID:-//Stateline Kids - ECPv6.5.1.3//NONSGML v1.0//EN
CALSCALE:GREGORIAN
METHOD:PUBLISH
X-WR-CALNAME:Stateline Kids
X-ORIGINAL-URL:https://statelinekids.com
X-WR-CALDESC:Events for Stateline Kids
REFRESH-INTERVAL;VALUE=DURATION:PT1H
X-Robots-Tag:noindex
X-PUBLISHED-TTL:PT1H
BEGIN:VTIMEZONE
TZID:America/Chicago
BEGIN:DAYLIGHT
TZOFFSETFROM:-0600
TZOFFSETTO:-0500
TZNAME:CDT
DTSTART:20210314T080000
END:DAYLIGHT
BEGIN:STANDARD
TZOFFSETFROM:-0500
TZOFFSETTO:-0600
TZNAME:CST
DTSTART:20211107T070000
END:STANDARD
BEGIN:DAYLIGHT
TZOFFSETFROM:-0600
TZOFFSETTO:-0500
TZNAME:CDT
DTSTART:20220313T080000
END:DAYLIGHT
BEGIN:STANDARD
TZOFFSETFROM:-0500
TZOFFSETTO:-0600
TZNAME:CST
DTSTART:20221106T070000
END:STANDARD
END:VTIMEZONE
BEGIN:VEVENT
DTSTART;TZID=America/Chicago:20221210T110000
DTEND;TZID=America/Chicago:20221210T150000
DTSTAMP:20260424T082306
CREATED:20221204T163753Z
LAST-MODIFIED:20221204T163753Z
UID:25212-1670670000-1670684400@statelinekids.com
SUMMARY:Santa is Coming to the 3R’s
DESCRIPTION:Get your picture taken with Santa and do some shopping. Cost: $10 per picture or $20 for three pictures.
URL:https://statelinekids.com/event/santa-is-coming-to-the-3rs/
LOCATION:The 3R’s Learning Center\, 5388 Williams Dr.\, Roscoe\, IL\, United States
CATEGORIES:Roscoe
END:VEVENT
BEGIN:VEVENT
DTSTART;TZID=America/Chicago:20211204T110000
DTEND;TZID=America/Chicago:20211204T150000
DTSTAMP:20260424T082306
CREATED:20211128T191232Z
LAST-MODIFIED:20211128T191232Z
UID:18380-1638615600-1638630000@statelinekids.com
SUMMARY:Santa Visit at 3R's
DESCRIPTION:The first 100 families will receive a free photo and toy for each child. No personal photography is allowed.
URL:https://statelinekids.com/event/santa-visit-at-3rs/
LOCATION:The 3R’s Learning Center\, 5388 Williams Dr.\, Roscoe\, IL\, United States
CATEGORIES:Roscoe
END:VEVENT
END:VCALENDAR