BEGIN:VCALENDAR
VERSION:2.0
PRODID:-//Stateline Kids - ECPv6.5.1.3//NONSGML v1.0//EN
CALSCALE:GREGORIAN
METHOD:PUBLISH
X-ORIGINAL-URL:https://statelinekids.com
X-WR-CALDESC:Events for Stateline Kids
REFRESH-INTERVAL;VALUE=DURATION:PT1H
X-Robots-Tag:noindex
X-PUBLISHED-TTL:PT1H
BEGIN:VTIMEZONE
TZID:America/Chicago
BEGIN:DAYLIGHT
TZOFFSETFROM:-0600
TZOFFSETTO:-0500
TZNAME:CDT
DTSTART:20220313T080000
END:DAYLIGHT
BEGIN:STANDARD
TZOFFSETFROM:-0500
TZOFFSETTO:-0600
TZNAME:CST
DTSTART:20221106T070000
END:STANDARD
BEGIN:DAYLIGHT
TZOFFSETFROM:-0600
TZOFFSETTO:-0500
TZNAME:CDT
DTSTART:20230312T080000
END:DAYLIGHT
BEGIN:STANDARD
TZOFFSETFROM:-0500
TZOFFSETTO:-0600
TZNAME:CST
DTSTART:20231105T070000
END:STANDARD
END:VTIMEZONE
BEGIN:VEVENT
DTSTART;TZID=America/Chicago:20231104T120000
DTEND;TZID=America/Chicago:20231104T160000
DTSTAMP:20260422T204044
CREATED:20231027T162915Z
LAST-MODIFIED:20231027T162915Z
UID:31623-1699099200-1699113600@statelinekids.com
SUMMARY:Winter Open House (Shopping)
DESCRIPTION:Shop from new winter and holiday inventory\, enjoy snacks and cocoa\, and a kid’s activity table.
URL:https://statelinekids.com/event/winter-open-house-shopping/
LOCATION:Synergy Collective\, 11361 Main St.\, Roscoe\, IL\, United States
CATEGORIES:Roscoe
END:VEVENT
BEGIN:VEVENT
DTSTART;TZID=America/Chicago:20231014T150000
DTEND;TZID=America/Chicago:20231014T210000
DTSTAMP:20260422T204044
CREATED:20231007T204858Z
LAST-MODIFIED:20231007T204858Z
UID:31188-1697295600-1697317200@statelinekids.com
SUMMARY:The Mystic Market
DESCRIPTION:Shop from 30+ local vendors\, readers\, healers\, live music and The Iron Salamander food truck.
URL:https://statelinekids.com/event/the-mystic-market/
LOCATION:Synergy Collective\, 11361 Main St.\, Roscoe\, IL\, United States
CATEGORIES:Roscoe
END:VEVENT
BEGIN:VEVENT
DTSTART;TZID=America/Chicago:20221001T150000
DTEND;TZID=America/Chicago:20221001T210000
DTSTAMP:20260422T204044
CREATED:20220924T211606Z
LAST-MODIFIED:20220924T211606Z
UID:23865-1664636400-1664658000@statelinekids.com
SUMMARY:Mystic Market
DESCRIPTION:Enjoy shopping from 20+ local vendors including makers\, healers\, readings\, and more\, live music\, The Nenas food truck\, and more.
URL:https://statelinekids.com/event/mystic-market-2/
LOCATION:Synergy Collective\, 11361 Main St.\, Roscoe\, IL\, United States
CATEGORIES:Roscoe
END:VEVENT
BEGIN:VEVENT
DTSTART;TZID=America/Chicago:20220810T183000
DTEND;TZID=America/Chicago:20220810T193000
DTSTAMP:20260422T204044
CREATED:20220807T192932Z
LAST-MODIFIED:20220807T192932Z
UID:22883-1660156200-1660159800@statelinekids.com
SUMMARY:Alt Yoga 90s Edition
DESCRIPTION:Enjoy an evening of Alt yoga focused on 90s music. Wear your 90s fashion. Get tickets here.
URL:https://statelinekids.com/event/alt-yoga-90s-edition/
LOCATION:Synergy Collective\, 11361 Main St.\, Roscoe\, IL\, United States
CATEGORIES:Roscoe
END:VEVENT
BEGIN:VEVENT
DTSTART;TZID=America/Chicago:20220626T110000
DTEND;TZID=America/Chicago:20220626T160000
DTSTAMP:20260422T204044
CREATED:20220618T221049Z
LAST-MODIFIED:20220618T221049Z
UID:21237-1656241200-1656259200@statelinekids.com
SUMMARY:Midtown Market
DESCRIPTION:Shop from 10 local vendors inside Synergy Collective and in the parking lot.
URL:https://statelinekids.com/event/midtown-market/
LOCATION:Synergy Collective\, 11361 Main St.\, Roscoe\, IL\, United States
CATEGORIES:Roscoe
END:VEVENT
BEGIN:VEVENT
DTSTART;TZID=America/Chicago:20220515T163000
DTEND;TZID=America/Chicago:20220515T173000
DTSTAMP:20260422T204044
CREATED:20220507T164701Z
LAST-MODIFIED:20220507T164701Z
UID:20132-1652632200-1652635800@statelinekids.com
SUMMARY:South Bath Meditation
DESCRIPTION:Bring a friend\, or have some self-care time\, at a sound bath meditation. Get tickets here. \nCost: $25 per person
URL:https://statelinekids.com/event/south-bath-meditation/
LOCATION:Synergy Collective\, 11361 Main St.\, Roscoe\, IL\, United States
CATEGORIES:Roscoe
END:VEVENT
BEGIN:VEVENT
DTSTART;TZID=America/Chicago:20220423T140000
DTEND;TZID=America/Chicago:20220423T153000
DTSTAMP:20260422T204044
CREATED:20220415T160822Z
LAST-MODIFIED:20220415T160822Z
UID:19762-1650722400-1650727800@statelinekids.com
SUMMARY:Intro to Printmaking with Follysome Prints
DESCRIPTION:Learn how to block print on fabric. You’ll leave with a hand-printed tea towel. Get tickets here. 
URL:https://statelinekids.com/event/intro-to-printmaking-with-follysome-prints/
LOCATION:Synergy Collective\, 11361 Main St.\, Roscoe\, IL\, United States
CATEGORIES:Roscoe
END:VEVENT
END:VCALENDAR