BEGIN:VCALENDAR
VERSION:2.0
PRODID:-//Stateline Kids - ECPv6.5.1.3//NONSGML v1.0//EN
CALSCALE:GREGORIAN
METHOD:PUBLISH
X-WR-CALNAME:Stateline Kids
X-ORIGINAL-URL:https://statelinekids.com
X-WR-CALDESC:Events for Stateline Kids
REFRESH-INTERVAL;VALUE=DURATION:PT1H
X-Robots-Tag:noindex
X-PUBLISHED-TTL:PT1H
BEGIN:VTIMEZONE
TZID:America/Chicago
BEGIN:DAYLIGHT
TZOFFSETFROM:-0600
TZOFFSETTO:-0500
TZNAME:CDT
DTSTART:20180311T080000
END:DAYLIGHT
BEGIN:STANDARD
TZOFFSETFROM:-0500
TZOFFSETTO:-0600
TZNAME:CST
DTSTART:20181104T070000
END:STANDARD
BEGIN:DAYLIGHT
TZOFFSETFROM:-0600
TZOFFSETTO:-0500
TZNAME:CDT
DTSTART:20190310T080000
END:DAYLIGHT
BEGIN:STANDARD
TZOFFSETFROM:-0500
TZOFFSETTO:-0600
TZNAME:CST
DTSTART:20191103T070000
END:STANDARD
BEGIN:DAYLIGHT
TZOFFSETFROM:-0600
TZOFFSETTO:-0500
TZNAME:CDT
DTSTART:20200308T080000
END:DAYLIGHT
BEGIN:STANDARD
TZOFFSETFROM:-0500
TZOFFSETTO:-0600
TZNAME:CST
DTSTART:20201101T070000
END:STANDARD
BEGIN:DAYLIGHT
TZOFFSETFROM:-0600
TZOFFSETTO:-0500
TZNAME:CDT
DTSTART:20210314T080000
END:DAYLIGHT
BEGIN:STANDARD
TZOFFSETFROM:-0500
TZOFFSETTO:-0600
TZNAME:CST
DTSTART:20211107T070000
END:STANDARD
END:VTIMEZONE
BEGIN:VEVENT
DTSTART;TZID=America/Chicago:20211211T173000
DTEND;TZID=America/Chicago:20211211T213000
DTSTAMP:20260420T073721
CREATED:20211205T213722Z
LAST-MODIFIED:20211205T213722Z
UID:18502-1639243800-1639258200@statelinekids.com
SUMMARY:Parent’s Night Out - Reindeer Games
DESCRIPTION:Drop the kids off for a parent’s night out for kids 3-12. Kids will swim\, do themed activities\, watch a movie\, and have a snack. Register here. \nCost: $25 for members / $35 for non-members / $5 for each additional family member
URL:https://statelinekids.com/event/parents-night-out-reindeer-games/
LOCATION:Stateline Family YMCA\, 501 Third Street\, Beloit\, WI\, United States
CATEGORIES:Beloit
END:VEVENT
BEGIN:VEVENT
DTSTART;TZID=America/Chicago:20211110T180000
DTEND;TZID=America/Chicago:20211110T190000
DTSTAMP:20260420T073721
CREATED:20211106T190502Z
LAST-MODIFIED:20211106T190502Z
UID:18171-1636567200-1636570800@statelinekids.com
SUMMARY:Kids’ Cooking Class
DESCRIPTION:Kids ages 6-12 can learn how to cook a healthy recipe. Get tickets here. \nCost: $15 for members / $30 for non-members
URL:https://statelinekids.com/event/kids-cooking-class-3/
LOCATION:Stateline Family YMCA\, 501 Third Street\, Beloit\, WI\, United States
CATEGORIES:Beloit
END:VEVENT
BEGIN:VEVENT
DTSTART;TZID=America/Chicago:20211030T090000
DTEND;TZID=America/Chicago:20211030T120000
DTSTAMP:20260420T073721
CREATED:20211023T180108Z
LAST-MODIFIED:20211023T180108Z
UID:17934-1635584400-1635595200@statelinekids.com
SUMMARY:Halloween Parking Lot Party
DESCRIPTION:Wear your costumes\, win prizes\, dance\, and get your picture taken for $5 from Sunshine Photography.
URL:https://statelinekids.com/event/halloween-parking-lot-party/
LOCATION:Stateline Family YMCA\, 501 Third Street\, Beloit\, WI\, United States
CATEGORIES:Beloit
END:VEVENT
BEGIN:VEVENT
DTSTART;TZID=America/Chicago:20200314T093000
DTEND;TZID=America/Chicago:20200314T123000
DTSTAMP:20260420T073721
CREATED:20200307T183729Z
LAST-MODIFIED:20200314T040943Z
UID:10140-1584178200-1584189000@statelinekids.com
SUMMARY:CANCELED: Stateline Strong Kids Triathlon
DESCRIPTION:Kids ages 7-12 can compete in a youth triathlon of swimming\, biking\, and running and recieve a t-shirt. Register here by March 8th. \nCost is $20 per child
URL:https://statelinekids.com/event/stateline-strong-kids-triathlon/
LOCATION:Stateline Family YMCA\, 501 Third Street\, Beloit\, WI\, United States
CATEGORIES:Beloit
END:VEVENT
BEGIN:VEVENT
DTSTART;TZID=America/Chicago:20200307T173000
DTEND;TZID=America/Chicago:20200307T213000
DTSTAMP:20260420T073721
CREATED:20200229T183354Z
LAST-MODIFIED:20200229T183354Z
UID:10022-1583602200-1583616600@statelinekids.com
SUMMARY:Parent’s Night Out - Fun with Legos
DESCRIPTION:Kids ages 3-12 can enjoy a night out of games\, swimming\, and pizza. Register here. \nCost: $20 per member\, $30 per non-members
URL:https://statelinekids.com/event/parents-night-out-fun-with-legos/
LOCATION:Stateline Family YMCA\, 501 Third Street\, Beloit\, WI\, United States
CATEGORIES:Beloit
END:VEVENT
BEGIN:VEVENT
DTSTART;TZID=America/Chicago:20200201T173000
DTEND;TZID=America/Chicago:20200201T213000
DTSTAMP:20260420T073721
CREATED:20200125T222619Z
LAST-MODIFIED:20200125T222619Z
UID:9593-1580578200-1580592600@statelinekids.com
SUMMARY:Harry Potter Parent’s Night Out at Stateline Family YMCA
DESCRIPTION:Drop your kids off for Harry Potter themed activities\, swimming\, and pizza for dinner. This event is for ages 3-12. Register here. \nCost: $20 for members\, $30 for non-members
URL:https://statelinekids.com/event/harry-potter-parents-night-out-at-stateline-family-ymca/
LOCATION:Stateline Family YMCA\, 501 Third Street\, Beloit\, WI\, United States
CATEGORIES:Beloit
END:VEVENT
BEGIN:VEVENT
DTSTART;TZID=America/Chicago:20180725T184500
DTEND;TZID=America/Chicago:20180725T193000
DTSTAMP:20260420T073721
CREATED:20180710T181826Z
LAST-MODIFIED:20180710T181826Z
UID:889-1532544300-1532547000@statelinekids.com
SUMMARY:Preschool Gymnastics Open Gyms
DESCRIPTION:Not sure if your child would like gymnastics? Or looking for an opportunity for your child to get extra practice? \nJoin us for one of our open gyms this month! A parent or guardian must accompany the child during the open gym. Balance on the beam\, jump on the trampoline\, tumble on the mats\, meet new friends and have fun. \nAges: 1 -5 \nMembers – $5 / Community – $7 per class
URL:https://statelinekids.com/event/preschool-gymnastics-open-gyms-2/
LOCATION:Stateline Family YMCA\, 501 Third Street\, Beloit\, WI\, United States
CATEGORIES:Beloit
END:VEVENT
BEGIN:VEVENT
DTSTART;TZID=America/Chicago:20180717T091500
DTEND;TZID=America/Chicago:20180717T100000
DTSTAMP:20260420T073721
CREATED:20180710T181623Z
LAST-MODIFIED:20180710T181623Z
UID:886-1531818900-1531821600@statelinekids.com
SUMMARY:Preschool Gymnastics Open Gyms
DESCRIPTION:Not sure if your child would like gymnastics? Or looking for an opportunity for your child to get extra practice? \nJoin us for one of our open gyms this month! A parent or guardian must accompany the child during the open gym. Balance on the beam\, jump on the trampoline\, tumble on the mats\, meet new friends and have fun. \nAges: 1 -5 \nMembers – $5 / Community – $7 per class
URL:https://statelinekids.com/event/preschool-gymnastics-open-gyms/
LOCATION:Stateline Family YMCA\, 501 Third Street\, Beloit\, WI\, United States
CATEGORIES:Beloit
END:VEVENT
END:VCALENDAR