BEGIN:VCALENDAR
VERSION:2.0
PRODID:-//Stateline Kids - ECPv6.5.1.3//NONSGML v1.0//EN
CALSCALE:GREGORIAN
METHOD:PUBLISH
X-ORIGINAL-URL:https://statelinekids.com
X-WR-CALDESC:Events for Stateline Kids
REFRESH-INTERVAL;VALUE=DURATION:PT1H
X-Robots-Tag:noindex
X-PUBLISHED-TTL:PT1H
BEGIN:VTIMEZONE
TZID:America/Chicago
BEGIN:DAYLIGHT
TZOFFSETFROM:-0600
TZOFFSETTO:-0500
TZNAME:CDT
DTSTART:20210314T080000
END:DAYLIGHT
BEGIN:STANDARD
TZOFFSETFROM:-0500
TZOFFSETTO:-0600
TZNAME:CST
DTSTART:20211107T070000
END:STANDARD
BEGIN:DAYLIGHT
TZOFFSETFROM:-0600
TZOFFSETTO:-0500
TZNAME:CDT
DTSTART:20220313T080000
END:DAYLIGHT
BEGIN:STANDARD
TZOFFSETFROM:-0500
TZOFFSETTO:-0600
TZNAME:CST
DTSTART:20221106T070000
END:STANDARD
BEGIN:DAYLIGHT
TZOFFSETFROM:-0600
TZOFFSETTO:-0500
TZNAME:CDT
DTSTART:20230312T080000
END:DAYLIGHT
BEGIN:STANDARD
TZOFFSETFROM:-0500
TZOFFSETTO:-0600
TZNAME:CST
DTSTART:20231105T070000
END:STANDARD
END:VTIMEZONE
BEGIN:VEVENT
DTSTART;TZID=America/Chicago:20230818T130000
DTEND;TZID=America/Chicago:20230818T170000
DTSTAMP:20260420T164603
CREATED:20230813T003719Z
LAST-MODIFIED:20230813T003719Z
UID:29981-1692363600-1692378000@statelinekids.com
SUMMARY:Summer Carnival
DESCRIPTION:Enjoy a bounce house\, games\, prizes\, and more.
URL:https://statelinekids.com/event/summer-carnival/
LOCATION:Stateline Boys and Girls Club\, 1851 Moore St.\, Beloit\, WI\, United States
CATEGORIES:Beloit
END:VEVENT
BEGIN:VEVENT
DTSTART;TZID=America/Chicago:20210826T130000
DTEND;TZID=America/Chicago:20210826T160000
DTSTAMP:20260420T164603
CREATED:20210822T204221Z
LAST-MODIFIED:20210822T204221Z
UID:17148-1629982800-1629993600@statelinekids.com
SUMMARY:Summer Carnival / Book Fair / Back to School Supplies
DESCRIPTION:Enjoy carnival games for $10 per person for unlimited participation\, a free book fair\, and free back to school supplies on a first come-first serve basis.
URL:https://statelinekids.com/event/summer-carnival-book-fair-back-to-school-supplies/
LOCATION:Stateline Boys and Girls Club\, 1851 Moore St.\, Beloit\, WI\, United States
CATEGORIES:Beloit
END:VEVENT
END:VCALENDAR