BEGIN:VCALENDAR
VERSION:2.0
PRODID:-//Stateline Kids - ECPv6.5.1.3//NONSGML v1.0//EN
CALSCALE:GREGORIAN
METHOD:PUBLISH
X-ORIGINAL-URL:https://statelinekids.com
X-WR-CALDESC:Events for Stateline Kids
REFRESH-INTERVAL;VALUE=DURATION:PT1H
X-Robots-Tag:noindex
X-PUBLISHED-TTL:PT1H
BEGIN:VTIMEZONE
TZID:America/Chicago
BEGIN:DAYLIGHT
TZOFFSETFROM:-0600
TZOFFSETTO:-0500
TZNAME:CDT
DTSTART:20200308T080000
END:DAYLIGHT
BEGIN:STANDARD
TZOFFSETFROM:-0500
TZOFFSETTO:-0600
TZNAME:CST
DTSTART:20201101T070000
END:STANDARD
BEGIN:DAYLIGHT
TZOFFSETFROM:-0600
TZOFFSETTO:-0500
TZNAME:CDT
DTSTART:20210314T080000
END:DAYLIGHT
BEGIN:STANDARD
TZOFFSETFROM:-0500
TZOFFSETTO:-0600
TZNAME:CST
DTSTART:20211107T070000
END:STANDARD
BEGIN:DAYLIGHT
TZOFFSETFROM:-0600
TZOFFSETTO:-0500
TZNAME:CDT
DTSTART:20220313T080000
END:DAYLIGHT
BEGIN:STANDARD
TZOFFSETFROM:-0500
TZOFFSETTO:-0600
TZNAME:CST
DTSTART:20221106T070000
END:STANDARD
BEGIN:DAYLIGHT
TZOFFSETFROM:-0600
TZOFFSETTO:-0500
TZNAME:CDT
DTSTART:20230312T080000
END:DAYLIGHT
BEGIN:STANDARD
TZOFFSETFROM:-0500
TZOFFSETTO:-0600
TZNAME:CST
DTSTART:20231105T070000
END:STANDARD
BEGIN:DAYLIGHT
TZOFFSETFROM:-0600
TZOFFSETTO:-0500
TZNAME:CDT
DTSTART:20240310T080000
END:DAYLIGHT
BEGIN:STANDARD
TZOFFSETFROM:-0500
TZOFFSETTO:-0600
TZNAME:CST
DTSTART:20241103T070000
END:STANDARD
BEGIN:DAYLIGHT
TZOFFSETFROM:-0600
TZOFFSETTO:-0500
TZNAME:CDT
DTSTART:20250309T080000
END:DAYLIGHT
BEGIN:STANDARD
TZOFFSETFROM:-0500
TZOFFSETTO:-0600
TZNAME:CST
DTSTART:20251102T070000
END:STANDARD
END:VTIMEZONE
BEGIN:VEVENT
DTSTART;TZID=America/Chicago:20250614T083000
DTEND;TZID=America/Chicago:20250614T120000
DTSTAMP:20260422T033148
CREATED:20250607T230525Z
LAST-MODIFIED:20250607T230525Z
UID:40958-1749889800-1749902400@statelinekids.com
SUMMARY:Hooked on Fishing
DESCRIPTION:Bring your own pole and tackle. Registration is required.
URL:https://statelinekids.com/event/hooked-on-fishing-3/
LOCATION:Spencer Conservation Area\, 825 N Appleton Rd.\, Belvidere\, IL\, United States
CATEGORIES:Belvidere
END:VEVENT
BEGIN:VEVENT
DTSTART;TZID=America/Chicago:20250208T090000
DTEND;TZID=America/Chicago:20250208T120000
DTSTAMP:20260422T033148
CREATED:20250126T212801Z
LAST-MODIFIED:20250126T212801Z
UID:39480-1739005200-1739016000@statelinekids.com
SUMMARY:Free Ice Fishing
DESCRIPTION:Kids ages 5-15 can enjoy ice fishing and a free lunch. Call 815-547-7935 to register.
URL:https://statelinekids.com/event/free-ice-fishing/
LOCATION:Spencer Conservation Area\, 825 N Appleton Rd.\, Belvidere\, IL\, United States
CATEGORIES:Belvidere
END:VEVENT
BEGIN:VEVENT
DTSTART;TZID=America/Chicago:20240608T083000
DTEND;TZID=America/Chicago:20240608T120000
DTSTAMP:20260422T033148
CREATED:20240602T171953Z
LAST-MODIFIED:20240602T171953Z
UID:35263-1717835400-1717848000@statelinekids.com
SUMMARY:Hooked on Fishing at Spencer Conservation Area
DESCRIPTION:Kids ages 5-15 can enjoy a free fishing clinic and lunch provided by Sycamore Meijer. Call 815-547-7935 to register.
URL:https://statelinekids.com/event/hooked-on-fishing-at-spencer-conservation-area/
LOCATION:Spencer Conservation Area\, 825 N Appleton Rd.\, Belvidere\, IL\, United States
CATEGORIES:Belvidere
END:VEVENT
BEGIN:VEVENT
DTSTART;TZID=America/Chicago:20231202T170000
DTEND;TZID=America/Chicago:20231202T200000
DTSTAMP:20260422T033148
CREATED:20231110T163108Z
LAST-MODIFIED:20231110T163108Z
UID:32029-1701536400-1701547200@statelinekids.com
SUMMARY:Holiday Walk at Spencer Conservation Area
DESCRIPTION:Start the Holiday Season in the 1800s! Walk a luminaria-lit pathway and see the historic cabins. See a Blacksmith demonstration and other recreated historic areas\, including an 1800 one-room Schoolhouse. \nListen to live music and get in the Holiday Spirit!  Enjoy choirs singing carols and historic presentations.  There are delicious holiday treats and hot drinks for purchase. \nRegistration is required for this free Holiday Event. \nEnjoy all the family fun and get in the Holiday Spirit on Saturday\, December 2nd! \nRegister online here. \nFacebook Event Page
URL:https://statelinekids.com/event/holiday-walk-at-spencer-conservation-area/
LOCATION:Spencer Conservation Area\, 825 N Appleton Rd.\, Belvidere\, IL\, United States
CATEGORIES:Belvidere
END:VEVENT
BEGIN:VEVENT
DTSTART;TZID=America/Chicago:20221203T170000
DTEND;TZID=America/Chicago:20221203T210000
DTSTAMP:20260422T033148
CREATED:20221127T181133Z
LAST-MODIFIED:20221127T181133Z
UID:25116-1670086800-1670101200@statelinekids.com
SUMMARY:BCCD Annual Holiday Walk
DESCRIPTION:Walk on a luminaria-lit pathway\, enjoy live music and caroling\, a blacksmith demonstration\, and food and drinks for purchase. RSVP in advance.
URL:https://statelinekids.com/event/bccd-annual-holiday-walk-2/
LOCATION:Spencer Conservation Area\, 825 N Appleton Rd.\, Belvidere\, IL\, United States
CATEGORIES:Belvidere
END:VEVENT
BEGIN:VEVENT
DTSTART;TZID=America/Chicago:20220611T083000
DTEND;TZID=America/Chicago:20220611T120000
DTSTAMP:20260422T033148
CREATED:20220604T194415Z
LAST-MODIFIED:20220604T194415Z
UID:20809-1654936200-1654948800@statelinekids.com
SUMMARY:Hooked on Fishing
DESCRIPTION:Kids ages 5-15 are invited to bring their fishing poles\, get a free lunch\, and participate in the event. There will be prizes and bait provided. Contact BCCD at 815-547-7935 or email office@bccdil.org to register.
URL:https://statelinekids.com/event/hooked-on-fishing-2/
LOCATION:Spencer Conservation Area\, 825 N Appleton Rd.\, Belvidere\, IL\, United States
CATEGORIES:Belvidere
END:VEVENT
BEGIN:VEVENT
DTSTART;TZID=America/Chicago:20220502T130000
DTEND;TZID=America/Chicago:20220502T140000
DTSTAMP:20260422T033148
CREATED:20220430T192902Z
LAST-MODIFIED:20220430T192902Z
UID:19986-1651496400-1651500000@statelinekids.com
SUMMARY:City Nature Hike
DESCRIPTION:Take a walk to learn about plants with Ben Davies.
URL:https://statelinekids.com/event/city-nature-hike/
LOCATION:Spencer Conservation Area\, 825 N Appleton Rd.\, Belvidere\, IL\, United States
CATEGORIES:Belvidere
END:VEVENT
BEGIN:VEVENT
DTSTART;TZID=America/Chicago:20220212T090000
DTEND;TZID=America/Chicago:20220212T120000
DTSTAMP:20260422T033148
CREATED:20220206T163922Z
LAST-MODIFIED:20220206T163922Z
UID:19112-1644656400-1644667200@statelinekids.com
SUMMARY:Kids Ice Fishing Clinic
DESCRIPTION:Kids ages 5-15 can learn to ice fish with an adult. Registration is required. Call 815-547-7935 or email mfreedlund@bccdil.org.
URL:https://statelinekids.com/event/kids-ice-fishing-clinic/
LOCATION:Spencer Conservation Area\, 825 N Appleton Rd.\, Belvidere\, IL\, United States
CATEGORIES:Belvidere
END:VEVENT
BEGIN:VEVENT
DTSTART;TZID=America/Chicago:20200208T090000
DTEND;TZID=America/Chicago:20200208T120000
DTSTAMP:20260422T033148
CREATED:20200201T181405Z
LAST-MODIFIED:20200201T181452Z
UID:9651-1581152400-1581163200@statelinekids.com
SUMMARY:Ice Fishing Clinic
DESCRIPTION:Kids ages 5-15 can bring their equipment for an ice fishing lesson. Lunch and bait will be provided. Call 815-547-7935 or email mfreedlund@bccdil.org to register.
URL:https://statelinekids.com/event/ice-fishing-clinic/
LOCATION:Spencer Conservation Area\, 825 N Appleton Rd.\, Belvidere\, IL\, United States
CATEGORIES:Belvidere
END:VEVENT
END:VCALENDAR