BEGIN:VCALENDAR
VERSION:2.0
PRODID:-//Stateline Kids - ECPv6.5.1.3//NONSGML v1.0//EN
CALSCALE:GREGORIAN
METHOD:PUBLISH
X-WR-CALNAME:Stateline Kids
X-ORIGINAL-URL:https://statelinekids.com
X-WR-CALDESC:Events for Stateline Kids
REFRESH-INTERVAL;VALUE=DURATION:PT1H
X-Robots-Tag:noindex
X-PUBLISHED-TTL:PT1H
BEGIN:VTIMEZONE
TZID:America/Chicago
BEGIN:DAYLIGHT
TZOFFSETFROM:-0600
TZOFFSETTO:-0500
TZNAME:CDT
DTSTART:20190310T080000
END:DAYLIGHT
BEGIN:STANDARD
TZOFFSETFROM:-0500
TZOFFSETTO:-0600
TZNAME:CST
DTSTART:20191103T070000
END:STANDARD
BEGIN:DAYLIGHT
TZOFFSETFROM:-0600
TZOFFSETTO:-0500
TZNAME:CDT
DTSTART:20200308T080000
END:DAYLIGHT
BEGIN:STANDARD
TZOFFSETFROM:-0500
TZOFFSETTO:-0600
TZNAME:CST
DTSTART:20201101T070000
END:STANDARD
BEGIN:DAYLIGHT
TZOFFSETFROM:-0600
TZOFFSETTO:-0500
TZNAME:CDT
DTSTART:20210314T080000
END:DAYLIGHT
BEGIN:STANDARD
TZOFFSETFROM:-0500
TZOFFSETTO:-0600
TZNAME:CST
DTSTART:20211107T070000
END:STANDARD
BEGIN:DAYLIGHT
TZOFFSETFROM:-0600
TZOFFSETTO:-0500
TZNAME:CDT
DTSTART:20220313T080000
END:DAYLIGHT
BEGIN:STANDARD
TZOFFSETFROM:-0500
TZOFFSETTO:-0600
TZNAME:CST
DTSTART:20221106T070000
END:STANDARD
BEGIN:DAYLIGHT
TZOFFSETFROM:-0600
TZOFFSETTO:-0500
TZNAME:CDT
DTSTART:20230312T080000
END:DAYLIGHT
BEGIN:STANDARD
TZOFFSETFROM:-0500
TZOFFSETTO:-0600
TZNAME:CST
DTSTART:20231105T070000
END:STANDARD
BEGIN:DAYLIGHT
TZOFFSETFROM:-0600
TZOFFSETTO:-0500
TZNAME:CDT
DTSTART:20240310T080000
END:DAYLIGHT
BEGIN:STANDARD
TZOFFSETFROM:-0500
TZOFFSETTO:-0600
TZNAME:CST
DTSTART:20241103T070000
END:STANDARD
END:VTIMEZONE
BEGIN:VEVENT
DTSTART;TZID=America/Chicago:20241215T120000
DTEND;TZID=America/Chicago:20241215T160000
DTSTAMP:20260420T135817
CREATED:20241208T193839Z
LAST-MODIFIED:20241208T193839Z
UID:38889-1734264000-1734278400@statelinekids.com
SUMMARY:Santa at Sips and Sprinkles
DESCRIPTION:Stop by to see Santa and get a photo with him for $5 (cash only).
URL:https://statelinekids.com/event/santa-at-sips-and-sprinkles-2/
LOCATION:Sips and Sprinkles\, 221 W. Locust St.\, Belvidere\, IL\, United States
CATEGORIES:Belvidere
END:VEVENT
BEGIN:VEVENT
DTSTART;TZID=America/Chicago:20240324T120000
DTEND;TZID=America/Chicago:20240324T160000
DTSTAMP:20260420T135817
CREATED:20240317T173448Z
LAST-MODIFIED:20240317T173448Z
UID:33937-1711281600-1711296000@statelinekids.com
SUMMARY:Easter Bunny Pictures
DESCRIPTION:Get a digital photo taken with the Easter Bunny by Memories by Debbie. Photos are cash only.
URL:https://statelinekids.com/event/easter-bunny-pictures-2/
LOCATION:Sips and Sprinkles\, 221 W. Locust St.\, Belvidere\, IL\, United States
CATEGORIES:Belvidere
END:VEVENT
BEGIN:VEVENT
DTSTART;TZID=America/Chicago:20231217T120000
DTEND;TZID=America/Chicago:20231217T160000
DTSTAMP:20260420T135817
CREATED:20231210T191636Z
LAST-MODIFIED:20231210T191636Z
UID:32524-1702814400-1702828800@statelinekids.com
SUMMARY:Santa Visits
DESCRIPTION:Walk in to take a photo with Santa and get a digital print from Memories by Debbie. \nCost: $5 per photo
URL:https://statelinekids.com/event/santa-visits/
LOCATION:Sips and Sprinkles\, 221 W. Locust St.\, Belvidere\, IL\, United States
CATEGORIES:Belvidere
END:VEVENT
BEGIN:VEVENT
DTSTART;TZID=America/Chicago:20231201T170000
DTEND;TZID=America/Chicago:20231201T200000
DTSTAMP:20260420T135817
CREATED:20231126T190109Z
LAST-MODIFIED:20231126T190109Z
UID:32269-1701450000-1701460800@statelinekids.com
SUMMARY:Elf Shoppe Shop
DESCRIPTION:Kids ages 3 and up can bring money to shop for their family members with help from elves. Everything is $5 or less.
URL:https://statelinekids.com/event/elf-shoppe-shop/
LOCATION:Sips and Sprinkles\, 221 W. Locust St.\, Belvidere\, IL\, United States
CATEGORIES:Belvidere
END:VEVENT
BEGIN:VEVENT
DTSTART;TZID=America/Chicago:20230709T130000
DTEND;TZID=America/Chicago:20230709T160000
DTSTAMP:20260420T135817
CREATED:20230701T161242Z
LAST-MODIFIED:20230701T161535Z
UID:29154-1688907600-1688918400@statelinekids.com
SUMMARY:Pickles the Clown at Sips and Sprinkles 5th Birthday
DESCRIPTION:Celebrate Sips and Sprinkles 5th birthday with a visit from Pickles the Clown\, Elsa and Spiderman. Ice cream and other treats will be for sale.
URL:https://statelinekids.com/event/pickles-the-clown-at-sips-and-sprinkles-5th-birthday/
LOCATION:Sips and Sprinkles\, 221 W. Locust St.\, Belvidere\, IL\, United States
CATEGORIES:Belvidere
END:VEVENT
BEGIN:VEVENT
DTSTART;TZID=America/Chicago:20221218T120000
DTEND;TZID=America/Chicago:20221218T160000
DTSTAMP:20260420T135817
CREATED:20221210T221556Z
LAST-MODIFIED:20221210T221556Z
UID:25290-1671364800-1671379200@statelinekids.com
SUMMARY:Pictures With Santa
DESCRIPTION:Get your photo taken with Santa by Memories by Debbie. \nCost: $5 per photo (cash only) \n 
URL:https://statelinekids.com/event/pictures-with-santa/
LOCATION:Sips and Sprinkles\, 221 W. Locust St.\, Belvidere\, IL\, United States
CATEGORIES:Belvidere
END:VEVENT
BEGIN:VEVENT
DTSTART;TZID=America/Chicago:20220410T110000
DTEND;TZID=America/Chicago:20220410T150000
DTSTAMP:20260420T135817
CREATED:20220318T162652Z
LAST-MODIFIED:20220318T162652Z
UID:19459-1649588400-1649602800@statelinekids.com
SUMMARY:Easter Bunny at Sips and Sprinkles
DESCRIPTION:JKirk Photography will be hosting Easter Bunny photos at Sips and Sprinkles. Photos are $5 each and can be downloaded after the event. Cash and Venmo are preferred.
URL:https://statelinekids.com/event/easter-bunny-at-sips-and-sprinkles/
LOCATION:Sips and Sprinkles\, 221 W. Locust St.\, Belvidere\, IL\, United States
CATEGORIES:Belvidere
END:VEVENT
BEGIN:VEVENT
DTSTART;TZID=America/Chicago:20211219T120000
DTEND;TZID=America/Chicago:20211219T150000
DTSTAMP:20260420T135817
CREATED:20211212T232029Z
LAST-MODIFIED:20211212T232029Z
UID:18707-1639915200-1639926000@statelinekids.com
SUMMARY:Visit Santa
DESCRIPTION:Come get your photo taken with Santa for $5 per digital photo.
URL:https://statelinekids.com/event/visit-santa/
LOCATION:Sips and Sprinkles\, 221 W. Locust St.\, Belvidere\, IL\, United States
CATEGORIES:Belvidere
END:VEVENT
BEGIN:VEVENT
DTSTART;TZID=America/Chicago:20211029T180000
DTEND;TZID=America/Chicago:20211029T200000
DTSTAMP:20260420T135817
CREATED:20211024T155755Z
LAST-MODIFIED:20211024T155755Z
UID:17981-1635530400-1635537600@statelinekids.com
SUMMARY:Halloween Karaoke Night
DESCRIPTION:Enjoy an evening of music\, dancing\, and fun including a costume contest. Sign up for a song here. \nCost: $2 per song
URL:https://statelinekids.com/event/halloween-karaoke-night/
LOCATION:Sips and Sprinkles\, 221 W. Locust St.\, Belvidere\, IL\, United States
CATEGORIES:Belvidere
END:VEVENT
BEGIN:VEVENT
DTSTART;TZID=America/Chicago:20210325T173000
DTEND;TZID=America/Chicago:20210325T190000
DTSTAMP:20260420T135817
CREATED:20210321T145748Z
LAST-MODIFIED:20210321T145748Z
UID:15110-1616693400-1616698800@statelinekids.com
SUMMARY:Sprinkles and Splatters Kids Paint Night
DESCRIPTION:Kids 5 and up can create their own butterfly or dinosaur textured stencil painting. They will receive all painting supplies and a free scoop of any flavor of ice cream. More information here. \nCost: $35 per person
URL:https://statelinekids.com/event/sprinkles-and-splatters-kids-paint-night/
LOCATION:Sips and Sprinkles\, 221 W. Locust St.\, Belvidere\, IL\, United States
CATEGORIES:Belvidere
END:VEVENT
BEGIN:VEVENT
DTSTART;TZID=America/Chicago:20210311T180000
DTEND;TZID=America/Chicago:20210311T203000
DTSTAMP:20260420T135817
CREATED:20210307T183257Z
LAST-MODIFIED:20210307T183257Z
UID:14987-1615485600-1615494600@statelinekids.com
SUMMARY:Macrame Plant Hanger Workshop
DESCRIPTION:Learn how to make your own macrame plant hanger. Admission includes all materials\, a potted plant\, and a drink. Prepay through Paypal or Venmo. More information here. \nCost: $40 per person
URL:https://statelinekids.com/event/macrame-plant-hanger-workshop/
LOCATION:Sips and Sprinkles\, 221 W. Locust St.\, Belvidere\, IL\, United States
CATEGORIES:Belvidere
END:VEVENT
BEGIN:VEVENT
DTSTART;TZID=America/Chicago:20191215T100000
DTEND;TZID=America/Chicago:20191215T140000
DTSTAMP:20260420T135817
CREATED:20191208T190238Z
LAST-MODIFIED:20191208T190238Z
UID:8965-1576404000-1576418400@statelinekids.com
SUMMARY:Santa at Sips and Sprinkles
DESCRIPTION:Get a professional photo with Santa for $5 per photo.
URL:https://statelinekids.com/event/santa-at-sips-and-sprinkles/
LOCATION:Sips and Sprinkles\, 221 W. Locust St.\, Belvidere\, IL\, United States
CATEGORIES:Belvidere
END:VEVENT
BEGIN:VEVENT
DTSTART;TZID=America/Chicago:20190414T100000
DTEND;TZID=America/Chicago:20190414T140000
DTSTAMP:20260420T135817
CREATED:20190408T023214Z
LAST-MODIFIED:20190413T195516Z
UID:5328-1555236000-1555250400@statelinekids.com
SUMMARY:Meet the Easter Bunny
DESCRIPTION:Come to Sips and Sprinkles for pictures with the Easter Bunny. Pictures are $5 per digital download.
URL:https://statelinekids.com/event/meet-the-easter-bunny/
LOCATION:Sips and Sprinkles\, 221 W. Locust St.\, Belvidere\, IL\, United States
CATEGORIES:Belvidere
END:VEVENT
END:VCALENDAR