BEGIN:VCALENDAR
VERSION:2.0
PRODID:-//Stateline Kids - ECPv6.5.1.3//NONSGML v1.0//EN
CALSCALE:GREGORIAN
METHOD:PUBLISH
X-ORIGINAL-URL:https://statelinekids.com
X-WR-CALDESC:Events for Stateline Kids
REFRESH-INTERVAL;VALUE=DURATION:PT1H
X-Robots-Tag:noindex
X-PUBLISHED-TTL:PT1H
BEGIN:VTIMEZONE
TZID:America/Chicago
BEGIN:DAYLIGHT
TZOFFSETFROM:-0600
TZOFFSETTO:-0500
TZNAME:CDT
DTSTART:20180311T080000
END:DAYLIGHT
BEGIN:STANDARD
TZOFFSETFROM:-0500
TZOFFSETTO:-0600
TZNAME:CST
DTSTART:20181104T070000
END:STANDARD
BEGIN:DAYLIGHT
TZOFFSETFROM:-0600
TZOFFSETTO:-0500
TZNAME:CDT
DTSTART:20190310T080000
END:DAYLIGHT
BEGIN:STANDARD
TZOFFSETFROM:-0500
TZOFFSETTO:-0600
TZNAME:CST
DTSTART:20191103T070000
END:STANDARD
BEGIN:DAYLIGHT
TZOFFSETFROM:-0600
TZOFFSETTO:-0500
TZNAME:CDT
DTSTART:20200308T080000
END:DAYLIGHT
BEGIN:STANDARD
TZOFFSETFROM:-0500
TZOFFSETTO:-0600
TZNAME:CST
DTSTART:20201101T070000
END:STANDARD
BEGIN:DAYLIGHT
TZOFFSETFROM:-0600
TZOFFSETTO:-0500
TZNAME:CDT
DTSTART:20210314T080000
END:DAYLIGHT
BEGIN:STANDARD
TZOFFSETFROM:-0500
TZOFFSETTO:-0600
TZNAME:CST
DTSTART:20211107T070000
END:STANDARD
BEGIN:DAYLIGHT
TZOFFSETFROM:-0600
TZOFFSETTO:-0500
TZNAME:CDT
DTSTART:20220313T080000
END:DAYLIGHT
BEGIN:STANDARD
TZOFFSETFROM:-0500
TZOFFSETTO:-0600
TZNAME:CST
DTSTART:20221106T070000
END:STANDARD
BEGIN:DAYLIGHT
TZOFFSETFROM:-0600
TZOFFSETTO:-0500
TZNAME:CDT
DTSTART:20230312T080000
END:DAYLIGHT
BEGIN:STANDARD
TZOFFSETFROM:-0500
TZOFFSETTO:-0600
TZNAME:CST
DTSTART:20231105T070000
END:STANDARD
BEGIN:DAYLIGHT
TZOFFSETFROM:-0600
TZOFFSETTO:-0500
TZNAME:CDT
DTSTART:20240310T080000
END:DAYLIGHT
BEGIN:STANDARD
TZOFFSETFROM:-0500
TZOFFSETTO:-0600
TZNAME:CST
DTSTART:20241103T070000
END:STANDARD
END:VTIMEZONE
BEGIN:VEVENT
DTSTART;TZID=America/Chicago:20240406T110000
DTEND;TZID=America/Chicago:20240406T150000
DTSTAMP:20260420T140818
CREATED:20240331T010806Z
LAST-MODIFIED:20240331T010806Z
UID:34129-1712401200-1712415600@statelinekids.com
SUMMARY:Owl\, Duck\, Chicken Paint
DESCRIPTION:Paint an owl\, duck\, or chicken for $10 per item.
URL:https://statelinekids.com/event/owl-duck-chicken-paint/
LOCATION:Simply Ceramics Rockford\, 5811 Forest Hills Road #1\, Rockford\, IL\, United States
CATEGORIES:Loves Park
END:VEVENT
BEGIN:VEVENT
DTSTART;TZID=America/Chicago:20240316T110000
DTEND;TZID=America/Chicago:20240316T150000
DTSTAMP:20260420T140818
CREATED:20240310T193906Z
LAST-MODIFIED:20240310T193906Z
UID:33792-1710586800-1710601200@statelinekids.com
SUMMARY:Easter Egg Paint
DESCRIPTION:Paint a keepsake Eater Egg for $5 each.
URL:https://statelinekids.com/event/easter-egg-paint/
LOCATION:Simply Ceramics Rockford\, 5811 Forest Hills Road #1\, Rockford\, IL\, United States
CATEGORIES:Loves Park
END:VEVENT
BEGIN:VEVENT
DTSTART;TZID=America/Chicago:20231231T130000
DTEND;TZID=America/Chicago:20231231T150000
DTSTAMP:20260420T140818
CREATED:20231222T012029Z
LAST-MODIFIED:20231222T012029Z
UID:32762-1704027600-1704034800@statelinekids.com
SUMMARY:New Years Eve Paint Party
DESCRIPTION:Kids ages 8 and up can be dropped off and enjoy music\, snacks\, and painting. Call 779-770-0418 to register.
URL:https://statelinekids.com/event/new-years-eve-paint-party/
LOCATION:Simply Ceramics Rockford\, 5811 Forest Hills Road #1\, Rockford\, IL\, United States
CATEGORIES:Rockford
END:VEVENT
BEGIN:VEVENT
DTSTART;TZID=America/Chicago:20231209T110000
DTEND;TZID=America/Chicago:20231209T150000
DTSTAMP:20260420T140818
CREATED:20231203T203113Z
LAST-MODIFIED:20231203T203113Z
UID:32395-1702119600-1702134000@statelinekids.com
SUMMARY:Annual Ornament Paint and Cookies with Santa
DESCRIPTION:Bring the family to paint ornaments and take pictures with Santa.
URL:https://statelinekids.com/event/annual-ornament-paint-and-cookies-with-santa/
LOCATION:Simply Ceramics Rockford\, 5811 Forest Hills Road #1\, Rockford\, IL\, United States
CATEGORIES:Loves Park
END:VEVENT
BEGIN:VEVENT
DTSTART;TZID=America/Chicago:20230902T110000
DTEND;TZID=America/Chicago:20230902T150000
DTSTAMP:20260420T140818
CREATED:20230826T161458Z
LAST-MODIFIED:20230826T161458Z
UID:30096-1693652400-1693666800@statelinekids.com
SUMMARY:Fall Paint
DESCRIPTION:Paint selected pieces and try something new.
URL:https://statelinekids.com/event/fall-paint/
LOCATION:Simply Ceramics Rockford\, 5811 Forest Hills Road #1\, Rockford\, IL\, United States
CATEGORIES:Loves Park
END:VEVENT
BEGIN:VEVENT
DTSTART;TZID=America/Chicago:20230826T110000
DTEND;TZID=America/Chicago:20230826T150000
DTSTAMP:20260420T140818
CREATED:20230818T014835Z
LAST-MODIFIED:20230818T014835Z
UID:30030-1693047600-1693062000@statelinekids.com
SUMMARY:Bubble / Splatter Paint
DESCRIPTION:Paint in a new way using bubbles and splatters.
URL:https://statelinekids.com/event/bubble-splatter-paint/
LOCATION:Simply Ceramics Rockford\, 5811 Forest Hills Road #1\, Rockford\, IL\, United States
CATEGORIES:Loves Park
END:VEVENT
BEGIN:VEVENT
DTSTART;TZID=America/Chicago:20230729T110000
DTEND;TZID=America/Chicago:20230729T150000
DTSTAMP:20260420T140818
CREATED:20230723T220839Z
LAST-MODIFIED:20230723T220839Z
UID:29556-1690628400-1690642800@statelinekids.com
SUMMARY:Mom’s Day Out Paint
DESCRIPTION:Moms are invited to have a moms day out and enjoy painting and relaxing with friends.
URL:https://statelinekids.com/event/moms-day-out-paint/
LOCATION:Simply Ceramics Rockford\, 5811 Forest Hills Road #1\, Rockford\, IL\, United States
CATEGORIES:Loves Park
END:VEVENT
BEGIN:VEVENT
DTSTART;TZID=America/Chicago:20230701T110000
DTEND;TZID=America/Chicago:20230701T120000
DTSTAMP:20260420T140818
CREATED:20230623T215436Z
LAST-MODIFIED:20230623T215436Z
UID:28989-1688209200-1688212800@statelinekids.com
SUMMARY:Family Summer Paint
DESCRIPTION:Enjoy family time painting together for $5 per person for each item.
URL:https://statelinekids.com/event/family-summer-paint/
LOCATION:Simply Ceramics Rockford\, 5811 Forest Hills Road #1\, Rockford\, IL\, United States
CATEGORIES:Rockford
END:VEVENT
BEGIN:VEVENT
DTSTART;TZID=America/Chicago:20230225T110000
DTEND;TZID=America/Chicago:20230225T160000
DTSTAMP:20260420T140818
CREATED:20230219T202253Z
LAST-MODIFIED:20230219T202253Z
UID:26559-1677322800-1677340800@statelinekids.com
SUMMARY:Family Paint
DESCRIPTION:Families can paint items. Refreshments will be available. Cost: $15 per family of four
URL:https://statelinekids.com/event/family-paint/
LOCATION:Simply Ceramics Rockford\, 5811 Forest Hills Road #1\, Rockford\, IL\, United States
CATEGORIES:Loves Park
END:VEVENT
BEGIN:VEVENT
DTSTART;TZID=America/Chicago:20190309T110000
DTEND;TZID=America/Chicago:20190309T160000
DTSTAMP:20260420T140818
CREATED:20190306T215057Z
LAST-MODIFIED:20190306T215057Z
UID:5041-1552129200-1552147200@statelinekids.com
SUMMARY:St. Patrick’s Day Painting Event
DESCRIPTION:Paint one of three St. Patrick’s Day items. For all ages. \nCost: $10 per item
URL:https://statelinekids.com/event/st-patricks-day-painting-event/
LOCATION:Simply Ceramics Rockford\, 5811 Forest Hills Road #1\, Rockford\, IL\, United States
CATEGORIES:Rockford
END:VEVENT
BEGIN:VEVENT
DTSTART;TZID=America/Chicago:20190105T110000
DTEND;TZID=America/Chicago:20190105T160000
DTSTAMP:20260420T140818
CREATED:20181230T214220Z
LAST-MODIFIED:20181230T214220Z
UID:4405-1546686000-1546704000@statelinekids.com
SUMMARY:Dad and Me Painting
DESCRIPTION:Dad\, grandpas\, uncles\, and brothers are invited to come paint something special. Please RSVP at 608-346-6676. \nCost: $10 for 1 adult and 1 child\, $5 for additional kids
URL:https://statelinekids.com/event/dad-and-me-painting/
LOCATION:Simply Ceramics Rockford\, 5811 Forest Hills Road #1\, Rockford\, IL\, United States
CATEGORIES:Rockford
END:VEVENT
BEGIN:VEVENT
DTSTART;TZID=America/Chicago:20181222T110000
DTEND;TZID=America/Chicago:20181222T160000
DTSTAMP:20260420T140818
CREATED:20181216T041912Z
LAST-MODIFIED:20181216T041912Z
UID:4214-1545476400-1545494400@statelinekids.com
SUMMARY:Mom and Me Painting
DESCRIPTION:Moms and kids ages 5-15 will paint a snowman for $10. RSVP on Facebook.
URL:https://statelinekids.com/event/mom-and-me-painting/
LOCATION:Simply Ceramics Rockford\, 5811 Forest Hills Road #1\, Rockford\, IL\, United States
CATEGORIES:Rockford
END:VEVENT
END:VCALENDAR