BEGIN:VCALENDAR
VERSION:2.0
PRODID:-//Stateline Kids - ECPv6.5.1.3//NONSGML v1.0//EN
CALSCALE:GREGORIAN
METHOD:PUBLISH
X-ORIGINAL-URL:https://statelinekids.com
X-WR-CALDESC:Events for Stateline Kids
REFRESH-INTERVAL;VALUE=DURATION:PT1H
X-Robots-Tag:noindex
X-PUBLISHED-TTL:PT1H
BEGIN:VTIMEZONE
TZID:America/Chicago
BEGIN:DAYLIGHT
TZOFFSETFROM:-0600
TZOFFSETTO:-0500
TZNAME:CDT
DTSTART:20240310T080000
END:DAYLIGHT
BEGIN:STANDARD
TZOFFSETFROM:-0500
TZOFFSETTO:-0600
TZNAME:CST
DTSTART:20241103T070000
END:STANDARD
BEGIN:DAYLIGHT
TZOFFSETFROM:-0600
TZOFFSETTO:-0500
TZNAME:CDT
DTSTART:20250309T080000
END:DAYLIGHT
BEGIN:STANDARD
TZOFFSETFROM:-0500
TZOFFSETTO:-0600
TZNAME:CST
DTSTART:20251102T070000
END:STANDARD
END:VTIMEZONE
BEGIN:VEVENT
DTSTART;TZID=America/Chicago:20250427T100000
DTEND;TZID=America/Chicago:20250427T140000
DTSTAMP:20260420T075312
CREATED:20250419T163636Z
LAST-MODIFIED:20250419T163636Z
UID:40301-1745748000-1745762400@statelinekids.com
SUMMARY:Screw City Car Show
DESCRIPTION:Check out cars\, trucks\, bikes\, and live music.
URL:https://statelinekids.com/event/screw-city-car-show/
LOCATION:Screw City Tavern\, 4412 Manchester Drive\, Rockford\, IL\, United States
CATEGORIES:Rockford
END:VEVENT
BEGIN:VEVENT
DTSTART;TZID=America/Chicago:20240929T100000
DTEND;TZID=America/Chicago:20240929T140000
DTSTAMP:20260420T075312
CREATED:20240921T222226Z
LAST-MODIFIED:20240921T222226Z
UID:37752-1727604000-1727618400@statelinekids.com
SUMMARY:Screw City Detail Car Show
DESCRIPTION:Check out cars\, raffles\, and drink and food specials.
URL:https://statelinekids.com/event/screw-city-detail-car-show/
LOCATION:Screw City Tavern\, 4412 Manchester Drive\, Rockford\, IL\, United States
CATEGORIES:Rockford
END:VEVENT
END:VCALENDAR