BEGIN:VCALENDAR
VERSION:2.0
PRODID:-//Stateline Kids - ECPv6.5.1.3//NONSGML v1.0//EN
CALSCALE:GREGORIAN
METHOD:PUBLISH
X-WR-CALNAME:Stateline Kids
X-ORIGINAL-URL:https://statelinekids.com
X-WR-CALDESC:Events for Stateline Kids
REFRESH-INTERVAL;VALUE=DURATION:PT1H
X-Robots-Tag:noindex
X-PUBLISHED-TTL:PT1H
BEGIN:VTIMEZONE
TZID:America/Chicago
BEGIN:DAYLIGHT
TZOFFSETFROM:-0600
TZOFFSETTO:-0500
TZNAME:CDT
DTSTART:20180311T080000
END:DAYLIGHT
BEGIN:STANDARD
TZOFFSETFROM:-0500
TZOFFSETTO:-0600
TZNAME:CST
DTSTART:20181104T070000
END:STANDARD
BEGIN:DAYLIGHT
TZOFFSETFROM:-0600
TZOFFSETTO:-0500
TZNAME:CDT
DTSTART:20190310T080000
END:DAYLIGHT
BEGIN:STANDARD
TZOFFSETFROM:-0500
TZOFFSETTO:-0600
TZNAME:CST
DTSTART:20191103T070000
END:STANDARD
BEGIN:DAYLIGHT
TZOFFSETFROM:-0600
TZOFFSETTO:-0500
TZNAME:CDT
DTSTART:20200308T080000
END:DAYLIGHT
BEGIN:STANDARD
TZOFFSETFROM:-0500
TZOFFSETTO:-0600
TZNAME:CST
DTSTART:20201101T070000
END:STANDARD
BEGIN:DAYLIGHT
TZOFFSETFROM:-0600
TZOFFSETTO:-0500
TZNAME:CDT
DTSTART:20210314T080000
END:DAYLIGHT
BEGIN:STANDARD
TZOFFSETFROM:-0500
TZOFFSETTO:-0600
TZNAME:CST
DTSTART:20211107T070000
END:STANDARD
BEGIN:DAYLIGHT
TZOFFSETFROM:-0600
TZOFFSETTO:-0500
TZNAME:CDT
DTSTART:20220313T080000
END:DAYLIGHT
BEGIN:STANDARD
TZOFFSETFROM:-0500
TZOFFSETTO:-0600
TZNAME:CST
DTSTART:20221106T070000
END:STANDARD
BEGIN:DAYLIGHT
TZOFFSETFROM:-0600
TZOFFSETTO:-0500
TZNAME:CDT
DTSTART:20230312T080000
END:DAYLIGHT
BEGIN:STANDARD
TZOFFSETFROM:-0500
TZOFFSETTO:-0600
TZNAME:CST
DTSTART:20231105T070000
END:STANDARD
BEGIN:DAYLIGHT
TZOFFSETFROM:-0600
TZOFFSETTO:-0500
TZNAME:CDT
DTSTART:20240310T080000
END:DAYLIGHT
BEGIN:STANDARD
TZOFFSETFROM:-0500
TZOFFSETTO:-0600
TZNAME:CST
DTSTART:20241103T070000
END:STANDARD
END:VTIMEZONE
BEGIN:VEVENT
DTSTART;TZID=America/Chicago:20241014T110000
DTEND;TZID=America/Chicago:20241014T125000
DTSTAMP:20260422T191124
CREATED:20241011T193003Z
LAST-MODIFIED:20241011T193003Z
UID:38094-1728903600-1728910200@statelinekids.com
SUMMARY:NSLD Day at Sapora Playworld/Carlson Ice Arena
DESCRIPTION:Free admission to Sapora Playworld with an NSLD card. All children under 12 must be accompanied by an adult. Carlson Ice Arena located at: 4150 N. Perryville Rd\, Loves Park\, IL. \nMonday\, October 14 • 11 am-12:50 pm    
URL:https://statelinekids.com/event/nsld-day-at-sapora-playworld-carlson-ice-arena/
LOCATION:Sapora Playworld\, 4150 North Perryville Road\, Loves Park\, IL\, United States
CATEGORIES:Loves Park
ATTACH;FMTTYPE=image/png:https://statelinekids.com/wp-content/uploads/2024/10/Screen-Shot-2024-10-11-at-2.28.46-PM.png
END:VEVENT
BEGIN:VEVENT
DTSTART;TZID=America/Chicago:20191111T090000
DTEND;TZID=America/Chicago:20191111T163000
DTSTAMP:20260422T191124
CREATED:20191110T161603Z
LAST-MODIFIED:20191110T161603Z
UID:8483-1573462800-1573489800@statelinekids.com
SUMMARY:Sapora’s School’s Out Day Camp
DESCRIPTION:Kids ages 5-12 can play\, skate\, and craft the whole day. Bring your own lunch. Sign up here. \nCost is $60 for residents\, $75 for non-residents
URL:https://statelinekids.com/event/saporas-schools-out-day-camp/
LOCATION:Sapora Playworld\, 4150 North Perryville Road\, Loves Park\, IL\, United States
CATEGORIES:Loves Park
END:VEVENT
BEGIN:VEVENT
DTSTART;TZID=America/Chicago:20181029T100000
DTEND;TZID=America/Chicago:20181029T200000
DTSTAMP:20260422T191124
CREATED:20181028T193741Z
LAST-MODIFIED:20181028T193741Z
UID:3514-1540807200-1540843200@statelinekids.com
SUMMARY:$3 Buck Days at Sapora Playworld
DESCRIPTION:Sapora Playworld is an exciting playground located inside Carlson Ice Arena\, with three levels of fun. It is a perfect place to bring your children to play\, explore\, and exercise in a safe\, secure\, soft play structure designed for children ages 5-12. The Tiny Tots play space is a smaller version of Playworld…perfect for those little ones ages 4 and under.
URL:https://statelinekids.com/event/3-buck-days-at-sapora-playworld/
LOCATION:Sapora Playworld\, 4150 North Perryville Road\, Loves Park\, IL\, United States
CATEGORIES:Loves Park
END:VEVENT
BEGIN:VEVENT
DTSTART;TZID=America/Chicago:20181008T090000
DTEND;TZID=America/Chicago:20181008T160000
DTSTAMP:20260422T191124
CREATED:20181007T041843Z
LAST-MODIFIED:20181007T041843Z
UID:3099-1538989200-1539014400@statelinekids.com
SUMMARY:School’s Out Day Camp at Sapora Playworld
DESCRIPTION:This camp gives children the opportunity to have fun through learning the basics of skating\, crafting\, and play! Bring warm clothes for skating. Register here.
URL:https://statelinekids.com/event/schools-out-day-camp-at-sapora-playworld/
LOCATION:Sapora Playworld\, 4150 North Perryville Road\, Loves Park\, IL\, United States
CATEGORIES:Loves Park
END:VEVENT
END:VCALENDAR