BEGIN:VCALENDAR
VERSION:2.0
PRODID:-//Stateline Kids - ECPv6.5.1.3//NONSGML v1.0//EN
CALSCALE:GREGORIAN
METHOD:PUBLISH
X-WR-CALNAME:Stateline Kids
X-ORIGINAL-URL:https://statelinekids.com
X-WR-CALDESC:Events for Stateline Kids
REFRESH-INTERVAL;VALUE=DURATION:PT1H
X-Robots-Tag:noindex
X-PUBLISHED-TTL:PT1H
BEGIN:VTIMEZONE
TZID:America/Chicago
BEGIN:DAYLIGHT
TZOFFSETFROM:-0600
TZOFFSETTO:-0500
TZNAME:CDT
DTSTART:20220313T080000
END:DAYLIGHT
BEGIN:STANDARD
TZOFFSETFROM:-0500
TZOFFSETTO:-0600
TZNAME:CST
DTSTART:20221106T070000
END:STANDARD
END:VTIMEZONE
BEGIN:VEVENT
DTSTART;TZID=America/Chicago:20220910T100000
DTEND;TZID=America/Chicago:20220910T170000
DTSTAMP:20260422T170223
CREATED:20220904T192036Z
LAST-MODIFIED:20220904T192036Z
UID:23207-1662804000-1662829200@statelinekids.com
SUMMARY:GIRLS NIGHT OUT: A Taste of Salt
DESCRIPTION:Try all of the salt rooms for 15 minutes for a total of an hour. Appointments are required. Text 815-290-0173 to reserve an appointment time.
URL:https://statelinekids.com/event/girls-night-out-a-taste-of-salt/
LOCATION:Salt + Sol\, 419 N. Mulford Rd.\, Rockford\, IL\, United States
CATEGORIES:Rockford
END:VEVENT
BEGIN:VEVENT
DTSTART;TZID=America/Chicago:20220610T170000
DTEND;TZID=America/Chicago:20220610T200000
DTSTAMP:20260422T170223
CREATED:20220605T164955Z
LAST-MODIFIED:20220605T164955Z
UID:20857-1654880400-1654891200@statelinekids.com
SUMMARY:Ladies Night (Salt Therapy)
DESCRIPTION:Bring your friends and try out every salt room\, 15 minutes in the Halo/IR\, wine\, snacks\, shopping and prizes. Get tickets here.
URL:https://statelinekids.com/event/ladies-night-salt-therapy/
LOCATION:Salt + Sol\, 419 N. Mulford Rd.\, Rockford\, IL\, United States
CATEGORIES:Rockford
END:VEVENT
END:VCALENDAR