BEGIN:VCALENDAR
VERSION:2.0
PRODID:-//Stateline Kids - ECPv6.5.1.3//NONSGML v1.0//EN
CALSCALE:GREGORIAN
METHOD:PUBLISH
X-WR-CALNAME:Stateline Kids
X-ORIGINAL-URL:https://statelinekids.com
X-WR-CALDESC:Events for Stateline Kids
REFRESH-INTERVAL;VALUE=DURATION:PT1H
X-Robots-Tag:noindex
X-PUBLISHED-TTL:PT1H
BEGIN:VTIMEZONE
TZID:America/Chicago
BEGIN:DAYLIGHT
TZOFFSETFROM:-0600
TZOFFSETTO:-0500
TZNAME:CDT
DTSTART:20180311T080000
END:DAYLIGHT
BEGIN:STANDARD
TZOFFSETFROM:-0500
TZOFFSETTO:-0600
TZNAME:CST
DTSTART:20181104T070000
END:STANDARD
BEGIN:DAYLIGHT
TZOFFSETFROM:-0600
TZOFFSETTO:-0500
TZNAME:CDT
DTSTART:20190310T080000
END:DAYLIGHT
BEGIN:STANDARD
TZOFFSETFROM:-0500
TZOFFSETTO:-0600
TZNAME:CST
DTSTART:20191103T070000
END:STANDARD
BEGIN:DAYLIGHT
TZOFFSETFROM:-0600
TZOFFSETTO:-0500
TZNAME:CDT
DTSTART:20200308T080000
END:DAYLIGHT
BEGIN:STANDARD
TZOFFSETFROM:-0500
TZOFFSETTO:-0600
TZNAME:CST
DTSTART:20201101T070000
END:STANDARD
BEGIN:DAYLIGHT
TZOFFSETFROM:-0600
TZOFFSETTO:-0500
TZNAME:CDT
DTSTART:20210314T080000
END:DAYLIGHT
BEGIN:STANDARD
TZOFFSETFROM:-0500
TZOFFSETTO:-0600
TZNAME:CST
DTSTART:20211107T070000
END:STANDARD
BEGIN:DAYLIGHT
TZOFFSETFROM:-0600
TZOFFSETTO:-0500
TZNAME:CDT
DTSTART:20220313T080000
END:DAYLIGHT
BEGIN:STANDARD
TZOFFSETFROM:-0500
TZOFFSETTO:-0600
TZNAME:CST
DTSTART:20221106T070000
END:STANDARD
BEGIN:DAYLIGHT
TZOFFSETFROM:-0600
TZOFFSETTO:-0500
TZNAME:CDT
DTSTART:20230312T080000
END:DAYLIGHT
BEGIN:STANDARD
TZOFFSETFROM:-0500
TZOFFSETTO:-0600
TZNAME:CST
DTSTART:20231105T070000
END:STANDARD
BEGIN:DAYLIGHT
TZOFFSETFROM:-0600
TZOFFSETTO:-0500
TZNAME:CDT
DTSTART:20240310T080000
END:DAYLIGHT
BEGIN:STANDARD
TZOFFSETFROM:-0500
TZOFFSETTO:-0600
TZNAME:CST
DTSTART:20241103T070000
END:STANDARD
END:VTIMEZONE
BEGIN:VEVENT
DTSTART;TZID=America/Chicago:20240421T100000
DTEND;TZID=America/Chicago:20240421T140000
DTSTAMP:20260420T012402
CREATED:20240414T170951Z
LAST-MODIFIED:20240414T170951Z
UID:34418-1713693600-1713708000@statelinekids.com
SUMMARY:Earth Day Celebration
DESCRIPTION:Enjoy outdoor activities\, garden adventures\, projects and more. You can also see a Zoozort animal educational show at 11 am\, 12:30 pm\, and 2 pm. Zoozort shows require tickets. Call 608-752-3885 to get tickets. \nCost: Free admission / $5 per person for Zoozort shows
URL:https://statelinekids.com/event/earth-day-celebration-5/
LOCATION:Rotary Botanical Gardens\, 1455 Palmer Dr\, Janesville\, WI\, United States
CATEGORIES:Janesville
END:VEVENT
BEGIN:VEVENT
DTSTART;TZID=America/Chicago:20240403T100000
DTEND;TZID=America/Chicago:20240403T110000
DTSTAMP:20260420T012402
CREATED:20240331T173922Z
LAST-MODIFIED:20240331T173922Z
UID:34160-1712138400-1712142000@statelinekids.com
SUMMARY:Story and Stroll
DESCRIPTION:Kids ages 2-6 and siblings are welcome to listen to a story\, do activities\, and explore the gardens. Register here.
URL:https://statelinekids.com/event/story-and-stroll-9/
LOCATION:Rotary Botanical Gardens\, 1455 Palmer Dr\, Janesville\, WI\, United States
CATEGORIES:Janesville
END:VEVENT
BEGIN:VEVENT
DTSTART;TZID=America/Chicago:20231209T090000
DTEND;TZID=America/Chicago:20231209T095000
DTSTAMP:20260420T012402
CREATED:20231203T215212Z
LAST-MODIFIED:20231203T215212Z
UID:32435-1702112400-1702115400@statelinekids.com
SUMMARY:Mornings with Santa
DESCRIPTION:Families can visit Santa\, enjoy a holiday themed storytime\, participating in crafts\, and more. Register here. \nCost: $10 per child (ages 2-12) / free for adults
URL:https://statelinekids.com/event/mornings-with-santa/2023-12-09/
LOCATION:Rotary Botanical Gardens\, 1455 Palmer Dr\, Janesville\, WI\, United States
CATEGORIES:Janesville
END:VEVENT
BEGIN:VEVENT
DTSTART;TZID=America/Chicago:20231004T100000
DTEND;TZID=America/Chicago:20231004T110000
DTSTAMP:20260420T012402
CREATED:20230930T185516Z
LAST-MODIFIED:20230930T185516Z
UID:31008-1696413600-1696417200@statelinekids.com
SUMMARY:Story and Stroll
DESCRIPTION:Kids ages 2-6 and their parent or guardian can enjoy a storytime and explore the gardens. \nCost: $3 per kid \n 
URL:https://statelinekids.com/event/story-and-stroll-8/
LOCATION:Rotary Botanical Gardens\, 1455 Palmer Dr\, Janesville\, WI\, United States
CATEGORIES:Janesville
END:VEVENT
BEGIN:VEVENT
DTSTART;TZID=America/Chicago:20230906T100000
DTEND;TZID=America/Chicago:20230906T110000
DTSTAMP:20260420T012402
CREATED:20230903T171138Z
LAST-MODIFIED:20230903T171138Z
UID:30180-1693994400-1693998000@statelinekids.com
SUMMARY:Story and Stroll
DESCRIPTION:Kids ages 2-6 and siblings are invited to a 30-minute story time and 30 minutes of activities\, games\, and crafts. Register here.
URL:https://statelinekids.com/event/story-and-stroll-7/
LOCATION:Rotary Botanical Gardens\, 1455 Palmer Dr\, Janesville\, WI\, United States
CATEGORIES:Janesville
END:VEVENT
BEGIN:VEVENT
DTSTART;TZID=America/Chicago:20230802T100000
DTEND;TZID=America/Chicago:20230802T110000
DTSTAMP:20260420T012402
CREATED:20230730T165603Z
LAST-MODIFIED:20230730T165603Z
UID:29701-1690970400-1690974000@statelinekids.com
SUMMARY:Story and Stroll
DESCRIPTION:Kids can enjoy a one-hour program that includes a story and outdoor activities. You can enjoy the garden afterward. Register here.
URL:https://statelinekids.com/event/story-and-stroll-6/2023-08-02/
LOCATION:Rotary Botanical Gardens\, 1455 Palmer Dr\, Janesville\, WI\, United States
CATEGORIES:Janesville
END:VEVENT
BEGIN:VEVENT
DTSTART;TZID=America/Chicago:20230716T120000
DTEND;TZID=America/Chicago:20230716T140000
DTSTAMP:20260420T012402
CREATED:20230709T195853Z
LAST-MODIFIED:20230709T195853Z
UID:29374-1689508800-1689516000@statelinekids.com
SUMMARY:Sunday Classics
DESCRIPTION:Listen to a concert in the gardens. \nCost: $9 per adult / $5 for kids ages 6-15 / free for kids 5 and under
URL:https://statelinekids.com/event/sunday-classics/
LOCATION:Rotary Botanical Gardens\, 1455 Palmer Dr\, Janesville\, WI\, United States
CATEGORIES:Janesville
END:VEVENT
BEGIN:VEVENT
DTSTART;TZID=America/Chicago:20230621T090000
DTEND;TZID=America/Chicago:20230621T110000
DTSTAMP:20260420T012402
CREATED:20230618T195849Z
LAST-MODIFIED:20230618T195849Z
UID:28887-1687338000-1687345200@statelinekids.com
SUMMARY:StoryWalk Kick-Off - A Good Place
DESCRIPTION:Enjoy storytime and kick-off to this year’s annual StoryWalk display.
URL:https://statelinekids.com/event/storywalk-kick-off-a-good-place/
LOCATION:Rotary Botanical Gardens\, 1455 Palmer Dr\, Janesville\, WI\, United States
CATEGORIES:Janesville
END:VEVENT
BEGIN:VEVENT
DTSTART;TZID=America/Chicago:20230607T100000
DTEND;TZID=America/Chicago:20230607T110000
DTSTAMP:20260420T012402
CREATED:20230603T230922Z
LAST-MODIFIED:20230603T230922Z
UID:28627-1686132000-1686135600@statelinekids.com
SUMMARY:Story and Stroll
DESCRIPTION:Kids ages 2-6 and siblings can enjoy a storytime\, activities\, games\, crafts\, and garden admission. Register here.
URL:https://statelinekids.com/event/story-and-stroll-5/2023-06-07/
LOCATION:Rotary Botanical Gardens\, 1455 Palmer Dr\, Janesville\, WI\, United States
CATEGORIES:Janesville
END:VEVENT
BEGIN:VEVENT
DTSTART;TZID=America/Chicago:20230423T100000
DTEND;TZID=America/Chicago:20230423T140000
DTSTAMP:20260420T012402
CREATED:20230416T203738Z
LAST-MODIFIED:20230416T203738Z
UID:27517-1682244000-1682258400@statelinekids.com
SUMMARY:Earth Day Celebration
DESCRIPTION:Enjoy outdoor family and youth activities including games\, projects\, and more. There will be three animal shows with Zoozort that are $5 per person. Get tickets here.
URL:https://statelinekids.com/event/earth-day-celebration-4/
LOCATION:Rotary Botanical Gardens\, 1455 Palmer Dr\, Janesville\, WI\, United States
CATEGORIES:Janesville
END:VEVENT
BEGIN:VEVENT
DTSTART;TZID=America/Chicago:20230121T140000
DTEND;TZID=America/Chicago:20230121T160000
DTSTAMP:20260420T012402
CREATED:20230115T163720Z
LAST-MODIFIED:20230115T163720Z
UID:25962-1674309600-1674316800@statelinekids.com
SUMMARY:GIRLS NIGHT OUT: Pour and Sip
DESCRIPTION:Learn how to paint using a pour method on a wooden heart. Admission includes the painting\, two glasses of wine\, and admission to the garden. Get tickets here.
URL:https://statelinekids.com/event/girls-night-out-pour-and-sip/
LOCATION:Rotary Botanical Gardens\, 1455 Palmer Dr\, Janesville\, WI\, United States
CATEGORIES:Janesville
END:VEVENT
BEGIN:VEVENT
DTSTART;TZID=America/Chicago:20221210T090000
DTEND;TZID=America/Chicago:20221210T120000
DTSTAMP:20260420T012402
CREATED:20221204T174058Z
LAST-MODIFIED:20221204T174058Z
UID:25222-1670662800-1670673600@statelinekids.com
SUMMARY:Meeting with Santa
DESCRIPTION:Spend the morning with Santa\, enjoy storytime\, participate in crafts\, make cards and jingle bell necklaces and play games. Register here. \nCost: $10 per child (ages 2-12)\, free for adults
URL:https://statelinekids.com/event/meeting-with-santa/
LOCATION:Rotary Botanical Gardens\, 1455 Palmer Dr\, Janesville\, WI\, United States
CATEGORIES:Janesville
END:VEVENT
BEGIN:VEVENT
DTSTART;VALUE=DATE:20221125
DTEND;VALUE=DATE:20221231
DTSTAMP:20260420T012402
CREATED:20221120T181319Z
LAST-MODIFIED:20221120T181319Z
UID:25012-1669334400-1672444799@statelinekids.com
SUMMARY:Holiday Light Show
DESCRIPTION:Walk through the gardens decorated with 1.2 million lights. Get tickets here. \nCost: $12 per adult / $5 per child ages 3-12 / free for kids 2 and under
URL:https://statelinekids.com/event/holiday-light-show-5/
LOCATION:Rotary Botanical Gardens\, 1455 Palmer Dr\, Janesville\, WI\, United States
CATEGORIES:Janesville
END:VEVENT
BEGIN:VEVENT
DTSTART;TZID=America/Chicago:20220803T100000
DTEND;TZID=America/Chicago:20220803T110000
DTSTAMP:20260420T012402
CREATED:20220731T171615Z
LAST-MODIFIED:20220731T171615Z
UID:22801-1659520800-1659524400@statelinekids.com
SUMMARY:Story and Stroll
DESCRIPTION:Enjoy a story and half-hour of activities. Register here.
URL:https://statelinekids.com/event/story-and-stroll-4/2022-08-03/
LOCATION:Rotary Botanical Gardens\, 1455 Palmer Dr\, Janesville\, WI\, United States
CATEGORIES:Janesville
END:VEVENT
BEGIN:VEVENT
DTSTART;TZID=America/Chicago:20220625T100000
DTEND;TZID=America/Chicago:20220625T120000
DTSTAMP:20260420T012402
CREATED:20220619T173145Z
LAST-MODIFIED:20220619T173145Z
UID:21295-1656151200-1656158400@statelinekids.com
SUMMARY:Story and Stroll
DESCRIPTION:Attend an hour half storytime and a half-hour of related activities before walking through the garden. Register here.
URL:https://statelinekids.com/event/story-and-stroll-3/2022-06-25/
LOCATION:Rotary Botanical Gardens\, 1455 Palmer Dr\, Janesville\, WI\, United States
CATEGORIES:Janesville
END:VEVENT
BEGIN:VEVENT
DTSTART;TZID=America/Chicago:20220621T110000
DTEND;TZID=America/Chicago:20220621T130000
DTSTAMP:20260420T012402
CREATED:20220619T171956Z
LAST-MODIFIED:20220619T171956Z
UID:21293-1655809200-1655816400@statelinekids.com
SUMMARY:Except Antarctica Storywalk Kickoff
DESCRIPTION:Enjoy activities and the opening of the Except Antarctica Storywalk.
URL:https://statelinekids.com/event/except-antarctica-storywalk-kickoff/
LOCATION:Rotary Botanical Gardens\, 1455 Palmer Dr\, Janesville\, WI\, United States
CATEGORIES:Janesville
END:VEVENT
BEGIN:VEVENT
DTSTART;TZID=America/Chicago:20220423T100000
DTEND;TZID=America/Chicago:20220423T140000
DTSTAMP:20260420T012402
CREATED:20220415T211745Z
LAST-MODIFIED:20220415T212957Z
UID:19815-1650708000-1650722400@statelinekids.com
SUMMARY:Earth Day Celebration
DESCRIPTION: Enjoy an Earth Day celebration with a Zoozort show (tickets required)\, games\, hands-on projects\, and more. Get tickets here.
URL:https://statelinekids.com/event/earth-day-celebration-3/
LOCATION:Rotary Botanical Gardens\, 1455 Palmer Dr\, Janesville\, WI\, United States
CATEGORIES:Janesville
END:VEVENT
BEGIN:VEVENT
DTSTART;TZID=America/Chicago:20220226T100000
DTEND;TZID=America/Chicago:20220226T113000
DTSTAMP:20260420T012402
CREATED:20220219T220312Z
LAST-MODIFIED:20220219T220312Z
UID:19221-1645869600-1645875000@statelinekids.com
SUMMARY:Syrup Making in Southern Wisconsin
DESCRIPTION:Learn about syrup making from a variety of trees and practice tapping trees if weather permits. Register here.
URL:https://statelinekids.com/event/syrup-making-in-southern-wisconsin/
LOCATION:Rotary Botanical Gardens\, 1455 Palmer Dr\, Janesville\, WI\, United States
CATEGORIES:Janesville
END:VEVENT
BEGIN:VEVENT
DTSTART;VALUE=DATE:20211126
DTEND;VALUE=DATE:20211231
DTSTAMP:20260420T012402
CREATED:20211121T204137Z
LAST-MODIFIED:20211121T204137Z
UID:18322-1637884800-1640908799@statelinekids.com
SUMMARY:Holiday Light Show
DESCRIPTION:See the one million beautiful lights in the Gardens. Get tickets here. \nCost: $10 per adult / $5 per child
URL:https://statelinekids.com/event/holiday-light-show-4/
LOCATION:Rotary Botanical Gardens\, 1455 Palmer Dr\, Janesville\, WI\, United States
CATEGORIES:Janesville
END:VEVENT
BEGIN:VEVENT
DTSTART;TZID=America/Chicago:20210901T110000
DTEND;TZID=America/Chicago:20210901T113000
DTSTAMP:20260420T012402
CREATED:20210829T160959Z
LAST-MODIFIED:20210829T160959Z
UID:17191-1630494000-1630495800@statelinekids.com
SUMMARY:Kids Yoga Garden Movement
DESCRIPTION:Kids can learn breathing exercises and yoga. Call to reserve your spot and pre-pay at 608-754-9622. \nCost: $8 per person / $4 per member
URL:https://statelinekids.com/event/kids-yoga-garden-movement/
LOCATION:Rotary Botanical Gardens\, 1455 Palmer Dr\, Janesville\, WI\, United States
CATEGORIES:Janesville
END:VEVENT
BEGIN:VEVENT
DTSTART;TZID=America/Chicago:20210815T110000
DTEND;TZID=America/Chicago:20210815T170000
DTSTAMP:20260420T012402
CREATED:20210808T183320Z
LAST-MODIFIED:20210808T183320Z
UID:17033-1629025200-1629046800@statelinekids.com
SUMMARY:Pokemon Go Community Day with Janesville Pride
DESCRIPTION:Enjoy a day of Pokemon fun and food from La Chucharia food truck for purchase. Get tickets here. \nCost: $5 per person \n 
URL:https://statelinekids.com/event/pokemon-go-community-day-with-janesville-pride/
LOCATION:Rotary Botanical Gardens\, 1455 Palmer Dr\, Janesville\, WI\, United States
CATEGORIES:Janesville
END:VEVENT
BEGIN:VEVENT
DTSTART;TZID=America/Chicago:20210804T100000
DTEND;TZID=America/Chicago:20210804T110000
DTSTAMP:20260420T012402
CREATED:20210801T201215Z
LAST-MODIFIED:20210801T201215Z
UID:16986-1628071200-1628074800@statelinekids.com
SUMMARY:Story and Stroll
DESCRIPTION:Kids ages 2-5 can listen to a themed storytime and do a 30 minute kids yoga session. Event is limited to 10 people\, first come first serve. \nCost: $3 per child / $2 per adult and sibling over 5
URL:https://statelinekids.com/event/story-and-stroll-2/2021-08-04/
LOCATION:Rotary Botanical Gardens\, 1455 Palmer Dr\, Janesville\, WI\, United States
CATEGORIES:Janesville
END:VEVENT
BEGIN:VEVENT
DTSTART;TZID=America/Chicago:20210616T110000
DTEND;TZID=America/Chicago:20210616T130000
DTSTAMP:20260420T012402
CREATED:20210613T195004Z
LAST-MODIFIED:20210613T195004Z
UID:16199-1623841200-1623848400@statelinekids.com
SUMMARY:Community Appreciation Day and Storywalk Kickoff
DESCRIPTION:Enjoy free admission to the gardens all day and free kid’s activities and food for purchase during the kickoff.
URL:https://statelinekids.com/event/community-appreciation-day-and-storywalk-kickoff/
LOCATION:Rotary Botanical Gardens\, 1455 Palmer Dr\, Janesville\, WI\, United States
CATEGORIES:Janesville
END:VEVENT
BEGIN:VEVENT
DTSTART;TZID=America/Chicago:20210422T100000
DTEND;TZID=America/Chicago:20210422T180000
DTSTAMP:20260420T012402
CREATED:20210418T164508Z
LAST-MODIFIED:20210418T164508Z
UID:15321-1619085600-1619114400@statelinekids.com
SUMMARY:Earth Day Celebration
DESCRIPTION:Walk through the gardens and enjoy children’s activities from 10 am – 12 pm and 3:30 pm – 5:30 pm. \nCost: $5 for adults\, free for members and kids 12 and under
URL:https://statelinekids.com/event/earth-day-celebration/
LOCATION:Rotary Botanical Gardens\, 1455 Palmer Dr\, Janesville\, WI\, United States
CATEGORIES:Janesville
END:VEVENT
BEGIN:VEVENT
DTSTART;TZID=America/Chicago:20201127T163000
DTEND;TZID=America/Chicago:20201127T210000
DTSTAMP:20260420T012402
CREATED:20201121T211941Z
LAST-MODIFIED:20201121T211941Z
UID:13764-1606494600-1606510800@statelinekids.com
SUMMARY:Holiday Light Show
DESCRIPTION:Walk through a magical light show in Rotary Gardens. You must buy your tickets in advance. \nRead all about the Holiday Light Show here. \nCost: $10 per adult\, $5 per child ages 3-12\, free for kids 2 and under
URL:https://statelinekids.com/event/holiday-light-show-3/2020-11-27/
LOCATION:Rotary Botanical Gardens\, 1455 Palmer Dr\, Janesville\, WI\, United States
CATEGORIES:Janesville
END:VEVENT
BEGIN:VEVENT
DTSTART;TZID=America/Chicago:20200812T090000
DTEND;TZID=America/Chicago:20200812T200000
DTSTAMP:20260420T012402
CREATED:20200809T183420Z
LAST-MODIFIED:20200809T183420Z
UID:12561-1597222800-1597262400@statelinekids.com
SUMMARY:Community Appreciation Day
DESCRIPTION:Take a walk through the beautiful gardens for free. Bring donations of school supplies for ECHO\, Inc. List of items needed here.
URL:https://statelinekids.com/event/community-appreciation-day/
LOCATION:Rotary Botanical Gardens\, 1455 Palmer Dr\, Janesville\, WI\, United States
CATEGORIES:Janesville
END:VEVENT
BEGIN:VEVENT
DTSTART;TZID=America/Chicago:20200610T090000
DTEND;TZID=America/Chicago:20200610T180000
DTSTAMP:20260420T012402
CREATED:20200607T180649Z
LAST-MODIFIED:20200607T180649Z
UID:11397-1591779600-1591812000@statelinekids.com
SUMMARY:Community Appreciation Day at Rotary Gardens
DESCRIPTION:Community Appreciation Day – “A Buzz in the Gardens” \nWhat is Community Appreciation Day? \nCommunity Appreciation Days are Rotary Botanical Gardens’ way of saying thank you to the community. General admission fees are waived\, however donations are gratefully accepted. Donations of any size help sustain and grow the Gardens! \nWhat time is this event? \n9 a.m. – 6 p.m. – General admission fees are waived during this time. Explore the 2020 Garden Art Exhibit – Buzzworthy Bees\, visit the koi pond and stroll through the Gardens. \nDuring Community Appreciation Day\, we will also be collecting non-perishable food items for Echo\, Inc. Thank you for helping the Gardens support this important non-profit.
URL:https://statelinekids.com/event/community-appreciation-day-at-rotary-gardens-2/
LOCATION:Rotary Botanical Gardens\, 1455 Palmer Dr\, Janesville\, WI\, United States
CATEGORIES:Janesville
END:VEVENT
BEGIN:VEVENT
DTSTART;TZID=America/Chicago:20191129T163000
DTEND;TZID=America/Chicago:20191129T203000
DTSTAMP:20260420T012402
CREATED:20191124T172406Z
LAST-MODIFIED:20191124T172406Z
UID:8715-1575045000-1575059400@statelinekids.com
SUMMARY:2019 Holiday Light Show at Rotary Gardens
DESCRIPTION:Experience the magic of over 750\,000 twinkling lights at the 2019 Holiday Light Show! \nTickets can be purchased online NOW\, at the door the day of the event\, or at Rotary Botanical Gardens beginning November 4\, 2019 (please see hours of operation or call 608-752-3885).\nPlease read! View the HLS FAQ: https://bit.ly/2C56S8T \n⏰2019 Holiday Light Show: NEW ENTRANCE & EXIT to enhance the visitor experience! Join us on November 29\, 30\, December 1\, 5\, 6\, 7\, 8\, 12\, 13\, 14\, 15\, 19\, 20\, 21\, 22\, 23\, 26\, 27\, 28\, 29\, 30.\nDoors will open at 4:30 pm\, last ticket sold at 8:30 pm; lights go dark at 9:00 pm.\nTICKETS PURCHASED ONLINE DO NOT NEED TO BE REDEEMED ON A SPECIFIC NIGHT\, AND ARE GOOD FOR ONE USE AT ANY 2019 HOLIDAY LIGHT SHOW DATE. \n?Tickets available online or at the door;\nAdults (13+) $10.00\nChildren (3-12) $5.00\nChildren (2 & Under) FREE \n?Take advantage of our FREE shuttle service which begins at 4:15 p.m. each day of the show at Dawson Field. By using the FREE shuttle service you will avoid traffic congestion on Palmer Drive and the hassle of searching for a parking spot!\nThe shuttle will pick visitors up from Dawson Field and drop off at Rotary Botanical Gardens. Shuttle service will run throughout each evening of the Holiday Light Show. Dawson Field is located minutes from Rotary Botanical Gardens\, at 920 Beloit Ave\, Janesville\, Wisconsin\, 53546. \n? On-site parking is extremely limited. Please consider parking off-site or using the FREE shuttle service at Dawson Field. \n? Service animals only. Please leave other furry friends at home. \n?Those who purchase their tickets online will be directed to a separate line at the Holiday Light Show. When purchasing online\, you will be asked to select a date – however your ticket is good for ANY night of the HLS. Tickets are good for only ONE night of the show. More information on the Holiday Light Show may be found on our website. You must print your ticket or show your ticket on your mobile device upon entry; all tickets will be scanned at the front door. \n?Due to growing popularity\, you may encounter heavy crowds on weekend nights. To provide a safe environment for our visitors\, volunteers\, and staff\, there may be a wait time for entry into the event. We thank you for your understanding. Stay up-to-date with event notifications on our Facebook page. \n?Give the gift of Holiday Light Show tickets! Gifted tickets can be purchased at Rotary Botanical Gardens beginning November 4\, 2018 (please see hours of operation or call 608-752-3885). \n?Concessions will be available for purchase (cash only) and will be provided by Steve’s Deli Dog House of Janesville again this year. Please note: an ATM is not available on-site. We apologize for any inconvenience. \n?We encourage you to follow us on Facebook for updates related to weather and more! Follow us on Twitter and Instagram for event photos\, contests\, behind the scenes looks and more! \nThe Holiday Light Show is Rotary Botanical Gardens’ largest fundraiser of the year. Thank you for your support! \nView information on our website: http://www.rotarybotanicalgardens.org/visit-the-gardens/2019hls/
URL:https://statelinekids.com/event/2019-holiday-light-show-at-rotary-gardens/
LOCATION:Rotary Botanical Gardens\, 1455 Palmer Dr\, Janesville\, WI\, United States
CATEGORIES:Janesville
END:VEVENT
BEGIN:VEVENT
DTSTART;TZID=America/Chicago:20190504T100000
DTEND;TZID=America/Chicago:20190504T140000
DTSTAMP:20260420T012402
CREATED:20190430T035001Z
LAST-MODIFIED:20190430T035001Z
UID:5548-1556964000-1556978400@statelinekids.com
SUMMARY:Earth Day
DESCRIPTION:Bring your family to share the beauty of the Gardens\, enjoy food from local food truck vendors\, community exhibits\, family education\, and activities for children. Other presenters include Hoo’s Woods Raptor Center\, City of Janesville\, Janesville Urban Forest Alliance\, Rock Prairie Master Gardeners\, Rotary Botanical Gardens education committee\, and WARD 103.5. Live raptor shows will take place at 11 am and 1 pm. Tickets for the Raptor show can be purchased the Gardens beginning at 10 am.
URL:https://statelinekids.com/event/earth-day/
LOCATION:Rotary Botanical Gardens\, 1455 Palmer Dr\, Janesville\, WI\, United States
CATEGORIES:Janesville
END:VEVENT
BEGIN:VEVENT
DTSTART;TZID=America/Chicago:20181229T163000
DTEND;TZID=America/Chicago:20181229T203000
DTSTAMP:20260420T012402
CREATED:20181226T170450Z
LAST-MODIFIED:20181226T170450Z
UID:4333-1546101000-1546115400@statelinekids.com
SUMMARY:Holiday Light Show
DESCRIPTION:Last weekend for the incredible holiday lights show at Rotary Gardens. There are over 500\,000 lights throughout the gardens. It continues Sunday\, December 30. Get tickets here.
URL:https://statelinekids.com/event/holiday-light-show-2/
LOCATION:Rotary Botanical Gardens\, 1455 Palmer Dr\, Janesville\, WI\, United States
CATEGORIES:Janesville
END:VEVENT
END:VCALENDAR