BEGIN:VCALENDAR
VERSION:2.0
PRODID:-//Stateline Kids - ECPv6.5.1.3//NONSGML v1.0//EN
CALSCALE:GREGORIAN
METHOD:PUBLISH
X-ORIGINAL-URL:https://statelinekids.com
X-WR-CALDESC:Events for Stateline Kids
REFRESH-INTERVAL;VALUE=DURATION:PT1H
X-Robots-Tag:noindex
X-PUBLISHED-TTL:PT1H
BEGIN:VTIMEZONE
TZID:America/Chicago
BEGIN:DAYLIGHT
TZOFFSETFROM:-0600
TZOFFSETTO:-0500
TZNAME:CDT
DTSTART:20240310T080000
END:DAYLIGHT
BEGIN:STANDARD
TZOFFSETFROM:-0500
TZOFFSETTO:-0600
TZNAME:CST
DTSTART:20241103T070000
END:STANDARD
BEGIN:DAYLIGHT
TZOFFSETFROM:-0600
TZOFFSETTO:-0500
TZNAME:CDT
DTSTART:20250309T080000
END:DAYLIGHT
BEGIN:STANDARD
TZOFFSETFROM:-0500
TZOFFSETTO:-0600
TZNAME:CST
DTSTART:20251102T070000
END:STANDARD
END:VTIMEZONE
BEGIN:VEVENT
DTSTART;TZID=America/Chicago:20250213T190000
DTEND;TZID=America/Chicago:20250213T210000
DTSTAMP:20260420T070345
CREATED:20250209T171831Z
LAST-MODIFIED:20250209T171831Z
UID:39566-1739473200-1739480400@statelinekids.com
SUMMARY:Moms Unhinged Stand Up Comedy
DESCRIPTION:Adults 21 and up can enjoy a comedy show about motherhood\, midlife crisis\, marriage\, and more\, Get tickets here.
URL:https://statelinekids.com/event/moms-unhinged-stand-up-comedy-3/
LOCATION:Rockford Women’s Club\, 323 Park Avenue\, Rockford\, IL\, United States
CATEGORIES:Rockford
END:VEVENT
BEGIN:VEVENT
DTSTART;TZID=America/Chicago:20240913T193000
DTEND;TZID=America/Chicago:20240913T213000
DTSTAMP:20260420T070345
CREATED:20240907T185936Z
LAST-MODIFIED:20240907T185936Z
UID:37534-1726255800-1726263000@statelinekids.com
SUMMARY:Moms Unhinged Stand Up Comedy
DESCRIPTION:Enjoy a night of comedy about motherhood\, marriage\, divorce\, and more. Get tickets here.
URL:https://statelinekids.com/event/moms-unhinged-stand-up-comedy/
LOCATION:Rockford Women’s Club\, 323 Park Avenue\, Rockford\, IL\, United States
CATEGORIES:Rockford
END:VEVENT
END:VCALENDAR