BEGIN:VCALENDAR
VERSION:2.0
PRODID:-//Stateline Kids - ECPv6.5.1.3//NONSGML v1.0//EN
CALSCALE:GREGORIAN
METHOD:PUBLISH
X-ORIGINAL-URL:https://statelinekids.com
X-WR-CALDESC:Events for Stateline Kids
REFRESH-INTERVAL;VALUE=DURATION:PT1H
X-Robots-Tag:noindex
X-PUBLISHED-TTL:PT1H
BEGIN:VTIMEZONE
TZID:America/Chicago
BEGIN:DAYLIGHT
TZOFFSETFROM:-0600
TZOFFSETTO:-0500
TZNAME:CDT
DTSTART:20220313T080000
END:DAYLIGHT
BEGIN:STANDARD
TZOFFSETFROM:-0500
TZOFFSETTO:-0600
TZNAME:CST
DTSTART:20221106T070000
END:STANDARD
END:VTIMEZONE
BEGIN:VEVENT
DTSTART;TZID=America/Chicago:20220827T100000
DTEND;TZID=America/Chicago:20220827T170000
DTSTAMP:20260424T185932
CREATED:20220820T201757Z
LAST-MODIFIED:20220820T201757Z
UID:23032-1661594400-1661619600@statelinekids.com
SUMMARY:End of Summer Celebration
DESCRIPTION:Stop by to enjoy some popcorn\, games\, face painting\, ice cream specials and pie-ing the barista.
URL:https://statelinekids.com/event/end-of-summer-celebration/
LOCATION:Rockford Roasting Company at Embassy Suites\, 416 S. Main St.\, Rockford\, IL\, United States
CATEGORIES:Rockford
END:VEVENT
END:VCALENDAR