BEGIN:VCALENDAR
VERSION:2.0
PRODID:-//Stateline Kids - ECPv6.5.1.3//NONSGML v1.0//EN
CALSCALE:GREGORIAN
METHOD:PUBLISH
X-ORIGINAL-URL:https://statelinekids.com
X-WR-CALDESC:Events for Stateline Kids
REFRESH-INTERVAL;VALUE=DURATION:PT1H
X-Robots-Tag:noindex
X-PUBLISHED-TTL:PT1H
BEGIN:VTIMEZONE
TZID:America/Chicago
BEGIN:DAYLIGHT
TZOFFSETFROM:-0600
TZOFFSETTO:-0500
TZNAME:CDT
DTSTART:20180311T080000
END:DAYLIGHT
BEGIN:STANDARD
TZOFFSETFROM:-0500
TZOFFSETTO:-0600
TZNAME:CST
DTSTART:20181104T070000
END:STANDARD
BEGIN:DAYLIGHT
TZOFFSETFROM:-0600
TZOFFSETTO:-0500
TZNAME:CDT
DTSTART:20190310T080000
END:DAYLIGHT
BEGIN:STANDARD
TZOFFSETFROM:-0500
TZOFFSETTO:-0600
TZNAME:CST
DTSTART:20191103T070000
END:STANDARD
BEGIN:DAYLIGHT
TZOFFSETFROM:-0600
TZOFFSETTO:-0500
TZNAME:CDT
DTSTART:20200308T080000
END:DAYLIGHT
BEGIN:STANDARD
TZOFFSETFROM:-0500
TZOFFSETTO:-0600
TZNAME:CST
DTSTART:20201101T070000
END:STANDARD
BEGIN:DAYLIGHT
TZOFFSETFROM:-0600
TZOFFSETTO:-0500
TZNAME:CDT
DTSTART:20210314T080000
END:DAYLIGHT
BEGIN:STANDARD
TZOFFSETFROM:-0500
TZOFFSETTO:-0600
TZNAME:CST
DTSTART:20211107T070000
END:STANDARD
BEGIN:DAYLIGHT
TZOFFSETFROM:-0600
TZOFFSETTO:-0500
TZNAME:CDT
DTSTART:20220313T080000
END:DAYLIGHT
BEGIN:STANDARD
TZOFFSETFROM:-0500
TZOFFSETTO:-0600
TZNAME:CST
DTSTART:20221106T070000
END:STANDARD
BEGIN:DAYLIGHT
TZOFFSETFROM:-0600
TZOFFSETTO:-0500
TZNAME:CDT
DTSTART:20230312T080000
END:DAYLIGHT
BEGIN:STANDARD
TZOFFSETFROM:-0500
TZOFFSETTO:-0600
TZNAME:CST
DTSTART:20231105T070000
END:STANDARD
BEGIN:DAYLIGHT
TZOFFSETFROM:-0600
TZOFFSETTO:-0500
TZNAME:CDT
DTSTART:20240310T080000
END:DAYLIGHT
BEGIN:STANDARD
TZOFFSETFROM:-0500
TZOFFSETTO:-0600
TZNAME:CST
DTSTART:20241103T070000
END:STANDARD
BEGIN:DAYLIGHT
TZOFFSETFROM:-0600
TZOFFSETTO:-0500
TZNAME:CDT
DTSTART:20250309T080000
END:DAYLIGHT
BEGIN:STANDARD
TZOFFSETFROM:-0500
TZOFFSETTO:-0600
TZNAME:CST
DTSTART:20251102T070000
END:STANDARD
END:VTIMEZONE
BEGIN:VEVENT
DTSTART;TZID=America/Chicago:20250705T090000
DTEND;TZID=America/Chicago:20250705T120000
DTSTAMP:20260424T044336
CREATED:20250628T210326Z
LAST-MODIFIED:20250628T210326Z
UID:41229-1751706000-1751716800@statelinekids.com
SUMMARY:Cars and Coffee: Car Show
DESCRIPTION:Check out cool cars\, live music\, food for purchase\, Hot Wheels and more.
URL:https://statelinekids.com/event/cars-and-coffee-car-show-2/
LOCATION:Rockford Public School Building\, 501 7th Street\, Rockford\, IL\, United States
CATEGORIES:Rockford
END:VEVENT
BEGIN:VEVENT
DTSTART;TZID=America/Chicago:20250405T090000
DTEND;TZID=America/Chicago:20250405T120000
DTSTAMP:20260424T044336
CREATED:20250329T193049Z
LAST-MODIFIED:20250329T193049Z
UID:40017-1743843600-1743854400@statelinekids.com
SUMMARY:Cars and Coffee Rockford
DESCRIPTION:Check out a variety of cool cars and appearances from local mascots.
URL:https://statelinekids.com/event/cars-and-coffee-rockford-3/
LOCATION:Rockford Public School Building\, 501 7th Street\, Rockford\, IL\, United States
CATEGORIES:Rockford
END:VEVENT
BEGIN:VEVENT
DTSTART;TZID=America/Chicago:20230701T090000
DTEND;TZID=America/Chicago:20230701T120000
DTSTAMP:20260424T044336
CREATED:20230623T223059Z
LAST-MODIFIED:20230623T223059Z
UID:29003-1688202000-1688212800@statelinekids.com
SUMMARY:Cars and Coffee
DESCRIPTION:Enjoy hundreds of cars\, live music\, a Monster Truck\, hot dog lunch\, and a lot more.
URL:https://statelinekids.com/event/cars-and-coffee-6/
LOCATION:Rockford Public School Building\, 501 7th Street\, Rockford\, IL\, United States
CATEGORIES:Rockford
END:VEVENT
BEGIN:VEVENT
DTSTART;TZID=America/Chicago:20230401T090000
DTEND;TZID=America/Chicago:20230401T120000
DTSTAMP:20260424T044336
CREATED:20230325T233448Z
LAST-MODIFIED:20230325T233448Z
UID:27109-1680339600-1680350400@statelinekids.com
SUMMARY:Cars and Coffee
DESCRIPTION:Check out hundreds of cars\, a hooptie contest\, special guest Hammy from the IceHogs and more.
URL:https://statelinekids.com/event/cars-and-coffee-5/
LOCATION:Rockford Public School Building\, 501 7th Street\, Rockford\, IL\, United States
CATEGORIES:Rockford
END:VEVENT
BEGIN:VEVENT
DTSTART;TZID=America/Chicago:20191028T180000
DTEND;TZID=America/Chicago:20191028T200000
DTSTAMP:20260424T044336
CREATED:20191014T205636Z
LAST-MODIFIED:20191014T205636Z
UID:8102-1572285600-1572292800@statelinekids.com
SUMMARY:City Wide Trunk or Treat
DESCRIPTION:Trunk or treat from the trunk of a police car\, ambulance\, fire truck and more.
URL:https://statelinekids.com/event/city-wide-trunk-or-treat-2/
LOCATION:Rockford Public School Building\, 501 7th Street\, Rockford\, IL\, United States
CATEGORIES:Rockford
END:VEVENT
BEGIN:VEVENT
DTSTART;TZID=America/Chicago:20181029T180000
DTEND;TZID=America/Chicago:20181029T200000
DTSTAMP:20260424T044336
CREATED:20181014T210929Z
LAST-MODIFIED:20181014T210929Z
UID:3286-1540836000-1540843200@statelinekids.com
SUMMARY:City Wide Trunk or Treat
DESCRIPTION:Trunk or treat from the trunk of a fire engine\, police car\, and ambulance. All kids will get a Halloween bag and glow stick.
URL:https://statelinekids.com/event/city-wide-trunk-or-treat/
LOCATION:Rockford Public School Building\, 501 7th Street\, Rockford\, IL\, United States
CATEGORIES:Rockford
END:VEVENT
END:VCALENDAR