BEGIN:VCALENDAR
VERSION:2.0
PRODID:-//Stateline Kids - ECPv6.5.1.3//NONSGML v1.0//EN
CALSCALE:GREGORIAN
METHOD:PUBLISH
X-ORIGINAL-URL:https://statelinekids.com
X-WR-CALDESC:Events for Stateline Kids
REFRESH-INTERVAL;VALUE=DURATION:PT1H
X-Robots-Tag:noindex
X-PUBLISHED-TTL:PT1H
BEGIN:VTIMEZONE
TZID:America/Chicago
BEGIN:DAYLIGHT
TZOFFSETFROM:-0600
TZOFFSETTO:-0500
TZNAME:CDT
DTSTART:20200308T080000
END:DAYLIGHT
BEGIN:STANDARD
TZOFFSETFROM:-0500
TZOFFSETTO:-0600
TZNAME:CST
DTSTART:20201101T070000
END:STANDARD
BEGIN:DAYLIGHT
TZOFFSETFROM:-0600
TZOFFSETTO:-0500
TZNAME:CDT
DTSTART:20210314T080000
END:DAYLIGHT
BEGIN:STANDARD
TZOFFSETFROM:-0500
TZOFFSETTO:-0600
TZNAME:CST
DTSTART:20211107T070000
END:STANDARD
BEGIN:DAYLIGHT
TZOFFSETFROM:-0600
TZOFFSETTO:-0500
TZNAME:CDT
DTSTART:20220313T080000
END:DAYLIGHT
BEGIN:STANDARD
TZOFFSETFROM:-0500
TZOFFSETTO:-0600
TZNAME:CST
DTSTART:20221106T070000
END:STANDARD
BEGIN:DAYLIGHT
TZOFFSETFROM:-0600
TZOFFSETTO:-0500
TZNAME:CDT
DTSTART:20230312T080000
END:DAYLIGHT
BEGIN:STANDARD
TZOFFSETFROM:-0500
TZOFFSETTO:-0600
TZNAME:CST
DTSTART:20231105T070000
END:STANDARD
BEGIN:DAYLIGHT
TZOFFSETFROM:-0600
TZOFFSETTO:-0500
TZNAME:CDT
DTSTART:20240310T080000
END:DAYLIGHT
BEGIN:STANDARD
TZOFFSETFROM:-0500
TZOFFSETTO:-0600
TZNAME:CST
DTSTART:20241103T070000
END:STANDARD
BEGIN:DAYLIGHT
TZOFFSETFROM:-0600
TZOFFSETTO:-0500
TZNAME:CDT
DTSTART:20250309T080000
END:DAYLIGHT
BEGIN:STANDARD
TZOFFSETFROM:-0500
TZOFFSETTO:-0600
TZNAME:CST
DTSTART:20251102T070000
END:STANDARD
END:VTIMEZONE
BEGIN:VEVENT
DTSTART;TZID=America/Chicago:20250109T101500
DTEND;TZID=America/Chicago:20250109T110000
DTSTAMP:20260421T122810
CREATED:20250101T233412Z
LAST-MODIFIED:20250101T233412Z
UID:39156-1736417700-1736420400@statelinekids.com
SUMMARY:Preschool Storytime
DESCRIPTION:Preschool age kids can make new friends\, listen to stories\, and have fun.
URL:https://statelinekids.com/event/preschool-storytime-62/
LOCATION:Rockford Public Library East\, 6685 East State Street\, Rockford\, IL\, United States
CATEGORIES:Rockford
END:VEVENT
BEGIN:VEVENT
DTSTART;TZID=America/Chicago:20250107T180000
DTEND;TZID=America/Chicago:20250107T184500
DTSTAMP:20260421T122810
CREATED:20250101T233743Z
LAST-MODIFIED:20250101T233743Z
UID:39159-1736272800-1736275500@statelinekids.com
SUMMARY:Evening Storytime
DESCRIPTION:Preschoolers through first graders can enjoy a storytime and activities.
URL:https://statelinekids.com/event/evening-storytime-6/
LOCATION:Rockford Public Library East\, 6685 East State Street\, Rockford\, IL\, United States
CATEGORIES:Rockford
END:VEVENT
BEGIN:VEVENT
DTSTART;TZID=America/Chicago:20240727T140000
DTEND;TZID=America/Chicago:20240727T150000
DTSTAMP:20260421T122810
CREATED:20240720T182402Z
LAST-MODIFIED:20240720T182402Z
UID:36979-1722088800-1722092400@statelinekids.com
SUMMARY:Northern Illinois Raptor Rehab Education
DESCRIPTION:Learn about birds and see them up close. Register here.
URL:https://statelinekids.com/event/northern-illinois-raptor-rehab-education/
LOCATION:Rockford Public Library East\, 6685 East State Street\, Rockford\, IL\, United States
CATEGORIES:Rockford
END:VEVENT
BEGIN:VEVENT
DTSTART;TZID=America/Chicago:20240302T103000
DTEND;TZID=America/Chicago:20240302T120000
DTSTAMP:20260421T122810
CREATED:20240225T202310Z
LAST-MODIFIED:20240225T202310Z
UID:33604-1709375400-1709380800@statelinekids.com
SUMMARY:Best Friend Friendship Bracelets
DESCRIPTION:Learn how to make friendship bracelets in honor of Women’s History Month. Register here.
URL:https://statelinekids.com/event/best-friend-friendship-bracelets/
LOCATION:Rockford Public Library East\, 6685 East State Street\, Rockford\, IL\, United States
CATEGORIES:Rockford
END:VEVENT
BEGIN:VEVENT
DTSTART;TZID=America/Chicago:20240208T180000
DTEND;TZID=America/Chicago:20240208T190000
DTSTAMP:20260421T122810
CREATED:20240204T202024Z
LAST-MODIFIED:20240204T202024Z
UID:33285-1707415200-1707418800@statelinekids.com
SUMMARY:Friendship Bracelet Making
DESCRIPTION:Make friendship bracelets with beads and string provided.
URL:https://statelinekids.com/event/friendship-bracelet-making-2/
LOCATION:Rockford Public Library East\, 6685 East State Street\, Rockford\, IL\, United States
CATEGORIES:Rockford
END:VEVENT
BEGIN:VEVENT
DTSTART;TZID=America/Chicago:20240120T153000
DTEND;TZID=America/Chicago:20240120T163000
DTSTAMP:20260421T122810
CREATED:20240114T233048Z
LAST-MODIFIED:20240114T233105Z
UID:33007-1705764600-1705768200@statelinekids.com
SUMMARY:Vision Board Party
DESCRIPTION:Create a vision board for your goals and dreams for 2024. Register here.
URL:https://statelinekids.com/event/vision-board-party/
LOCATION:Rockford Public Library East\, 6685 East State Street\, Rockford\, IL\, United States
CATEGORIES:Rockford
END:VEVENT
BEGIN:VEVENT
DTSTART;TZID=America/Chicago:20240111T101500
DTEND;TZID=America/Chicago:20240111T110000
DTSTAMP:20260421T122810
CREATED:20240106T234952Z
LAST-MODIFIED:20240106T234952Z
UID:32888-1704968100-1704970800@statelinekids.com
SUMMARY:Preschool Storytime
DESCRIPTION:Preschoolers can enjoy a storytime\, get moving\, and meet new friends.
URL:https://statelinekids.com/event/preschool-storytime-61/
LOCATION:Rockford Public Library East\, 6685 East State Street\, Rockford\, IL\, United States
CATEGORIES:Rockford
END:VEVENT
BEGIN:VEVENT
DTSTART;TZID=America/Chicago:20240109T170000
DTEND;TZID=America/Chicago:20240109T184500
DTSTAMP:20260421T122810
CREATED:20240106T232648Z
LAST-MODIFIED:20240106T232648Z
UID:32875-1704819600-1704825900@statelinekids.com
SUMMARY:Evening Storytime: Stories\, Songs\, Rhymes\, and Coloring
DESCRIPTION:Preschoolers can enjoy listening to stories and enjoy some coloring time.
URL:https://statelinekids.com/event/evening-storytime-stories-songs-rhymes-and-coloring/
LOCATION:Rockford Public Library East\, 6685 East State Street\, Rockford\, IL\, United States
CATEGORIES:Rockford
END:VEVENT
BEGIN:VEVENT
DTSTART;TZID=America/Chicago:20240108T100000
DTEND;TZID=America/Chicago:20240108T110000
DTSTAMP:20260421T122810
CREATED:20240106T234354Z
LAST-MODIFIED:20240106T234354Z
UID:32885-1704708000-1704711600@statelinekids.com
SUMMARY:Play Time (Ages 0-2)
DESCRIPTION:Kids ages 0-2 can play while adults socialize with each other. No storytime is provided and no snacks are allowed.
URL:https://statelinekids.com/event/play-time-ages-0-2/
LOCATION:Rockford Public Library East\, 6685 East State Street\, Rockford\, IL\, United States
CATEGORIES:Rockford
END:VEVENT
BEGIN:VEVENT
DTSTART;TZID=America/Chicago:20231226T160000
DTEND;TZID=America/Chicago:20231226T180000
DTSTAMP:20260421T122810
CREATED:20231222T165832Z
LAST-MODIFIED:20231222T165832Z
UID:32770-1703606400-1703613600@statelinekids.com
SUMMARY:Winter Break Bingo for Teens
DESCRIPTION:Teens ages 13-19 can play bingo at the library and win great prizes including a ham.
URL:https://statelinekids.com/event/winter-break-bingo-for-teens/2023-12-26/
LOCATION:Rockford Public Library East\, 6685 East State Street\, Rockford\, IL\, United States
CATEGORIES:Rockford
END:VEVENT
BEGIN:VEVENT
DTSTART;TZID=America/Chicago:20231019T150000
DTEND;TZID=America/Chicago:20231019T170000
DTSTAMP:20260421T122810
CREATED:20231015T162933Z
LAST-MODIFIED:20231015T162933Z
UID:31388-1697727600-1697734800@statelinekids.com
SUMMARY:Escape the Library Puzzles and Pages
DESCRIPTION:Teens can enjoy learning about constellations\, their origins\, and their current spot in the sky then make a space themed craft together.
URL:https://statelinekids.com/event/escape-the-library-puzzles-and-pages/
LOCATION:Rockford Public Library East\, 6685 East State Street\, Rockford\, IL\, United States
CATEGORIES:Rockford
END:VEVENT
BEGIN:VEVENT
DTSTART;TZID=America/Chicago:20231014T113000
DTEND;TZID=America/Chicago:20231014T130000
DTSTAMP:20260421T122810
CREATED:20231008T154646Z
LAST-MODIFIED:20231008T154646Z
UID:31232-1697283000-1697288400@statelinekids.com
SUMMARY:Annular (Ring) Solar Eclipse Viewing Party
DESCRIPTION:View the eclipse with safety glasses\, crackers\, and colanders. This event will be canceled if it is overcast.
URL:https://statelinekids.com/event/annular-ring-solar-eclipse-viewing-party/
LOCATION:Rockford Public Library East\, 6685 East State Street\, Rockford\, IL\, United States
CATEGORIES:Rockford
END:VEVENT
BEGIN:VEVENT
DTSTART;TZID=America/Chicago:20230823T160000
DTEND;TZID=America/Chicago:20230823T180000
DTSTAMP:20260421T122810
CREATED:20230818T163929Z
LAST-MODIFIED:20230818T163929Z
UID:30041-1692806400-1692813600@statelinekids.com
SUMMARY:Foundational Stitches (Teen Crochet Club)
DESCRIPTION:Teens ages 13-19 can bring their hooks and learn how to do crochet basics.
URL:https://statelinekids.com/event/foundational-stitches-teen-crochet-club/
LOCATION:Rockford Public Library East\, 6685 East State Street\, Rockford\, IL\, United States
CATEGORIES:Rockford
END:VEVENT
BEGIN:VEVENT
DTSTART;TZID=America/Chicago:20230811T140000
DTEND;TZID=America/Chicago:20230811T143000
DTSTAMP:20260421T122810
CREATED:20230805T175711Z
LAST-MODIFIED:20230805T175711Z
UID:29826-1691762400-1691764200@statelinekids.com
SUMMARY:Drawn Together Teen Art
DESCRIPTION:Kids ages 13-19 can sketch and create art with like-minded individuals in a laid back space. Meet in the Teen Lounge.
URL:https://statelinekids.com/event/drawn-together-teen-art/
LOCATION:Rockford Public Library East\, 6685 East State Street\, Rockford\, IL\, United States
CATEGORIES:Rockford
END:VEVENT
BEGIN:VEVENT
DTSTART;TZID=America/Chicago:20230801T180000
DTEND;TZID=America/Chicago:20230801T184500
DTSTAMP:20260421T122810
CREATED:20230730T165010Z
LAST-MODIFIED:20230730T165010Z
UID:29696-1690912800-1690915500@statelinekids.com
SUMMARY:Evening Storytime
DESCRIPTION:Enjoy a storytime with songs\, rhymes\, and coloring geared toward kindergarteners and first graders.
URL:https://statelinekids.com/event/evening-storytime-5/
LOCATION:Rockford Public Library East\, 6685 East State Street\, Rockford\, IL\, United States
CATEGORIES:Rockford
END:VEVENT
BEGIN:VEVENT
DTSTART;TZID=America/Chicago:20230708T110000
DTEND;TZID=America/Chicago:20230708T140000
DTSTAMP:20260421T122810
CREATED:20230701T175342Z
LAST-MODIFIED:20230701T175342Z
UID:29206-1688814000-1688824800@statelinekids.com
SUMMARY:Free Mini Lessons with Guitar Center
DESCRIPTION:Anyone ages 8 and up can learn to play a guitar riff. Register here.
URL:https://statelinekids.com/event/free-mini-lessons-with-guitar-center/
LOCATION:Rockford Public Library East\, 6685 East State Street\, Rockford\, IL\, United States
CATEGORIES:Rockford
END:VEVENT
BEGIN:VEVENT
DTSTART;TZID=America/Chicago:20230206T110000
DTEND;TZID=America/Chicago:20230206T120000
DTSTAMP:20260421T122810
CREATED:20230205T174918Z
LAST-MODIFIED:20230205T174918Z
UID:26280-1675681200-1675684800@statelinekids.com
SUMMARY:School’s Out - Create
DESCRIPTION:Kids ages 6-11 can make stacked hearts for Valentine’s Day. Register here.
URL:https://statelinekids.com/event/schools-out-create/
LOCATION:Rockford Public Library East\, 6685 East State Street\, Rockford\, IL\, United States
CATEGORIES:Rockford
END:VEVENT
BEGIN:VEVENT
DTSTART;TZID=America/Chicago:20230131T180000
DTEND;TZID=America/Chicago:20230131T184500
DTSTAMP:20260421T122810
CREATED:20230129T212748Z
LAST-MODIFIED:20230129T212748Z
UID:26153-1675188000-1675190700@statelinekids.com
SUMMARY:Evening Storytime
DESCRIPTION:Kids ages 3-7 can enjoy storytime\, songs\, and coloring.
URL:https://statelinekids.com/event/evening-storytime-4/2023-01-31/
LOCATION:Rockford Public Library East\, 6685 East State Street\, Rockford\, IL\, United States
CATEGORIES:Rockford
END:VEVENT
BEGIN:VEVENT
DTSTART;TZID=America/Chicago:20221213T183000
DTEND;TZID=America/Chicago:20221213T193000
DTSTAMP:20260421T122810
CREATED:20221211T193543Z
LAST-MODIFIED:20221211T193543Z
UID:25315-1670956200-1670959800@statelinekids.com
SUMMARY:DATE NIGHT: Holiday Spirits: Celebrate the Longest Night of the Year
DESCRIPTION:Enjoy a night of spooky stories about holiday horrors.
URL:https://statelinekids.com/event/date-night-holiday-spirits-celebrate-the-longest-night-of-the-year/
LOCATION:Rockford Public Library East\, 6685 East State Street\, Rockford\, IL\, United States
CATEGORIES:Rockford
END:VEVENT
BEGIN:VEVENT
DTSTART;TZID=America/Chicago:20221101T180000
DTEND;TZID=America/Chicago:20221101T184500
DTSTAMP:20260421T122810
CREATED:20221030T160938Z
LAST-MODIFIED:20221030T160938Z
UID:24691-1667325600-1667328300@statelinekids.com
SUMMARY:Evening Storytime
DESCRIPTION:Kids can enjoy stories\, sing songs\, and rhymes\, and do some coloring.
URL:https://statelinekids.com/event/evening-storytime-3/2022-11-01/
LOCATION:Rockford Public Library East\, 6685 East State Street\, Rockford\, IL\, United States
CATEGORIES:Rockford
END:VEVENT
BEGIN:VEVENT
DTSTART;TZID=America/Chicago:20221011T180000
DTEND;TZID=America/Chicago:20221011T184500
DTSTAMP:20260421T122810
CREATED:20221008T211932Z
LAST-MODIFIED:20221008T211932Z
UID:24182-1665511200-1665513900@statelinekids.com
SUMMARY:Evening Storytime
DESCRIPTION:Enjoy a storytime with songs\, rhymes\, and coloring time.
URL:https://statelinekids.com/event/evening-storytime-2/2022-10-11/
LOCATION:Rockford Public Library East\, 6685 East State Street\, Rockford\, IL\, United States
CATEGORIES:Rockford
END:VEVENT
BEGIN:VEVENT
DTSTART;TZID=America/Chicago:20210814T110000
DTEND;TZID=America/Chicago:20210814T120000
DTSTAMP:20260421T122810
CREATED:20210808T203132Z
LAST-MODIFIED:20210808T203132Z
UID:17047-1628938800-1628942400@statelinekids.com
SUMMARY:Rockford Day Book Reading
DESCRIPTION:Kids ages 2-7 can listen to Rockford author Kayla Clark read her books You Be Mommy and You Be Daddy and make a craft. Masks are required for this outdoor event.
URL:https://statelinekids.com/event/rockford-day-book-reading/
LOCATION:Rockford Public Library East\, 6685 East State Street\, Rockford\, IL\, United States
CATEGORIES:Rockford
END:VEVENT
BEGIN:VEVENT
DTSTART;TZID=America/Chicago:20200309T174500
DTEND;TZID=America/Chicago:20200309T194500
DTSTAMP:20260421T122810
CREATED:20200307T163043Z
LAST-MODIFIED:20200307T163043Z
UID:10087-1583775900-1583783100@statelinekids.com
SUMMARY:Chess Night @ RPL East
DESCRIPTION:Learn how to play chess. This is open to all learners of all ages. No registration required.
URL:https://statelinekids.com/event/chess-night-rpl-east/
LOCATION:Rockford Public Library East\, 6685 East State Street\, Rockford\, IL\, United States
CATEGORIES:Rockford
END:VEVENT
BEGIN:VEVENT
DTSTART;TZID=America/Chicago:20200225T091500
DTEND;TZID=America/Chicago:20200225T100000
DTSTAMP:20260421T122810
CREATED:20200222T195215Z
LAST-MODIFIED:20200222T195215Z
UID:9963-1582622100-1582624800@statelinekids.com
SUMMARY:Preschool Storytime at RPL East
DESCRIPTION:Kids ages 2-5 can listen to a story\, sing songs\, and make a craft.
URL:https://statelinekids.com/event/preschool-storytime-at-rpl-east-9/
LOCATION:Rockford Public Library East\, 6685 East State Street\, Rockford\, IL\, United States
CATEGORIES:Rockford
END:VEVENT
BEGIN:VEVENT
DTSTART;TZID=America/Chicago:20200218T091500
DTEND;TZID=America/Chicago:20200218T100000
DTSTAMP:20260421T122810
CREATED:20200215T223130Z
LAST-MODIFIED:20200215T223130Z
UID:9851-1582017300-1582020000@statelinekids.com
SUMMARY:Preschool Storytime at RPL East
DESCRIPTION:Kids ages 2-5 can listen to a story\, sing songs\, and make a craft.
URL:https://statelinekids.com/event/preschool-storytime-at-rpl-east-8/
LOCATION:Rockford Public Library East\, 6685 East State Street\, Rockford\, IL\, United States
CATEGORIES:Rockford
END:VEVENT
BEGIN:VEVENT
DTSTART;TZID=America/Chicago:20200211T091500
DTEND;TZID=America/Chicago:20200211T100000
DTSTAMP:20260421T122810
CREATED:20200208T232013Z
LAST-MODIFIED:20200208T232013Z
UID:9762-1581412500-1581415200@statelinekids.com
SUMMARY:Preschool Storytime at RPL East
DESCRIPTION:Kids ages 2-5 can listen to a story\, sing songs\, and make a craft.
URL:https://statelinekids.com/event/preschool-storytime-at-rpl-east-7/
LOCATION:Rockford Public Library East\, 6685 East State Street\, Rockford\, IL\, United States
CATEGORIES:Rockford
END:VEVENT
BEGIN:VEVENT
DTSTART;TZID=America/Chicago:20200204T091500
DTEND;TZID=America/Chicago:20200204T100000
DTSTAMP:20260421T122810
CREATED:20200201T183908Z
LAST-MODIFIED:20200201T183908Z
UID:9673-1580807700-1580810400@statelinekids.com
SUMMARY:Preschool Storytime at RPL East
DESCRIPTION:Kids ages 2-5 can listen to a story\, sing songs\, and make a craft.
URL:https://statelinekids.com/event/preschool-storytime-at-rpl-east-6/
LOCATION:Rockford Public Library East\, 6685 East State Street\, Rockford\, IL\, United States
CATEGORIES:Rockford
END:VEVENT
BEGIN:VEVENT
DTSTART;TZID=America/Chicago:20200128T091500
DTEND;TZID=America/Chicago:20200128T100000
DTSTAMP:20260421T122810
CREATED:20200125T223215Z
LAST-MODIFIED:20200125T223215Z
UID:9599-1580202900-1580205600@statelinekids.com
SUMMARY:Preschool Storytime at RPL East
DESCRIPTION:Kids ages 2-5 can listen to a story\, sing songs\, and make a craft.
URL:https://statelinekids.com/event/preschool-storytime-at-rpl-east-5/
LOCATION:Rockford Public Library East\, 6685 East State Street\, Rockford\, IL\, United States
CATEGORIES:Rockford
END:VEVENT
BEGIN:VEVENT
DTSTART;TZID=America/Chicago:20200121T091500
DTEND;TZID=America/Chicago:20200121T100000
DTSTAMP:20260421T122810
CREATED:20200119T211812Z
LAST-MODIFIED:20200119T211812Z
UID:9523-1579598100-1579600800@statelinekids.com
SUMMARY:Preschool Storytime at RPL East
DESCRIPTION:Kids ages 2-5 can listen to a story\, sing songs\, and make a craft.
URL:https://statelinekids.com/event/preschool-storytime-at-rpl-east-4/
LOCATION:Rockford Public Library East\, 6685 East State Street\, Rockford\, IL\, United States
CATEGORIES:Rockford
END:VEVENT
BEGIN:VEVENT
DTSTART;TZID=America/Chicago:20200114T091500
DTEND;TZID=America/Chicago:20200114T100000
DTSTAMP:20260421T122810
CREATED:20200111T200719Z
LAST-MODIFIED:20200111T200719Z
UID:9443-1578993300-1578996000@statelinekids.com
SUMMARY:Preschool Storytime at RPL East
DESCRIPTION:Kids ages 2-5 can listen to a story\, sing songs\, and make a craft.
URL:https://statelinekids.com/event/preschool-storytime-at-rpl-east-3/
LOCATION:Rockford Public Library East\, 6685 East State Street\, Rockford\, IL\, United States
CATEGORIES:Rockford
END:VEVENT
END:VCALENDAR