BEGIN:VCALENDAR
VERSION:2.0
PRODID:-//Stateline Kids - ECPv6.5.1.3//NONSGML v1.0//EN
CALSCALE:GREGORIAN
METHOD:PUBLISH
X-WR-CALNAME:Stateline Kids
X-ORIGINAL-URL:https://statelinekids.com
X-WR-CALDESC:Events for Stateline Kids
REFRESH-INTERVAL;VALUE=DURATION:PT1H
X-Robots-Tag:noindex
X-PUBLISHED-TTL:PT1H
BEGIN:VTIMEZONE
TZID:America/Chicago
BEGIN:DAYLIGHT
TZOFFSETFROM:-0600
TZOFFSETTO:-0500
TZNAME:CDT
DTSTART:20180311T080000
END:DAYLIGHT
BEGIN:STANDARD
TZOFFSETFROM:-0500
TZOFFSETTO:-0600
TZNAME:CST
DTSTART:20181104T070000
END:STANDARD
END:VTIMEZONE
BEGIN:VEVENT
DTSTART;TZID=America/Chicago:20180811T120000
DTEND;TZID=America/Chicago:20180811T170000
DTSTAMP:20260422T220543
CREATED:20180808T152953Z
LAST-MODIFIED:20180808T152953Z
UID:1665-1533988800-1534006800@statelinekids.com
SUMMARY:School House Rock the Blocks
DESCRIPTION:Bring your bathing suits\, towels and toys to play with in the sand! The River District is giving you one more trip to the beach before school starts… and you don’t even have to leave downtown Rockford! We have a carpenter making sandboxes just the like the one pictured here\, and we’re filling them with sand over by the water fountain near City Market Pavilion. Kid acts will headline the entertainment under the pavilion. We have supersized versions of their favorite games to play. Different after school programs will be there at our expo to help families find fun stuff to do throughout the school year with the kiddos. And get this… it’s all free! So join us from 12 – 5 pm this Saturday\, August 11 for the final installment of the 2018 summer Shop the Blocks series! Grab lunch and go shopping downtown while you’re down there and help support our local businesses.
URL:https://statelinekids.com/event/school-house-rock-the-blocks/
LOCATION:Rockford City Market\, Water Street and Market Street\, Rockford\, IL\, United States
CATEGORIES:Rockford
END:VEVENT
BEGIN:VEVENT
DTSTART;TZID=America/Chicago:20180713T160000
DTEND;TZID=America/Chicago:20180713T200000
DTSTAMP:20260422T220543
CREATED:20180707T030926Z
LAST-MODIFIED:20180707T030926Z
UID:724-1531497600-1531512000@statelinekids.com
SUMMARY:Trolley Car 36 City Market Rides
DESCRIPTION:Trolley Car 36 will run during Rockford City Market from June 1 – September 7 from 4-8 pm. Our FREE City Market rides will board at the north Madison Street Market entrance and run every half hour.
URL:https://statelinekids.com/event/trolley-car-36-city-market-rides/
LOCATION:Rockford City Market\, Water Street and Market Street\, Rockford\, IL\, United States
CATEGORIES:Rockford
END:VEVENT
END:VCALENDAR