BEGIN:VCALENDAR
VERSION:2.0
PRODID:-//Stateline Kids - ECPv6.5.1.3//NONSGML v1.0//EN
CALSCALE:GREGORIAN
METHOD:PUBLISH
X-ORIGINAL-URL:https://statelinekids.com
X-WR-CALDESC:Events for Stateline Kids
REFRESH-INTERVAL;VALUE=DURATION:PT1H
X-Robots-Tag:noindex
X-PUBLISHED-TTL:PT1H
BEGIN:VTIMEZONE
TZID:America/Chicago
BEGIN:DAYLIGHT
TZOFFSETFROM:-0600
TZOFFSETTO:-0500
TZNAME:CDT
DTSTART:20200308T080000
END:DAYLIGHT
BEGIN:STANDARD
TZOFFSETFROM:-0500
TZOFFSETTO:-0600
TZNAME:CST
DTSTART:20201101T070000
END:STANDARD
BEGIN:DAYLIGHT
TZOFFSETFROM:-0600
TZOFFSETTO:-0500
TZNAME:CDT
DTSTART:20210314T080000
END:DAYLIGHT
BEGIN:STANDARD
TZOFFSETFROM:-0500
TZOFFSETTO:-0600
TZNAME:CST
DTSTART:20211107T070000
END:STANDARD
BEGIN:DAYLIGHT
TZOFFSETFROM:-0600
TZOFFSETTO:-0500
TZNAME:CDT
DTSTART:20220313T080000
END:DAYLIGHT
BEGIN:STANDARD
TZOFFSETFROM:-0500
TZOFFSETTO:-0600
TZNAME:CST
DTSTART:20221106T070000
END:STANDARD
BEGIN:DAYLIGHT
TZOFFSETFROM:-0600
TZOFFSETTO:-0500
TZNAME:CDT
DTSTART:20230312T080000
END:DAYLIGHT
BEGIN:STANDARD
TZOFFSETFROM:-0500
TZOFFSETTO:-0600
TZNAME:CST
DTSTART:20231105T070000
END:STANDARD
BEGIN:DAYLIGHT
TZOFFSETFROM:-0600
TZOFFSETTO:-0500
TZNAME:CDT
DTSTART:20240310T080000
END:DAYLIGHT
BEGIN:STANDARD
TZOFFSETFROM:-0500
TZOFFSETTO:-0600
TZNAME:CST
DTSTART:20241103T070000
END:STANDARD
BEGIN:DAYLIGHT
TZOFFSETFROM:-0600
TZOFFSETTO:-0500
TZNAME:CDT
DTSTART:20250309T080000
END:DAYLIGHT
BEGIN:STANDARD
TZOFFSETFROM:-0500
TZOFFSETTO:-0600
TZNAME:CST
DTSTART:20251102T070000
END:STANDARD
END:VTIMEZONE
BEGIN:VEVENT
DTSTART;TZID=America/Chicago:20250628T100000
DTEND;TZID=America/Chicago:20250628T140000
DTSTAMP:20260422T235318
CREATED:20250622T183345Z
LAST-MODIFIED:20250622T183345Z
UID:41164-1751104800-1751119200@statelinekids.com
SUMMARY:Free Print Day - Stars and Stripes
DESCRIPTION:Bring your own shirt (limit of 2) to get a free Fourth of July print.
URL:https://statelinekids.com/event/free-print-day-stars-and-stripes/
LOCATION:Rockford Art Deli\, 402 E. State St\, Rockford\, IL\, United States
CATEGORIES:Rockford
END:VEVENT
BEGIN:VEVENT
DTSTART;TZID=America/Chicago:20241214T100000
DTEND;TZID=America/Chicago:20241214T140000
DTSTAMP:20260422T235318
CREATED:20241208T200221Z
LAST-MODIFIED:20241208T200221Z
UID:38912-1734170400-1734184800@statelinekids.com
SUMMARY:Free Print Day
DESCRIPTION:Bring your own shirt or cotton item to get a black print of the Christmas design.
URL:https://statelinekids.com/event/free-print-day-4/
LOCATION:Rockford Art Deli\, 402 E. State St\, Rockford\, IL\, United States
CATEGORIES:Rockford
END:VEVENT
BEGIN:VEVENT
DTSTART;TZID=America/Chicago:20240815T110000
DTEND;TZID=America/Chicago:20240815T140000
DTSTAMP:20260422T235318
CREATED:20240810T194612Z
LAST-MODIFIED:20240810T194612Z
UID:37257-1723719600-1723730400@statelinekids.com
SUMMARY:Beats and Bites and 815 Day Live Print
DESCRIPTION:Get the classic bracket 815 shirt printed in celebration of 815 Day. There will also be food trucks on site and DJ music. \nCost: $8.15 per shirt (bring your own) $18.15 for shirt and print \n 
URL:https://statelinekids.com/event/beats-and-bites-and-815-day-live-print/
LOCATION:Rockford Art Deli\, 402 E. State St\, Rockford\, IL\, United States
CATEGORIES:Rockford
END:VEVENT
BEGIN:VEVENT
DTSTART;TZID=America/Chicago:20240629T110000
DTEND;TZID=America/Chicago:20240629T160000
DTSTAMP:20260422T235318
CREATED:20240623T200515Z
LAST-MODIFIED:20240623T200515Z
UID:36381-1719658800-1719676800@statelinekids.com
SUMMARY:Free Print Day: RAD in the USA
DESCRIPTION:Bring your own t-shirt to get a free Fourth of July print or buy a t-shirt for $10.
URL:https://statelinekids.com/event/free-print-day-rad-in-the-usa/
LOCATION:Rockford Art Deli\, 402 E. State St\, Rockford\, IL\, United States
CATEGORIES:Rockford
END:VEVENT
BEGIN:VEVENT
DTSTART;TZID=America/Chicago:20240518T100000
DTEND;TZID=America/Chicago:20240518T180000
DTSTAMP:20260422T235318
CREATED:20240512T161357Z
LAST-MODIFIED:20240512T161357Z
UID:34935-1716026400-1716055200@statelinekids.com
SUMMARY:RAD Pepper Party and Free Print Day
DESCRIPTION:Stop by to celebrate Pepper’s 10th birthday with a Bluey-themed free print\, grilled cheese\, Dairyhaus\, coloring contest\, music\, and more! Bring a donation for Noah’s Ark to enter to win a Pepper plush. \nCost: Free print / $10 per shirt if you buy shirt from RAD
URL:https://statelinekids.com/event/rad-pepper-party-and-free-print-day/
LOCATION:Rockford Art Deli\, 402 E. State St\, Rockford\, IL\, United States
CATEGORIES:Rockford
END:VEVENT
BEGIN:VEVENT
DTSTART;TZID=America/Chicago:20231216T100000
DTEND;TZID=America/Chicago:20231216T140000
DTSTAMP:20260422T235318
CREATED:20231210T210140Z
LAST-MODIFIED:20231210T210140Z
UID:32576-1702720800-1702735200@statelinekids.com
SUMMARY:Free Print Day
DESCRIPTION:Bring in your own to get a free holiday themed print or buy one for $10 each.
URL:https://statelinekids.com/event/free-print-day-3/
LOCATION:Rockford Art Deli\, 402 E. State St\, Rockford\, IL\, United States
CATEGORIES:Rockford
END:VEVENT
BEGIN:VEVENT
DTSTART;TZID=America/Chicago:20230803T120000
DTEND;TZID=America/Chicago:20230803T160000
DTSTAMP:20260422T235318
CREATED:20230729T220457Z
LAST-MODIFIED:20230729T220457Z
UID:29632-1691064000-1691078400@statelinekids.com
SUMMARY:Peaches Pop-Up Live Print
DESCRIPTION:Get a Peaches shirt printed for $19.45.
URL:https://statelinekids.com/event/peaches-pop-up-live-print/
LOCATION:Rockford Art Deli\, 402 E. State St\, Rockford\, IL\, United States
CATEGORIES:Rockford
END:VEVENT
BEGIN:VEVENT
DTSTART;TZID=America/Chicago:20230701T100000
DTEND;TZID=America/Chicago:20230701T170000
DTSTAMP:20260422T235318
CREATED:20230623T214831Z
LAST-MODIFIED:20230623T214831Z
UID:28987-1688205600-1688230800@statelinekids.com
SUMMARY:July Free Print Day
DESCRIPTION:Bring your own blank shirt for the can-themed print. Prints will be in black ink.
URL:https://statelinekids.com/event/july-free-print-day/
LOCATION:Rockford Art Deli\, 402 E. State St\, Rockford\, IL\, United States
CATEGORIES:Rockford
END:VEVENT
BEGIN:VEVENT
DTSTART;TZID=America/Chicago:20230415T100000
DTEND;TZID=America/Chicago:20230415T170000
DTSTAMP:20260422T235318
CREATED:20230407T223717Z
LAST-MODIFIED:20230407T223717Z
UID:27344-1681552800-1681578000@statelinekids.com
SUMMARY:April Free Print Day
DESCRIPTION:Get a free print of a recycling-themed shirt for Earth Day. Bring your own\, they will not have blanks!
URL:https://statelinekids.com/event/april-free-print-day/
LOCATION:Rockford Art Deli\, 402 E. State St\, Rockford\, IL\, United States
CATEGORIES:Rockford
END:VEVENT
BEGIN:VEVENT
DTSTART;TZID=America/Chicago:20221119T100000
DTEND;TZID=America/Chicago:20221119T180000
DTSTAMP:20260422T235318
CREATED:20221112T213054Z
LAST-MODIFIED:20221112T213054Z
UID:24856-1668852000-1668880800@statelinekids.com
SUMMARY:Free Print Day
DESCRIPTION:Bring your own t-shirt or buy one for $10 and get a free football print.
URL:https://statelinekids.com/event/free-print-day-2/
LOCATION:Rockford Art Deli\, 402 E. State St\, Rockford\, IL\, United States
CATEGORIES:Rockford
END:VEVENT
BEGIN:VEVENT
DTSTART;TZID=America/Chicago:20221029T100000
DTEND;TZID=America/Chicago:20221029T180000
DTSTAMP:20260422T235318
CREATED:20221023T165829Z
LAST-MODIFIED:20221023T165829Z
UID:24446-1667037600-1667066400@statelinekids.com
SUMMARY:Free Print Day (Hocus Pocus)
DESCRIPTION:Bring your own t-shirt for a free Hocus Pocus themed print. Print will be in black ink. Tees will be available to purchase for $10.
URL:https://statelinekids.com/event/free-print-day-hocus-pocus/
LOCATION:Rockford Art Deli\, 402 E. State St\, Rockford\, IL\, United States
CATEGORIES:Rockford
END:VEVENT
BEGIN:VEVENT
DTSTART;TZID=America/Chicago:20220702T100000
DTEND;TZID=America/Chicago:20220702T180000
DTSTAMP:20260422T235318
CREATED:20220626T152703Z
LAST-MODIFIED:20220626T152703Z
UID:22207-1656756000-1656784800@statelinekids.com
SUMMARY:RAD July Free Print Day
DESCRIPTION:Bring your own t-shirt to get a black ink print on the day of. T-shirts will be available for $10 on-site\, but you can bring your own.
URL:https://statelinekids.com/event/rad-july-free-print-day/
LOCATION:Rockford Art Deli\, 402 E. State St\, Rockford\, IL\, United States
CATEGORIES:Rockford
END:VEVENT
BEGIN:VEVENT
DTSTART;TZID=America/Chicago:20220422T120000
DTEND;TZID=America/Chicago:20220422T180000
DTSTAMP:20260422T235318
CREATED:20220409T214559Z
LAST-MODIFIED:20220409T214559Z
UID:19688-1650628800-1650650400@statelinekids.com
SUMMARY:Free Print Day for Earth Day
DESCRIPTION:Bring an older tee to recycle and get a free Allmade t-shirt and a second Earth Day print.
URL:https://statelinekids.com/event/free-print-day-for-earth-day/
LOCATION:Rockford Art Deli\, 402 E. State St\, Rockford\, IL\, United States
CATEGORIES:Rockford
END:VEVENT
BEGIN:VEVENT
DTSTART;TZID=America/Chicago:20220416T100000
DTEND;TZID=America/Chicago:20220416T180000
DTSTAMP:20260422T235318
CREATED:20220409T214503Z
LAST-MODIFIED:20220409T214503Z
UID:19685-1650103200-1650132000@statelinekids.com
SUMMARY:Free Print Day
DESCRIPTION:Get a free Earth Day print by bringing your own shirt then come back on Earth Day with an older tee to recycle and get a free Allmade t-shirt and a second Earth Day print.
URL:https://statelinekids.com/event/free-print-day/
LOCATION:Rockford Art Deli\, 402 E. State St\, Rockford\, IL\, United States
CATEGORIES:Rockford
END:VEVENT
BEGIN:VEVENT
DTSTART;TZID=America/Chicago:20220312T100000
DTEND;TZID=America/Chicago:20220312T180000
DTSTAMP:20260422T235318
CREATED:20220306T190826Z
LAST-MODIFIED:20220306T190826Z
UID:19314-1647079200-1647108000@statelinekids.com
SUMMARY:St. Patrick’s Day Free Print Day
DESCRIPTION:Bring in a t-shirt for a free St. Patrick’s Day print.
URL:https://statelinekids.com/event/st-patricks-day-free-print-day/
LOCATION:Rockford Art Deli\, 402 E. State St\, Rockford\, IL\, United States
CATEGORIES:Rockford
END:VEVENT
BEGIN:VEVENT
DTSTART;TZID=America/Chicago:20220212T100000
DTEND;TZID=America/Chicago:20220212T180000
DTSTAMP:20260422T235318
CREATED:20220206T172336Z
LAST-MODIFIED:20220206T172403Z
UID:19123-1644660000-1644688800@statelinekids.com
SUMMARY:RAD Valentine’s Free Print Day
DESCRIPTION:Get a free print on a shirt you bring or buy one there.
URL:https://statelinekids.com/event/rad-valentines-free-print-day/
LOCATION:Rockford Art Deli\, 402 E. State St\, Rockford\, IL\, United States
CATEGORIES:Rockford
END:VEVENT
BEGIN:VEVENT
DTSTART;TZID=America/Chicago:20210814T100000
DTEND;TZID=America/Chicago:20210814T190000
DTSTAMP:20260422T235318
CREATED:20210808T193535Z
LAST-MODIFIED:20210808T193535Z
UID:17040-1628935200-1628967600@statelinekids.com
SUMMARY:RAD Street Party and Live Print
DESCRIPTION:Celebrate Rockford Day with live music from 12 pm – 4 pm\, food trucks\, and a live print.
URL:https://statelinekids.com/event/rad-street-party-and-live-print/
LOCATION:Rockford Art Deli\, 402 E. State St\, Rockford\, IL\, United States
CATEGORIES:Rockford
END:VEVENT
BEGIN:VEVENT
DTSTART;TZID=America/Chicago:20200208T100000
DTEND;TZID=America/Chicago:20200208T180000
DTSTAMP:20260422T235318
CREATED:20200201T183141Z
LAST-MODIFIED:20200201T183141Z
UID:9663-1581156000-1581184800@statelinekids.com
SUMMARY:Free Print Day at Rockford Art Deli
DESCRIPTION:Bring your t-shirts or buy one there and get a free print of Pepper the dog for Valentine’s Day.
URL:https://statelinekids.com/event/free-print-day-at-rockford-art-deli/
LOCATION:Rockford Art Deli\, 402 E. State St\, Rockford\, IL\, United States
CATEGORIES:Rockford
END:VEVENT
END:VCALENDAR