BEGIN:VCALENDAR
VERSION:2.0
PRODID:-//Stateline Kids - ECPv6.5.1.3//NONSGML v1.0//EN
CALSCALE:GREGORIAN
METHOD:PUBLISH
X-ORIGINAL-URL:https://statelinekids.com
X-WR-CALDESC:Events for Stateline Kids
REFRESH-INTERVAL;VALUE=DURATION:PT1H
X-Robots-Tag:noindex
X-PUBLISHED-TTL:PT1H
BEGIN:VTIMEZONE
TZID:America/Chicago
BEGIN:DAYLIGHT
TZOFFSETFROM:-0600
TZOFFSETTO:-0500
TZNAME:CDT
DTSTART:20220313T080000
END:DAYLIGHT
BEGIN:STANDARD
TZOFFSETFROM:-0500
TZOFFSETTO:-0600
TZNAME:CST
DTSTART:20221106T070000
END:STANDARD
BEGIN:DAYLIGHT
TZOFFSETFROM:-0600
TZOFFSETTO:-0500
TZNAME:CDT
DTSTART:20230312T080000
END:DAYLIGHT
BEGIN:STANDARD
TZOFFSETFROM:-0500
TZOFFSETTO:-0600
TZNAME:CST
DTSTART:20231105T070000
END:STANDARD
BEGIN:DAYLIGHT
TZOFFSETFROM:-0600
TZOFFSETTO:-0500
TZNAME:CDT
DTSTART:20240310T080000
END:DAYLIGHT
BEGIN:STANDARD
TZOFFSETFROM:-0500
TZOFFSETTO:-0600
TZNAME:CST
DTSTART:20241103T070000
END:STANDARD
END:VTIMEZONE
BEGIN:VEVENT
DTSTART;TZID=America/Chicago:20241101T170000
DTEND;TZID=America/Chicago:20241101T210000
DTSTAMP:20260420T114857
CREATED:20241027T200210Z
LAST-MODIFIED:20241027T200210Z
UID:38460-1730480400-1730494800@statelinekids.com
SUMMARY:Evening of Illumination
DESCRIPTION:Learn about the darker side of Victorian life in a lantern-lit village including picnics in the graveyard\, mourning rituals\, parlor games\, and more. 
URL:https://statelinekids.com/event/evening-of-illumination-3/
LOCATION:Midway Village\, 6799 Guilford Road\, Rockford\, IL\, United States
CATEGORIES:Rockford
END:VEVENT
BEGIN:VEVENT
DTSTART;TZID=America/Chicago:20241026T120000
DTEND;TZID=America/Chicago:20241026T180000
DTSTAMP:20260420T114857
CREATED:20241020T185023Z
LAST-MODIFIED:20241020T185023Z
UID:38305-1729944000-1729965600@statelinekids.com
SUMMARY:All Hallows’ Eve Trick or Treating
DESCRIPTION:Trick or treat around Midway Village’s Victorian Village. \nCost: $7 per kid ages 3-17 / $5 per adult / free for kids 2 and under
URL:https://statelinekids.com/event/all-hallows-eve-trick-or-treating/
LOCATION:Midway Village\, 6799 Guilford Road\, Rockford\, IL\, United States
CATEGORIES:Rockford
END:VEVENT
BEGIN:VEVENT
DTSTART;TZID=America/Chicago:20241012T100000
DTEND;TZID=America/Chicago:20241012T150000
DTSTAMP:20260420T114857
CREATED:20241006T233651Z
LAST-MODIFIED:20241006T233651Z
UID:37972-1728727200-1728745200@statelinekids.com
SUMMARY:Fall Fever Craft and Vendor Show
DESCRIPTION: Shop from over 40 vendors selling a variety of products.
URL:https://statelinekids.com/event/fall-fever-craft-and-vendor-show/
LOCATION:Midway Village\, 6799 Guilford Road\, Rockford\, IL\, United States
CATEGORIES:Rockford
END:VEVENT
BEGIN:VEVENT
DTSTART;TZID=America/Chicago:20240929T090000
DTEND;TZID=America/Chicago:20240929T150000
DTSTAMP:20260420T114857
CREATED:20240921T221809Z
LAST-MODIFIED:20240921T221809Z
UID:37750-1727600400-1727622000@statelinekids.com
SUMMARY:World War II Days
DESCRIPTION:Check out woods skirmishes\, realistic battles\, uniformed re-enactors\, and more. \nCost: $19 per adult / $12 per kid ages 5-12 / free for kids 0-4
URL:https://statelinekids.com/event/world-war-ii-days-6/2024-09-29/
LOCATION:Midway Village\, 6799 Guilford Road\, Rockford\, IL\, United States
CATEGORIES:Rockford
END:VEVENT
BEGIN:VEVENT
DTSTART;TZID=America/Chicago:20240928T100000
DTEND;TZID=America/Chicago:20240928T170000
DTSTAMP:20260420T114857
CREATED:20240921T221809Z
LAST-MODIFIED:20240921T221809Z
UID:37748-1727517600-1727542800@statelinekids.com
SUMMARY:World War II Days
DESCRIPTION:Check out woods skirmishes\, realistic battles\, uniformed re-enactors\, and more. \nCost: $19 per adult / $12 per kid ages 5-12 / free for kids 0-4
URL:https://statelinekids.com/event/world-war-ii-days-6/2024-09-28/
LOCATION:Midway Village\, 6799 Guilford Road\, Rockford\, IL\, United States
CATEGORIES:Rockford
END:VEVENT
BEGIN:VEVENT
DTSTART;TZID=America/Chicago:20240707T120000
DTEND;TZID=America/Chicago:20240707T160000
DTSTAMP:20260420T114857
CREATED:20240629T222713Z
LAST-MODIFIED:20240629T222713Z
UID:36509-1720353600-1720368000@statelinekids.com
SUMMARY:Living History Weekend - Civil War Focus
DESCRIPTION:Engage with costumed history interpreters in the Victorian Village and learn about how Rockford was involved in the Civil War. \nCost: $14 per adult / $12 per kid ages 5-12 / free for kids under 5
URL:https://statelinekids.com/event/living-history-weekend-civil-war-focus/2024-07-07/
LOCATION:Midway Village\, 6799 Guilford Road\, Rockford\, IL\, United States
CATEGORIES:Rockford
END:VEVENT
BEGIN:VEVENT
DTSTART;TZID=America/Chicago:20240706T100000
DTEND;TZID=America/Chicago:20240706T160000
DTSTAMP:20260420T114857
CREATED:20240629T222713Z
LAST-MODIFIED:20240629T222713Z
UID:36508-1720260000-1720281600@statelinekids.com
SUMMARY:Living History Weekend - Civil War Focus
DESCRIPTION:Engage with costumed history interpreters in the Victorian Village and learn about how Rockford was involved in the Civil War. \nCost: $14 per adult / $12 per kid ages 5-12 / free for kids under 5
URL:https://statelinekids.com/event/living-history-weekend-civil-war-focus/2024-07-06/
LOCATION:Midway Village\, 6799 Guilford Road\, Rockford\, IL\, United States
CATEGORIES:Rockford
END:VEVENT
BEGIN:VEVENT
DTSTART;TZID=America/Chicago:20240705T100000
DTEND;TZID=America/Chicago:20240705T160000
DTSTAMP:20260420T114857
CREATED:20240629T222713Z
LAST-MODIFIED:20240629T222713Z
UID:36506-1720173600-1720195200@statelinekids.com
SUMMARY:Living History Weekend - Civil War Focus
DESCRIPTION:Engage with costumed history interpreters in the Victorian Village and learn about how Rockford was involved in the Civil War. \nCost: $14 per adult / $12 per kid ages 5-12 / free for kids under 5
URL:https://statelinekids.com/event/living-history-weekend-civil-war-focus/2024-07-05/
LOCATION:Midway Village\, 6799 Guilford Road\, Rockford\, IL\, United States
CATEGORIES:Rockford
END:VEVENT
BEGIN:VEVENT
DTSTART;TZID=America/Chicago:20240622T100000
DTEND;TZID=America/Chicago:20240622T160000
DTSTAMP:20260420T114857
CREATED:20240615T202858Z
LAST-MODIFIED:20240615T202858Z
UID:35585-1719050400-1719072000@statelinekids.com
SUMMARY:HomeTown Handmade Market
DESCRIPTION:Shop from 70+ unique vendors including local makers and artists.
URL:https://statelinekids.com/event/hometown-handmade-market-3/
LOCATION:Midway Village\, 6799 Guilford Road\, Rockford\, IL\, United States
CATEGORIES:Rockford
END:VEVENT
BEGIN:VEVENT
DTSTART;TZID=America/Chicago:20240616T120000
DTEND;TZID=America/Chicago:20240616T170000
DTSTAMP:20260420T114857
CREATED:20240609T173735Z
LAST-MODIFIED:20240609T173735Z
UID:35323-1718539200-1718557200@statelinekids.com
SUMMARY:50th Anniversary (FREE admission)
DESCRIPTION:Celebrate Midway Village’s 50th anniversary by enjoying free admission at the museum.
URL:https://statelinekids.com/event/50th-anniversary-free-admission/
LOCATION:Midway Village\, 6799 Guilford Road\, Rockford\, IL\, United States
CATEGORIES:Rockford
END:VEVENT
BEGIN:VEVENT
DTSTART;TZID=America/Chicago:20240527T100000
DTEND;TZID=America/Chicago:20240527T160000
DTSTAMP:20260420T114857
CREATED:20240526T174611Z
LAST-MODIFIED:20240526T174611Z
UID:35161-1716804000-1716825600@statelinekids.com
SUMMARY:Memorial Day
DESCRIPTION:Spend Memorial Day learning about how it would have been observed in 1894 as Decoration Day. Get tickets here.
URL:https://statelinekids.com/event/memorial-day/
LOCATION:Midway Village\, 6799 Guilford Road\, Rockford\, IL\, United States
CATEGORIES:Rockford
END:VEVENT
BEGIN:VEVENT
DTSTART;TZID=America/Chicago:20240511T120000
DTEND;TZID=America/Chicago:20240511T160000
DTSTAMP:20260420T114857
CREATED:20240504T213616Z
LAST-MODIFIED:20240504T213616Z
UID:34765-1715428800-1715443200@statelinekids.com
SUMMARY:Rockford Peaches Play Date
DESCRIPTION:Watch the women of the Rockford Peaches Baseball Living History League play ball and celebrate the opening of Victorian Village. Bring your own blanket or chairs.
URL:https://statelinekids.com/event/rockford-peaches-play-date/
LOCATION:Midway Village\, 6799 Guilford Road\, Rockford\, IL\, United States
CATEGORIES:Rockford
END:VEVENT
BEGIN:VEVENT
DTSTART;TZID=America/Chicago:20240309T100000
DTEND;TZID=America/Chicago:20240309T160000
DTSTAMP:20260420T114857
CREATED:20240303T184134Z
LAST-MODIFIED:20240303T184134Z
UID:33682-1709978400-1710000000@statelinekids.com
SUMMARY:Sock Monkey Madness
DESCRIPTION:Celebrate all things sock monkey with a dance area\, Funky Monkey Jeopardy\, tie-dye flowers\, and more. Sock monkey kits are $37 each and include admission for one adult. Get tickets here. \nCost: $12 per adult / $8 per kid ages 5-12 / free for members and kids 4 and under
URL:https://statelinekids.com/event/sock-monkey-madness-2/
LOCATION:Midway Village\, 6799 Guilford Road\, Rockford\, IL\, United States
CATEGORIES:Rockford
END:VEVENT
BEGIN:VEVENT
DTSTART;TZID=America/Chicago:20231216T120000
DTEND;TZID=America/Chicago:20231216T160000
DTSTAMP:20260420T114857
CREATED:20231210T212321Z
LAST-MODIFIED:20231210T212333Z
UID:32595-1702728000-1702742400@statelinekids.com
SUMMARY:A Nightmare to Remember
DESCRIPTION:Take themed photos\, family-friendly activities\, and learn more about The Wayward Society and community partners.
URL:https://statelinekids.com/event/32595/
LOCATION:Midway Village\, 6799 Guilford Road\, Rockford\, IL\, United States
CATEGORIES:Rockford
END:VEVENT
BEGIN:VEVENT
DTSTART;TZID=America/Chicago:20231209T100000
DTEND;TZID=America/Chicago:20231209T113000
DTSTAMP:20260420T114857
CREATED:20231203T211404Z
LAST-MODIFIED:20231203T211404Z
UID:32417-1702116000-1702121400@statelinekids.com
SUMMARY:Christmas in the Trenches
DESCRIPTION:Take a holiday tour then watch a narrated re-enactment of a battle and cease fire. Visitors can sing carols\, sip hot chocolate\, and play football. \nCost: $12 per adult ages 13 and under / $10 per kid ages 5-12 / free for kids ages 0-4
URL:https://statelinekids.com/event/christmas-in-the-trenches-2/
LOCATION:Midway Village\, 6799 Guilford Road\, Rockford\, IL\, United States
CATEGORIES:Rockford
END:VEVENT
BEGIN:VEVENT
DTSTART;TZID=America/Chicago:20231101T100000
DTEND;TZID=America/Chicago:20231101T160000
DTSTAMP:20260420T114857
CREATED:20231003T000522Z
LAST-MODIFIED:20231003T000523Z
UID:31116-1698832800-1698854400@statelinekids.com
SUMMARY:NSLD Day at Midway Village Museum
DESCRIPTION:Explore the diverse history of the Rockford region with NSLD. All ages are welcome. Free admittance with your NSLD card.
URL:https://statelinekids.com/event/nsld-day-at-midway-village-museum/
LOCATION:Midway Village\, 6799 Guilford Road\, Rockford\, IL\, United States
CATEGORIES:Rockford
ATTACH;FMTTYPE=image/png:https://statelinekids.com/wp-content/uploads/2023/10/Screen-Shot-2023-10-02-at-7.04.56-PM.png
END:VEVENT
BEGIN:VEVENT
DTSTART;TZID=America/Chicago:20230930T100000
DTEND;TZID=America/Chicago:20230930T170000
DTSTAMP:20260420T114857
CREATED:20230924T164254Z
LAST-MODIFIED:20230924T164254Z
UID:30801-1696068000-1696093200@statelinekids.com
SUMMARY:World War II Days
DESCRIPTION:Check out the Midwest’s largest military re-enactment with skirmishes at 12 pm\, 3 pm\, and 4 pm on Saturday and Sunday at 12 pm and 3 pm. There will be lots of military vehicles to see and re-enactors in costumes. \nCost: $19 per adult / $12 kids ages 5-12 / kids ages 0-4 are free
URL:https://statelinekids.com/event/world-war-ii-days-5/2023-09-30/
LOCATION:Midway Village\, 6799 Guilford Road\, Rockford\, IL\, United States
CATEGORIES:Rockford
END:VEVENT
BEGIN:VEVENT
DTSTART;TZID=America/Chicago:20230910T130000
DTEND;TZID=America/Chicago:20230910T150000
DTSTAMP:20260420T114857
CREATED:20230903T170140Z
LAST-MODIFIED:20230903T170140Z
UID:30175-1694350800-1694358000@statelinekids.com
SUMMARY:Grandparents’ Day Workshop and Book Signing
DESCRIPTION:Enjoy a workshop and book signing from the author of Legacy of Laughter – A Grandparent’s Guide and Playbook by Mary Kay Morrison. Museum admission is included. \nCost: $11 per adult / $9 per kids ages 5-12 / $10 per senior (62 and up) / free for kids 4 and under
URL:https://statelinekids.com/event/grandparents-day-workshop-and-book-signing/
LOCATION:Midway Village\, 6799 Guilford Road\, Rockford\, IL\, United States
CATEGORIES:Rockford
END:VEVENT
BEGIN:VEVENT
DTSTART;TZID=America/Chicago:20230805T130000
DTEND;TZID=America/Chicago:20230805T210000
DTSTAMP:20260420T114857
CREATED:20230730T161419Z
LAST-MODIFIED:20230730T161419Z
UID:29673-1691240400-1691269200@statelinekids.com
SUMMARY:The Roaring Twenties
DESCRIPTION:Learn about the distilling process common in the 1920s\, see cultural performers such as flappers and jazz musicians\, and more. \nCost: $15 per adult / $12 per child ages 5-12 / free for residents in 61107\, 61108\, 61114 (bring ID)
URL:https://statelinekids.com/event/the-roaring-twenties/
LOCATION:Midway Village\, 6799 Guilford Road\, Rockford\, IL\, United States
CATEGORIES:Rockford
END:VEVENT
BEGIN:VEVENT
DTSTART;TZID=America/Chicago:20230703T100000
DTEND;TZID=America/Chicago:20230703T160000
DTSTAMP:20260420T114857
CREATED:20230701T172718Z
LAST-MODIFIED:20230701T172718Z
UID:29191-1688378400-1688400000@statelinekids.com
SUMMARY:Civil War Living History
DESCRIPTION:Learn about Rockford’s connection to the Civil War from costumed interpreters. Get tickets here. \nCost: $13 per adult / $11 per kids ages 5-12
URL:https://statelinekids.com/event/civil-war-living-history/
LOCATION:Midway Village\, 6799 Guilford Road\, Rockford\, IL\, United States
CATEGORIES:Rockford
END:VEVENT
BEGIN:VEVENT
DTSTART;TZID=America/Chicago:20230617T100000
DTEND;TZID=America/Chicago:20230617T160000
DTSTAMP:20260420T114857
CREATED:20230606T002059Z
LAST-MODIFIED:20230606T002059Z
UID:28680-1686996000-1687017600@statelinekids.com
SUMMARY:HomeTown Handmade Market
DESCRIPTION:Enjoy shopping from 50+ vendors and walking around Midway Village’s Victorian Village.
URL:https://statelinekids.com/event/hometown-handmade-market-2/
LOCATION:Midway Village\, 6799 Guilford Road\, Rockford\, IL\, United States
CATEGORIES:Rockford
END:VEVENT
BEGIN:VEVENT
DTSTART;TZID=America/Chicago:20230429T100000
DTEND;TZID=America/Chicago:20230429T160000
DTSTAMP:20260420T114857
CREATED:20230421T165841Z
LAST-MODIFIED:20230421T165841Z
UID:27574-1682762400-1682784000@statelinekids.com
SUMMARY:The Great War: World War I
DESCRIPTION:Watch over 200 re-enactors portraying soldiers and civilians reenact The Great Wars. There will also be food vendors. Get tickets here. \nCost: $15 per adult / $12 per child ages 5-12 / free for kids 4 and under
URL:https://statelinekids.com/event/the-great-war-world-war-i/2023-04-29/
LOCATION:Midway Village\, 6799 Guilford Road\, Rockford\, IL\, United States
CATEGORIES:Rockford
END:VEVENT
BEGIN:VEVENT
DTSTART;TZID=America/Chicago:20230311T090000
DTEND;TZID=America/Chicago:20230311T160000
DTSTAMP:20260420T114857
CREATED:20230304T221530Z
LAST-MODIFIED:20230304T221530Z
UID:26736-1678525200-1678550400@statelinekids.com
SUMMARY:Sock Monkey Madness
DESCRIPTION:Celebrate the iconic sock monkey with games\, a sock monkey hospital\, a puppet station\, mask-making\, and lots more. Get tickets here. \nCost: $12 per adult / $8 per kid ages 8-12 and free for kids 0-4 / $35 for sock monkey kits
URL:https://statelinekids.com/event/sock-monkey-madness/
LOCATION:Midway Village\, 6799 Guilford Road\, Rockford\, IL\, United States
CATEGORIES:Rockford
END:VEVENT
BEGIN:VEVENT
DTSTART;TZID=America/Chicago:20221028T190000
DTEND;TZID=America/Chicago:20221028T210000
DTSTAMP:20260420T114857
CREATED:20221023T195802Z
LAST-MODIFIED:20221023T195802Z
UID:24489-1666983600-1666990800@statelinekids.com
SUMMARY:Evening of Illumination
DESCRIPTION:Walk through the lantern-lit village at your own pace and meet macabre characters. Recommended for ages 16 and up.
URL:https://statelinekids.com/event/evening-of-illumination-2/
LOCATION:Midway Village\, 6799 Guilford Road\, Rockford\, IL\, United States
CATEGORIES:Rockford
END:VEVENT
BEGIN:VEVENT
DTSTART;TZID=America/Chicago:20221022T120000
DTEND;TZID=America/Chicago:20221022T180000
DTSTAMP:20260420T114857
CREATED:20221016T204528Z
LAST-MODIFIED:20221016T204528Z
UID:24334-1666440000-1666461600@statelinekids.com
SUMMARY:All Hallows’ Eve
DESCRIPTION:Enjoy trick or treating outdoors at the Victorian Village.
URL:https://statelinekids.com/event/all-hallows-eve-2/
LOCATION:Midway Village\, 6799 Guilford Road\, Rockford\, IL\, United States
CATEGORIES:Rockford
END:VEVENT
BEGIN:VEVENT
DTSTART;TZID=America/Chicago:20220924T100000
DTEND;TZID=America/Chicago:20220924T170000
DTSTAMP:20260420T114857
CREATED:20220917T201102Z
LAST-MODIFIED:20220917T201102Z
UID:23666-1664013600-1664038800@statelinekids.com
SUMMARY:World War II Days
DESCRIPTION:Enjoy a large scale WWI re-enactment and elaborate displays. Get tickets here. \nCost: $16 per adult / $9 per child (ages 3-17) / free for kids 0-2
URL:https://statelinekids.com/event/world-war-ii-days-4/2022-09-24/
LOCATION:Midway Village\, 6799 Guilford Road\, Rockford\, IL\, United States
CATEGORIES:Rockford
END:VEVENT
BEGIN:VEVENT
DTSTART;TZID=America/Chicago:20220806T100000
DTEND;TZID=America/Chicago:20220806T150000
DTSTAMP:20260420T114857
CREATED:20220731T180724Z
LAST-MODIFIED:20220731T180724Z
UID:22823-1659780000-1659798000@statelinekids.com
SUMMARY:Rock City 815 Craft and Vendor Show
DESCRIPTION: Shop from over 45 local vendors.
URL:https://statelinekids.com/event/rock-city-815-craft-and-vendor-show/
LOCATION:Midway Village\, 6799 Guilford Road\, Rockford\, IL\, United States
CATEGORIES:Rockford
END:VEVENT
BEGIN:VEVENT
DTSTART;TZID=America/Chicago:20220716T090000
DTEND;TZID=America/Chicago:20220716T120000
DTSTAMP:20260420T114857
CREATED:20220709T170132Z
LAST-MODIFIED:20220709T170132Z
UID:22536-1657962000-1657972800@statelinekids.com
SUMMARY:Kids’ Bike and Fitness Day
DESCRIPTION:Bring canned food to benefit the Rockford Rescue Mission\, bring your bike to see how many laps you can ride\, win prizes\, and play in the bounce house.
URL:https://statelinekids.com/event/kids-bike-and-fitness-day/
LOCATION:Midway Village\, 6799 Guilford Road\, Rockford\, IL\, United States
CATEGORIES:Rockford
END:VEVENT
BEGIN:VEVENT
DTSTART;TZID=America/Chicago:20220604T100000
DTEND;TZID=America/Chicago:20220604T160000
DTSTAMP:20260420T114857
CREATED:20220528T184546Z
LAST-MODIFIED:20220528T184546Z
UID:20598-1654336800-1654358400@statelinekids.com
SUMMARY:Celebration of Innovation
DESCRIPTION:Watch the costumed interpreters show how technology has changed in Rockford from 1860-1920.  \nCost: Free for Rockford residents / $14 per adult / $12 per kid ages 5-12  / free for kids 4 and under
URL:https://statelinekids.com/event/celebration-of-innovation/2022-06-04/
LOCATION:Midway Village\, 6799 Guilford Road\, Rockford\, IL\, United States
CATEGORIES:Rockford
END:VEVENT
BEGIN:VEVENT
DTSTART;TZID=America/Chicago:20220501T130000
DTEND;TZID=America/Chicago:20220501T160000
DTSTAMP:20260420T114857
CREATED:20220424T020400Z
LAST-MODIFIED:20220424T020400Z
UID:19917-1651410000-1651420800@statelinekids.com
SUMMARY:Peaches Playdate and Opening of the Victorian Village
DESCRIPTION:Watch the women of the Rockford Peaches Living History League play ball and explore the Victorian Village.
URL:https://statelinekids.com/event/peaches-playdate-and-opening-of-the-victorian-village/
LOCATION:Midway Village\, 6799 Guilford Road\, Rockford\, IL\, United States
CATEGORIES:Rockford
END:VEVENT
END:VCALENDAR