BEGIN:VCALENDAR
VERSION:2.0
PRODID:-//Stateline Kids - ECPv6.5.1.3//NONSGML v1.0//EN
CALSCALE:GREGORIAN
METHOD:PUBLISH
X-ORIGINAL-URL:https://statelinekids.com
X-WR-CALDESC:Events for Stateline Kids
REFRESH-INTERVAL;VALUE=DURATION:PT1H
X-Robots-Tag:noindex
X-PUBLISHED-TTL:PT1H
BEGIN:VTIMEZONE
TZID:America/Chicago
BEGIN:DAYLIGHT
TZOFFSETFROM:-0600
TZOFFSETTO:-0500
TZNAME:CDT
DTSTART:20230312T080000
END:DAYLIGHT
BEGIN:STANDARD
TZOFFSETFROM:-0500
TZOFFSETTO:-0600
TZNAME:CST
DTSTART:20231105T070000
END:STANDARD
BEGIN:DAYLIGHT
TZOFFSETFROM:-0600
TZOFFSETTO:-0500
TZNAME:CDT
DTSTART:20240310T080000
END:DAYLIGHT
BEGIN:STANDARD
TZOFFSETFROM:-0500
TZOFFSETTO:-0600
TZNAME:CST
DTSTART:20241103T070000
END:STANDARD
BEGIN:DAYLIGHT
TZOFFSETFROM:-0600
TZOFFSETTO:-0500
TZNAME:CDT
DTSTART:20250309T080000
END:DAYLIGHT
BEGIN:STANDARD
TZOFFSETFROM:-0500
TZOFFSETTO:-0600
TZNAME:CST
DTSTART:20251102T070000
END:STANDARD
END:VTIMEZONE
BEGIN:VEVENT
DTSTART;TZID=America/Chicago:20250603T183000
DTEND;TZID=America/Chicago:20250603T200000
DTSTAMP:20260425T163006
CREATED:20250601T205727Z
LAST-MODIFIED:20250601T205727Z
UID:40877-1748975400-1748980800@statelinekids.com
SUMMARY:Music at the Marv
DESCRIPTION:Bring your own seating to watch live music outdoors.
URL:https://statelinekids.com/event/music-at-the-marv-8/
LOCATION:Marvin Roth Pavilion\, 51 S. Main St.\, Janesville\, WI\, United States
CATEGORIES:Janesville
END:VEVENT
BEGIN:VEVENT
DTSTART;TZID=America/Chicago:20240628T183000
DTEND;TZID=America/Chicago:20240628T200000
DTSTAMP:20260425T163006
CREATED:20240623T191807Z
LAST-MODIFIED:20240623T191807Z
UID:36369-1719599400-1719604800@statelinekids.com
SUMMARY:Swiftie Song Slam
DESCRIPTION:Listen to Versatile Voice Academy perform Taylor Swift’s music. Bring your own chairs and blankets.
URL:https://statelinekids.com/event/swiftie-song-slam/
LOCATION:Marvin Roth Pavilion\, 51 S. Main St.\, Janesville\, WI\, United States
CATEGORIES:Janesville
END:VEVENT
BEGIN:VEVENT
DTSTART;TZID=America/Chicago:20230905T183000
DTEND;TZID=America/Chicago:20230905T200000
DTSTAMP:20260425T163006
CREATED:20230903T171738Z
LAST-MODIFIED:20230903T171738Z
UID:30184-1693938600-1693944000@statelinekids.com
SUMMARY:Music at the Marv
DESCRIPTION:Enjoy a summer music series outdoors. Bring your own chairs. This week is The Mercynaries.
URL:https://statelinekids.com/event/music-at-the-marv-7/
LOCATION:Marvin Roth Pavilion\, 51 S. Main St.\, Janesville\, WI\, United States
CATEGORIES:Janesville
END:VEVENT
BEGIN:VEVENT
DTSTART;TZID=America/Chicago:20230829T183000
DTEND;TZID=America/Chicago:20230829T200000
DTSTAMP:20260425T163006
CREATED:20230826T172701Z
LAST-MODIFIED:20230826T172701Z
UID:30112-1693333800-1693339200@statelinekids.com
SUMMARY:Music at the Marv
DESCRIPTION:Enjoy a summer music series outdoors. Bring your own chairs. This week is Neeno Fredricks Project.
URL:https://statelinekids.com/event/music-at-the-marv-6/
LOCATION:Marvin Roth Pavilion\, 51 S. Main St.\, Janesville\, WI\, United States
CATEGORIES:Janesville
END:VEVENT
BEGIN:VEVENT
DTSTART;TZID=America/Chicago:20230822T183000
DTEND;TZID=America/Chicago:20230822T200000
DTSTAMP:20260425T163006
CREATED:20230818T193022Z
LAST-MODIFIED:20230818T193022Z
UID:30053-1692729000-1692734400@statelinekids.com
SUMMARY:Music at the Marv: Pink Houses
DESCRIPTION:Enjoy a summer music series outdoors. Bring your own chairs. This week is Pink Houses.
URL:https://statelinekids.com/event/music-at-the-marv-pink-houses/
LOCATION:Marvin Roth Pavilion\, 51 S. Main St.\, Janesville\, WI\, United States
CATEGORIES:Janesville
END:VEVENT
BEGIN:VEVENT
DTSTART;TZID=America/Chicago:20230815T183000
DTEND;TZID=America/Chicago:20230815T200000
DTSTAMP:20260425T163006
CREATED:20230813T004242Z
LAST-MODIFIED:20230813T004242Z
UID:29985-1692124200-1692129600@statelinekids.com
SUMMARY:Music at the Marv
DESCRIPTION:Enjoy a summer music series outdoors. Bring your own chairs. This week is The Jimmys.
URL:https://statelinekids.com/event/music-at-the-marv-5/
LOCATION:Marvin Roth Pavilion\, 51 S. Main St.\, Janesville\, WI\, United States
CATEGORIES:Janesville
END:VEVENT
BEGIN:VEVENT
DTSTART;TZID=America/Chicago:20230808T183000
DTEND;TZID=America/Chicago:20230808T200000
DTSTAMP:20260425T163006
CREATED:20230805T193253Z
LAST-MODIFIED:20230805T193253Z
UID:29858-1691519400-1691524800@statelinekids.com
SUMMARY:Music at the Marv
DESCRIPTION:Enjoy a summer music series outdoors. Bring your own chairs. This week is The WhiskeyBelles.
URL:https://statelinekids.com/event/music-at-the-marv-4/
LOCATION:Marvin Roth Pavilion\, 51 S. Main St.\, Janesville\, WI\, United States
CATEGORIES:Janesville
END:VEVENT
BEGIN:VEVENT
DTSTART;TZID=America/Chicago:20230801T183000
DTEND;TZID=America/Chicago:20230801T200000
DTSTAMP:20260425T163006
CREATED:20230730T171511Z
LAST-MODIFIED:20230730T171511Z
UID:29715-1690914600-1690920000@statelinekids.com
SUMMARY:LIVE MUSIC: Music at the Marv
DESCRIPTION:Enjoy a summer music series outdoors. Bring your own chairs. This week is Dem Horny Funkers.
URL:https://statelinekids.com/event/live-music-music-at-the-marv/
LOCATION:Marvin Roth Pavilion\, 51 S. Main St.\, Janesville\, WI\, United States
CATEGORIES:Janesville
END:VEVENT
BEGIN:VEVENT
DTSTART;TZID=America/Chicago:20230718T183000
DTEND;TZID=America/Chicago:20230718T200000
DTSTAMP:20260425T163006
CREATED:20230716T213210Z
LAST-MODIFIED:20230716T213210Z
UID:29490-1689705000-1689710400@statelinekids.com
SUMMARY:Music at the Marv
DESCRIPTION:Enjoy a summer music series outdoors. Bring your own chairs. This week is The Grand Groove Hotel.
URL:https://statelinekids.com/event/music-at-the-marv-3/
LOCATION:Marvin Roth Pavilion\, 51 S. Main St.\, Janesville\, WI\, United States
CATEGORIES:Janesville
END:VEVENT
BEGIN:VEVENT
DTSTART;TZID=America/Chicago:20230716T183000
DTEND;TZID=America/Chicago:20230716T210000
DTSTAMP:20260425T163006
CREATED:20230709T195626Z
LAST-MODIFIED:20230709T195626Z
UID:29372-1689532200-1689541200@statelinekids.com
SUMMARY:Pop-Up Kids from Wisconsin
DESCRIPTION:Watch a performance of talented kids performing music from Broadway and more.
URL:https://statelinekids.com/event/pop-up-kids-from-wisconsin/
LOCATION:Marvin Roth Pavilion\, 51 S. Main St.\, Janesville\, WI\, United States
CATEGORIES:Janesville
END:VEVENT
BEGIN:VEVENT
DTSTART;TZID=America/Chicago:20230711T183000
DTEND;TZID=America/Chicago:20230711T200000
DTSTAMP:20260425T163006
CREATED:20230709T195111Z
LAST-MODIFIED:20230709T195111Z
UID:29368-1689100200-1689105600@statelinekids.com
SUMMARY:Music at the Marv
DESCRIPTION:Enjoy a summer music series outdoors. Bring your own chairs. This week is Cash Box Kings.
URL:https://statelinekids.com/event/music-at-the-marv-2/
LOCATION:Marvin Roth Pavilion\, 51 S. Main St.\, Janesville\, WI\, United States
CATEGORIES:Janesville
END:VEVENT
BEGIN:VEVENT
DTSTART;TZID=America/Chicago:20230702T160000
DTEND;TZID=America/Chicago:20230702T183000
DTSTAMP:20260425T163006
CREATED:20230623T230521Z
LAST-MODIFIED:20230623T230521Z
UID:29024-1688313600-1688322600@statelinekids.com
SUMMARY:Beloit Janesville Symphony Orchestra Patriotic Concert
DESCRIPTION:Enjoy a free concert with live music and food\, beverages\, and fun.
URL:https://statelinekids.com/event/beloit-janesville-symphony-orchestra-patriotic-concert/
LOCATION:Marvin Roth Pavilion\, 51 S. Main St.\, Janesville\, WI\, United States
CATEGORIES:Janesville
END:VEVENT
END:VCALENDAR