BEGIN:VCALENDAR
VERSION:2.0
PRODID:-//Stateline Kids - ECPv6.5.1.3//NONSGML v1.0//EN
CALSCALE:GREGORIAN
METHOD:PUBLISH
X-WR-CALNAME:Stateline Kids
X-ORIGINAL-URL:https://statelinekids.com
X-WR-CALDESC:Events for Stateline Kids
REFRESH-INTERVAL;VALUE=DURATION:PT1H
X-Robots-Tag:noindex
X-PUBLISHED-TTL:PT1H
BEGIN:VTIMEZONE
TZID:America/Chicago
BEGIN:DAYLIGHT
TZOFFSETFROM:-0600
TZOFFSETTO:-0500
TZNAME:CDT
DTSTART:20200308T080000
END:DAYLIGHT
BEGIN:STANDARD
TZOFFSETFROM:-0500
TZOFFSETTO:-0600
TZNAME:CST
DTSTART:20201101T070000
END:STANDARD
BEGIN:DAYLIGHT
TZOFFSETFROM:-0600
TZOFFSETTO:-0500
TZNAME:CDT
DTSTART:20210314T080000
END:DAYLIGHT
BEGIN:STANDARD
TZOFFSETFROM:-0500
TZOFFSETTO:-0600
TZNAME:CST
DTSTART:20211107T070000
END:STANDARD
BEGIN:DAYLIGHT
TZOFFSETFROM:-0600
TZOFFSETTO:-0500
TZNAME:CDT
DTSTART:20220313T080000
END:DAYLIGHT
BEGIN:STANDARD
TZOFFSETFROM:-0500
TZOFFSETTO:-0600
TZNAME:CST
DTSTART:20221106T070000
END:STANDARD
BEGIN:DAYLIGHT
TZOFFSETFROM:-0600
TZOFFSETTO:-0500
TZNAME:CDT
DTSTART:20230312T080000
END:DAYLIGHT
BEGIN:STANDARD
TZOFFSETFROM:-0500
TZOFFSETTO:-0600
TZNAME:CST
DTSTART:20231105T070000
END:STANDARD
BEGIN:DAYLIGHT
TZOFFSETFROM:-0600
TZOFFSETTO:-0500
TZNAME:CDT
DTSTART:20240310T080000
END:DAYLIGHT
BEGIN:STANDARD
TZOFFSETFROM:-0500
TZOFFSETTO:-0600
TZNAME:CST
DTSTART:20241103T070000
END:STANDARD
BEGIN:DAYLIGHT
TZOFFSETFROM:-0600
TZOFFSETTO:-0500
TZNAME:CDT
DTSTART:20250309T080000
END:DAYLIGHT
BEGIN:STANDARD
TZOFFSETFROM:-0500
TZOFFSETTO:-0600
TZNAME:CST
DTSTART:20251102T070000
END:STANDARD
END:VTIMEZONE
BEGIN:VEVENT
DTSTART;TZID=America/Chicago:20250803T100000
DTEND;TZID=America/Chicago:20250803T150000
DTSTAMP:20260423T032614
CREATED:20250726T180940Z
LAST-MODIFIED:20250726T180940Z
UID:41639-1754215200-1754233200@statelinekids.com
SUMMARY:Tallman Arts Festival
DESCRIPTION:Check out an art fair with poetry\, fine arts\, and crafts vendors throughout the museum. \nCost: Free with $5 suggested donation \n 
URL:https://statelinekids.com/event/tallman-arts-festival-5/2025-08-03/
LOCATION:Lincoln-Tallman House\, 426 N. Jackson St.\, Janesville\, WI\, United States
CATEGORIES:Janesville
END:VEVENT
BEGIN:VEVENT
DTSTART;TZID=America/Chicago:20250802T100000
DTEND;TZID=America/Chicago:20250802T160000
DTSTAMP:20260423T032614
CREATED:20250726T180940Z
LAST-MODIFIED:20250726T180940Z
UID:41637-1754128800-1754150400@statelinekids.com
SUMMARY:Tallman Arts Festival
DESCRIPTION:Check out an art fair with poetry\, fine arts\, and crafts vendors throughout the museum. \nCost: Free with $5 suggested donation \n 
URL:https://statelinekids.com/event/tallman-arts-festival-5/2025-08-02/
LOCATION:Lincoln-Tallman House\, 426 N. Jackson St.\, Janesville\, WI\, United States
CATEGORIES:Janesville
END:VEVENT
BEGIN:VEVENT
DTSTART;VALUE=DATE:20241129
DTEND;VALUE=DATE:20241231
DTSTAMP:20260423T032614
CREATED:20241123T192010Z
LAST-MODIFIED:20241123T192010Z
UID:38715-1732838400-1735603199@statelinekids.com
SUMMARY:Holiday Tree Show
DESCRIPTION:Tour the historical home with more than 100 trees indoors and outdoors. Get tickets here. \nCost: $15 per adult / kids 12 and under are free
URL:https://statelinekids.com/event/holiday-tree-show-4/
LOCATION:Lincoln-Tallman House\, 426 N. Jackson St.\, Janesville\, WI\, United States
CATEGORIES:Janesville
END:VEVENT
BEGIN:VEVENT
DTSTART;TZID=America/Chicago:20240804T100000
DTEND;TZID=America/Chicago:20240804T160000
DTSTAMP:20260423T032614
CREATED:20240728T182459Z
LAST-MODIFIED:20240728T182459Z
UID:37110-1722765600-1722787200@statelinekids.com
SUMMARY:Tallman Arts Festival
DESCRIPTION:Check out art\, pottery\, jewelry\, paintings\, fiber art\, food trucks\, and music. \nCost: $10 per person / free for kids 15 and under
URL:https://statelinekids.com/event/tallman-arts-festival-4/2024-08-04/
LOCATION:Lincoln-Tallman House\, 426 N. Jackson St.\, Janesville\, WI\, United States
CATEGORIES:Janesville
END:VEVENT
BEGIN:VEVENT
DTSTART;TZID=America/Chicago:20240803T100000
DTEND;TZID=America/Chicago:20240803T160000
DTSTAMP:20260423T032614
CREATED:20240728T182459Z
LAST-MODIFIED:20240728T182459Z
UID:37108-1722679200-1722700800@statelinekids.com
SUMMARY:Tallman Arts Festival
DESCRIPTION:Check out art\, pottery\, jewelry\, paintings\, fiber art\, food trucks\, and music. \nCost: $10 per person / free for kids 15 and under
URL:https://statelinekids.com/event/tallman-arts-festival-4/2024-08-03/
LOCATION:Lincoln-Tallman House\, 426 N. Jackson St.\, Janesville\, WI\, United States
CATEGORIES:Janesville
END:VEVENT
BEGIN:VEVENT
DTSTART;TZID=America/Chicago:20230805T100000
DTEND;TZID=America/Chicago:20230805T160000
DTSTAMP:20260423T032614
CREATED:20230730T172125Z
LAST-MODIFIED:20230730T172125Z
UID:29717-1691229600-1691251200@statelinekids.com
SUMMARY:Tallman Arts Festival
DESCRIPTION:Shop from over 100 art vendors\, enjoy live music\, and play in the kids’ area. \nCost: $5 per person / free for kids under 5
URL:https://statelinekids.com/event/tallman-arts-festival-3/2023-08-05/
LOCATION:Lincoln-Tallman House\, 426 N. Jackson St.\, Janesville\, WI\, United States
CATEGORIES:Janesville
END:VEVENT
BEGIN:VEVENT
DTSTART;VALUE=DATE:20221125
DTEND;VALUE=DATE:20221231
DTSTAMP:20260423T032614
CREATED:20221120T180904Z
LAST-MODIFIED:20221120T180904Z
UID:25010-1669334400-1672444799@statelinekids.com
SUMMARY:Holiday Tree Show
DESCRIPTION:Walk through to see 100 Christmas trees decorated by the community. \nGet tickets here.
URL:https://statelinekids.com/event/holiday-tree-show-3/
LOCATION:Lincoln-Tallman House\, 426 N. Jackson St.\, Janesville\, WI\, United States
CATEGORIES:Janesville
END:VEVENT
BEGIN:VEVENT
DTSTART;TZID=America/Chicago:20221120T120000
DTEND;TZID=America/Chicago:20221120T155000
DTSTAMP:20260423T032614
CREATED:20221112T210448Z
LAST-MODIFIED:20221112T210448Z
UID:24838-1668945600-1668959400@statelinekids.com
SUMMARY:Photos with Father Christmas
DESCRIPTION:Bring the kids and pets for a free family photo with Father Christmas. Register for your time slot here.
URL:https://statelinekids.com/event/photos-with-father-christmas/
LOCATION:Lincoln-Tallman House\, 426 N. Jackson St.\, Janesville\, WI\, United States
CATEGORIES:Janesville
END:VEVENT
BEGIN:VEVENT
DTSTART;TZID=America/Chicago:20220806T100000
DTEND;TZID=America/Chicago:20220806T173000
DTSTAMP:20260423T032614
CREATED:20220731T173801Z
LAST-MODIFIED:20220731T173801Z
UID:22805-1659780000-1659807000@statelinekids.com
SUMMARY:Tallman Arts Festival
DESCRIPTION:Enjoy live music\, kids’ activities\, get lunch and shop for regional art. \nCost: $10 per adult / free for kids under 5
URL:https://statelinekids.com/event/tallman-arts-festival-2/2022-08-06/
LOCATION:Lincoln-Tallman House\, 426 N. Jackson St.\, Janesville\, WI\, United States
CATEGORIES:Janesville
END:VEVENT
BEGIN:VEVENT
DTSTART;TZID=America/Chicago:20220615T170000
DTEND;TZID=America/Chicago:20220615T200000
DTSTAMP:20260423T032614
CREATED:20220612T200159Z
LAST-MODIFIED:20220612T200159Z
UID:21200-1655312400-1655323200@statelinekids.com
SUMMARY:Artrageous Wednesday
DESCRIPTION:Enjoy local artists\, live music\, and food trucks.
URL:https://statelinekids.com/event/artrageous-wednesday/2022-06-15/
LOCATION:Lincoln-Tallman House\, 426 N. Jackson St.\, Janesville\, WI\, United States
CATEGORIES:Janesville
END:VEVENT
BEGIN:VEVENT
DTSTART;VALUE=DATE:20211126
DTEND;VALUE=DATE:20211231
DTSTAMP:20260423T032614
CREATED:20211121T204645Z
LAST-MODIFIED:20211121T204645Z
UID:18324-1637884800-1640908799@statelinekids.com
SUMMARY:Holiday Tree Show
DESCRIPTION:Walk through 130 decorated Christmas trees decorated for the season. Get tickets here. \nCost: $10 per adult / $5 for kids ages 5-10 / free for kids 4 and under
URL:https://statelinekids.com/event/holiday-tree-show-2/
LOCATION:Lincoln-Tallman House\, 426 N. Jackson St.\, Janesville\, WI\, United States
CATEGORIES:Janesville
END:VEVENT
BEGIN:VEVENT
DTSTART;TZID=America/Chicago:20210801T100000
DTEND;TZID=America/Chicago:20210801T160000
DTSTAMP:20260423T032614
CREATED:20210725T201542Z
LAST-MODIFIED:20210725T201542Z
UID:16842-1627812000-1627833600@statelinekids.com
SUMMARY:Tallman Arts Festival
DESCRIPTION:View and purchase art from local artists\, enjoy food\, beverages\, live music\, and family-friendly activities. \nCost: $5 per person
URL:https://statelinekids.com/event/tallman-arts-festival/
LOCATION:Lincoln-Tallman House\, 426 N. Jackson St.\, Janesville\, WI\, United States
CATEGORIES:Janesville
END:VEVENT
BEGIN:VEVENT
DTSTART;TZID=America/Chicago:20201207T100000
DTEND;TZID=America/Chicago:20201207T220000
DTSTAMP:20260423T032614
CREATED:20201206T180939Z
LAST-MODIFIED:20201206T180939Z
UID:14035-1607335200-1607378400@statelinekids.com
SUMMARY:Holiday Tree Show
DESCRIPTION:Take a stroll through the grounds of the Lincoln-Tallman House to see over 100 trees outside. This event continues January 5th.
URL:https://statelinekids.com/event/holiday-tree-show/2020-12-07/
LOCATION:Lincoln-Tallman House\, 426 N. Jackson St.\, Janesville\, WI\, United States
CATEGORIES:Janesville
END:VEVENT
END:VCALENDAR