BEGIN:VCALENDAR
VERSION:2.0
PRODID:-//Stateline Kids - ECPv6.5.1.3//NONSGML v1.0//EN
CALSCALE:GREGORIAN
METHOD:PUBLISH
X-ORIGINAL-URL:https://statelinekids.com
X-WR-CALDESC:Events for Stateline Kids
REFRESH-INTERVAL;VALUE=DURATION:PT1H
X-Robots-Tag:noindex
X-PUBLISHED-TTL:PT1H
BEGIN:VTIMEZONE
TZID:America/Chicago
BEGIN:DAYLIGHT
TZOFFSETFROM:-0600
TZOFFSETTO:-0500
TZNAME:CDT
DTSTART:20190310T080000
END:DAYLIGHT
BEGIN:STANDARD
TZOFFSETFROM:-0500
TZOFFSETTO:-0600
TZNAME:CST
DTSTART:20191103T070000
END:STANDARD
BEGIN:DAYLIGHT
TZOFFSETFROM:-0600
TZOFFSETTO:-0500
TZNAME:CDT
DTSTART:20200308T080000
END:DAYLIGHT
BEGIN:STANDARD
TZOFFSETFROM:-0500
TZOFFSETTO:-0600
TZNAME:CST
DTSTART:20201101T070000
END:STANDARD
BEGIN:DAYLIGHT
TZOFFSETFROM:-0600
TZOFFSETTO:-0500
TZNAME:CDT
DTSTART:20210314T080000
END:DAYLIGHT
BEGIN:STANDARD
TZOFFSETFROM:-0500
TZOFFSETTO:-0600
TZNAME:CST
DTSTART:20211107T070000
END:STANDARD
BEGIN:DAYLIGHT
TZOFFSETFROM:-0600
TZOFFSETTO:-0500
TZNAME:CDT
DTSTART:20220313T080000
END:DAYLIGHT
BEGIN:STANDARD
TZOFFSETFROM:-0500
TZOFFSETTO:-0600
TZNAME:CST
DTSTART:20221106T070000
END:STANDARD
BEGIN:DAYLIGHT
TZOFFSETFROM:-0600
TZOFFSETTO:-0500
TZNAME:CDT
DTSTART:20230312T080000
END:DAYLIGHT
BEGIN:STANDARD
TZOFFSETFROM:-0500
TZOFFSETTO:-0600
TZNAME:CST
DTSTART:20231105T070000
END:STANDARD
END:VTIMEZONE
BEGIN:VEVENT
DTSTART;TZID=America/Chicago:20231021T100000
DTEND;TZID=America/Chicago:20231021T150000
DTSTAMP:20260422T070254
CREATED:20231013T175943Z
LAST-MODIFIED:20231013T175943Z
UID:31366-1697882400-1697900400@statelinekids.com
SUMMARY:Northern Illinois Toy Show
DESCRIPTION:Check out more than 50 tables of diecast\, toys\, and collectibles. There will be Hot Wheels drag racing and trophies for kids. \nCost: $3 per person / kids 15 and under are free
URL:https://statelinekids.com/event/northern-illinois-toy-show-3/
LOCATION:Life Church Assembly of God\, 5910 Elevator Rd.\, Roscoe\, IL\, United States
CATEGORIES:Roscoe
END:VEVENT
BEGIN:VEVENT
DTSTART;TZID=America/Chicago:20230121T080000
DTEND;TZID=America/Chicago:20230121T130000
DTSTAMP:20260422T070254
CREATED:20230114T211323Z
LAST-MODIFIED:20230114T211323Z
UID:25932-1674288000-1674306000@statelinekids.com
SUMMARY:Northern Illinois Toy Show
DESCRIPTION:Check out over 60 tables of toys for sale including Hot Wheels\, Die Cast\, Action Figures and more. \nCost: $3 per adult / free admission for 15 and under
URL:https://statelinekids.com/event/northern-illinois-toy-show-2/
LOCATION:Life Church Assembly of God\, 5910 Elevator Rd.\, Roscoe\, IL\, United States
CATEGORIES:Roscoe
END:VEVENT
BEGIN:VEVENT
DTSTART;TZID=America/Chicago:20221217T080000
DTEND;TZID=America/Chicago:20221217T130000
DTSTAMP:20260422T070254
CREATED:20221210T220038Z
LAST-MODIFIED:20221210T220038Z
UID:25280-1671264000-1671282000@statelinekids.com
SUMMARY:December Toy Show
DESCRIPTION:Get last minute gifts including die cast\, action fictures\, Funko Pops\, and more. \nCost: $3 per adult / free for kids ages 15 and under \n 
URL:https://statelinekids.com/event/december-toy-show/
LOCATION:Life Church Assembly of God\, 5910 Elevator Rd.\, Roscoe\, IL\, United States
CATEGORIES:Roscoe
END:VEVENT
BEGIN:VEVENT
DTSTART;TZID=America/Chicago:20220521T090000
DTEND;TZID=America/Chicago:20220521T140000
DTSTAMP:20260422T070254
CREATED:20220507T222520Z
LAST-MODIFIED:20220507T222520Z
UID:20228-1653123600-1653141600@statelinekids.com
SUMMARY:Street Market Extravaganza
DESCRIPTION:Shop from vendors\, enjoy food trucks\, retro and vintage toys\, inflatables\, and a DJ.
URL:https://statelinekids.com/event/street-market-extravaganza/
LOCATION:Life Church Assembly of God\, 5910 Elevator Rd.\, Roscoe\, IL\, United States
CATEGORIES:Roscoe
END:VEVENT
BEGIN:VEVENT
DTSTART;TZID=America/Chicago:20211016T080000
DTEND;TZID=America/Chicago:20211016T140000
DTSTAMP:20260422T070254
CREATED:20211009T181633Z
LAST-MODIFIED:20211009T181633Z
UID:17736-1634371200-1634392800@statelinekids.com
SUMMARY:Rockford Hot Wheels and Toy Show
DESCRIPTION:Check out vendors displaying and selling Hot Wheels and toys. \nCost: $3 for ages 16 and up\, free for people under 16
URL:https://statelinekids.com/event/rockford-hot-wheels-and-toy-show-2/
LOCATION:Life Church Assembly of God\, 5910 Elevator Rd.\, Roscoe\, IL\, United States
CATEGORIES:Roscoe
END:VEVENT
BEGIN:VEVENT
DTSTART;TZID=America/Chicago:20191206T180000
DTEND;TZID=America/Chicago:20191206T210000
DTSTAMP:20260422T070254
CREATED:20191116T182206Z
LAST-MODIFIED:20191116T182206Z
UID:8573-1575655200-1575666000@statelinekids.com
SUMMARY:Jingle Mingle Christmas Pop Up Market
DESCRIPTION:Come to Jingle Mingle Christmas Market to shop for gifts\, hear some great music\, have some yummy snacks and kick off the Christmas Season. \nThis event is a fundraiser for Realife Student Ministries and SAGU Life.
URL:https://statelinekids.com/event/jingle-mingle-christmas-pop-up-market/
LOCATION:Life Church Assembly of God\, 5910 Elevator Rd.\, Roscoe\, IL\, United States
CATEGORIES:Roscoe
END:VEVENT
END:VCALENDAR