BEGIN:VCALENDAR
VERSION:2.0
PRODID:-//Stateline Kids - ECPv6.5.1.3//NONSGML v1.0//EN
CALSCALE:GREGORIAN
METHOD:PUBLISH
X-WR-CALNAME:Stateline Kids
X-ORIGINAL-URL:https://statelinekids.com
X-WR-CALDESC:Events for Stateline Kids
REFRESH-INTERVAL;VALUE=DURATION:PT1H
X-Robots-Tag:noindex
X-PUBLISHED-TTL:PT1H
BEGIN:VTIMEZONE
TZID:America/Chicago
BEGIN:DAYLIGHT
TZOFFSETFROM:-0600
TZOFFSETTO:-0500
TZNAME:CDT
DTSTART:20210314T080000
END:DAYLIGHT
BEGIN:STANDARD
TZOFFSETFROM:-0500
TZOFFSETTO:-0600
TZNAME:CST
DTSTART:20211107T070000
END:STANDARD
END:VTIMEZONE
BEGIN:VEVENT
DTSTART;TZID=America/Chicago:20211208T193000
DTEND;TZID=America/Chicago:20211208T210000
DTSTAMP:20260423T135754
CREATED:20211205T212306Z
LAST-MODIFIED:20211205T212306Z
UID:18493-1638991800-1638997200@statelinekids.com
SUMMARY:50th Annual Holiday Concert
DESCRIPTION:Enjoy a festive holiday band and choir concert.
URL:https://statelinekids.com/event/50th-annual-holiday-concert/
LOCATION:Kirk Denmark Theatre\, 2909 Kellogg Ave.\, Janesville\, WI\, United States
CATEGORIES:Janesville
END:VEVENT
END:VCALENDAR