BEGIN:VCALENDAR
VERSION:2.0
PRODID:-//Stateline Kids - ECPv6.5.1.3//NONSGML v1.0//EN
CALSCALE:GREGORIAN
METHOD:PUBLISH
X-ORIGINAL-URL:https://statelinekids.com
X-WR-CALDESC:Events for Stateline Kids
REFRESH-INTERVAL;VALUE=DURATION:PT1H
X-Robots-Tag:noindex
X-PUBLISHED-TTL:PT1H
BEGIN:VTIMEZONE
TZID:America/Chicago
BEGIN:DAYLIGHT
TZOFFSETFROM:-0600
TZOFFSETTO:-0500
TZNAME:CDT
DTSTART:20200308T080000
END:DAYLIGHT
BEGIN:STANDARD
TZOFFSETFROM:-0500
TZOFFSETTO:-0600
TZNAME:CST
DTSTART:20201101T070000
END:STANDARD
BEGIN:DAYLIGHT
TZOFFSETFROM:-0600
TZOFFSETTO:-0500
TZNAME:CDT
DTSTART:20210314T080000
END:DAYLIGHT
BEGIN:STANDARD
TZOFFSETFROM:-0500
TZOFFSETTO:-0600
TZNAME:CST
DTSTART:20211107T070000
END:STANDARD
BEGIN:DAYLIGHT
TZOFFSETFROM:-0600
TZOFFSETTO:-0500
TZNAME:CDT
DTSTART:20220313T080000
END:DAYLIGHT
BEGIN:STANDARD
TZOFFSETFROM:-0500
TZOFFSETTO:-0600
TZNAME:CST
DTSTART:20221106T070000
END:STANDARD
BEGIN:DAYLIGHT
TZOFFSETFROM:-0600
TZOFFSETTO:-0500
TZNAME:CDT
DTSTART:20230312T080000
END:DAYLIGHT
BEGIN:STANDARD
TZOFFSETFROM:-0500
TZOFFSETTO:-0600
TZNAME:CST
DTSTART:20231105T070000
END:STANDARD
BEGIN:DAYLIGHT
TZOFFSETFROM:-0600
TZOFFSETTO:-0500
TZNAME:CDT
DTSTART:20240310T080000
END:DAYLIGHT
BEGIN:STANDARD
TZOFFSETFROM:-0500
TZOFFSETTO:-0600
TZNAME:CST
DTSTART:20241103T070000
END:STANDARD
END:VTIMEZONE
BEGIN:VEVENT
DTSTART;TZID=America/Chicago:20240913T150000
DTEND;TZID=America/Chicago:20240913T190000
DTSTAMP:20260424T215935
CREATED:20240907T191245Z
LAST-MODIFIED:20240907T191245Z
UID:37547-1726239600-1726254000@statelinekids.com
SUMMARY:Kauffman’s Country Market
DESCRIPTION:Enjoy vendors\, a car show\, food trucks\, and music.
URL:https://statelinekids.com/event/kauffmans-country-market/
LOCATION:Kauffman’s Country Store\, 9550 W. State Rd 81\, Beloit\, WI\, United States
CATEGORIES:Beloit
END:VEVENT
BEGIN:VEVENT
DTSTART;TZID=America/Chicago:20240615T140000
DTEND;TZID=America/Chicago:20240615T190000
DTSTAMP:20260424T215935
CREATED:20240609T193522Z
LAST-MODIFIED:20240609T193522Z
UID:35401-1718460000-1718478000@statelinekids.com
SUMMARY:Kauffman’s Classic Car Show
DESCRIPTION:Check out classic cars and enjoy music\, food\, and vendors.
URL:https://statelinekids.com/event/kauffmans-classic-car-show/
LOCATION:Kauffman’s Country Store\, 9550 W. State Rd 81\, Beloit\, WI\, United States
CATEGORIES:Beloit
END:VEVENT
BEGIN:VEVENT
DTSTART;TZID=America/Chicago:20231021T090000
DTEND;TZID=America/Chicago:20231021T130000
DTSTAMP:20260424T215935
CREATED:20230507T183131Z
LAST-MODIFIED:20230507T183131Z
UID:27914-1697878800-1697893200@statelinekids.com
SUMMARY:Kauffman’s Outdoor Country Market
DESCRIPTION:Enjoy the fresh country air and local produce\, crafts\, yard art and more.
URL:https://statelinekids.com/event/kauffmans-outdoor-country-market/
LOCATION:Kauffman’s Country Store\, 9550 W. State Rd 81\, Beloit\, WI\, United States
END:VEVENT
BEGIN:VEVENT
DTSTART;TZID=America/Chicago:20220528T090000
DTEND;TZID=America/Chicago:20220528T130000
DTSTAMP:20260424T215935
CREATED:20220522T181428Z
LAST-MODIFIED:20220522T181428Z
UID:20384-1653728400-1653742800@statelinekids.com
SUMMARY:Kaufman’s Country Market
DESCRIPTION:Enjoy a farmers’ market with local vendors.
URL:https://statelinekids.com/event/kaufmans-country-market/2022-05-28/
LOCATION:Kauffman’s Country Store\, 9550 W. State Rd 81\, Beloit\, WI\, United States
CATEGORIES:Beloit
END:VEVENT
BEGIN:VEVENT
DTSTART;TZID=America/Chicago:20200829T090000
DTEND;TZID=America/Chicago:20200829T130000
DTSTAMP:20260424T215935
CREATED:20200823T184122Z
LAST-MODIFIED:20200823T184122Z
UID:12697-1598691600-1598706000@statelinekids.com
SUMMARY:Kauffman’s Country Store Market
DESCRIPTION:Shop for local produce\, baked goods\, and more.
URL:https://statelinekids.com/event/kauffmans-country-store-market/2020-08-29/
LOCATION:Kauffman’s Country Store\, 9550 W. State Rd 81\, Beloit\, WI\, United States
CATEGORIES:Beloit
END:VEVENT
BEGIN:VEVENT
DTSTART;TZID=America/Chicago:20200815T090000
DTEND;TZID=America/Chicago:20200815T130000
DTSTAMP:20260424T215935
CREATED:20200808T194351Z
LAST-MODIFIED:20200808T194351Z
UID:12532-1597482000-1597496400@statelinekids.com
SUMMARY:Mini Mouthful Donut Truck Stop
DESCRIPTION:Mini Mouthful donuts will be making a stop in Beloit selling their gourmet mini donuts. Donuts start around $6 per dozen.
URL:https://statelinekids.com/event/mini-mouthful-donut-truck-stop/
LOCATION:Kauffman’s Country Store\, 9550 W. State Rd 81\, Beloit\, WI\, United States
CATEGORIES:Beloit
END:VEVENT
END:VCALENDAR