BEGIN:VCALENDAR
VERSION:2.0
PRODID:-//Stateline Kids - ECPv6.5.1.3//NONSGML v1.0//EN
CALSCALE:GREGORIAN
METHOD:PUBLISH
X-ORIGINAL-URL:https://statelinekids.com
X-WR-CALDESC:Events for Stateline Kids
REFRESH-INTERVAL;VALUE=DURATION:PT1H
X-Robots-Tag:noindex
X-PUBLISHED-TTL:PT1H
BEGIN:VTIMEZONE
TZID:America/Chicago
BEGIN:DAYLIGHT
TZOFFSETFROM:-0600
TZOFFSETTO:-0500
TZNAME:CDT
DTSTART:20210314T080000
END:DAYLIGHT
BEGIN:STANDARD
TZOFFSETFROM:-0500
TZOFFSETTO:-0600
TZNAME:CST
DTSTART:20211107T070000
END:STANDARD
BEGIN:DAYLIGHT
TZOFFSETFROM:-0600
TZOFFSETTO:-0500
TZNAME:CDT
DTSTART:20220313T080000
END:DAYLIGHT
BEGIN:STANDARD
TZOFFSETFROM:-0500
TZOFFSETTO:-0600
TZNAME:CST
DTSTART:20221106T070000
END:STANDARD
BEGIN:DAYLIGHT
TZOFFSETFROM:-0600
TZOFFSETTO:-0500
TZNAME:CDT
DTSTART:20230312T080000
END:DAYLIGHT
BEGIN:STANDARD
TZOFFSETFROM:-0500
TZOFFSETTO:-0600
TZNAME:CST
DTSTART:20231105T070000
END:STANDARD
BEGIN:DAYLIGHT
TZOFFSETFROM:-0600
TZOFFSETTO:-0500
TZNAME:CDT
DTSTART:20240310T080000
END:DAYLIGHT
BEGIN:STANDARD
TZOFFSETFROM:-0500
TZOFFSETTO:-0600
TZNAME:CST
DTSTART:20241103T070000
END:STANDARD
END:VTIMEZONE
BEGIN:VEVENT
DTSTART;TZID=America/Chicago:20240801T090000
DTEND;TZID=America/Chicago:20240801T130000
DTSTAMP:20260422T173339
CREATED:20240602T225249Z
LAST-MODIFIED:20240602T225249Z
UID:35286-1722502800-1722517200@statelinekids.com
SUMMARY:Rockford Midtown Market
DESCRIPTION:Shop from local vendors and enjoy live music.
URL:https://statelinekids.com/event/rockford-midtown-market-6/2024-08-01/
LOCATION:Katie’s Cup\, 502 7th St.\, Rockford\, IL\, United States
CATEGORIES:Rockford
END:VEVENT
BEGIN:VEVENT
DTSTART;TZID=America/Chicago:20240725T090000
DTEND;TZID=America/Chicago:20240725T130000
DTSTAMP:20260422T173339
CREATED:20240602T225249Z
LAST-MODIFIED:20240602T225249Z
UID:35285-1721898000-1721912400@statelinekids.com
SUMMARY:Rockford Midtown Market
DESCRIPTION:Shop from local vendors and enjoy live music.
URL:https://statelinekids.com/event/rockford-midtown-market-6/2024-07-25/
LOCATION:Katie’s Cup\, 502 7th St.\, Rockford\, IL\, United States
CATEGORIES:Rockford
END:VEVENT
BEGIN:VEVENT
DTSTART;TZID=America/Chicago:20240718T090000
DTEND;TZID=America/Chicago:20240718T130000
DTSTAMP:20260422T173339
CREATED:20240602T225249Z
LAST-MODIFIED:20240602T225249Z
UID:35284-1721293200-1721307600@statelinekids.com
SUMMARY:Rockford Midtown Market
DESCRIPTION:Shop from local vendors and enjoy live music.
URL:https://statelinekids.com/event/rockford-midtown-market-6/2024-07-18/
LOCATION:Katie’s Cup\, 502 7th St.\, Rockford\, IL\, United States
CATEGORIES:Rockford
END:VEVENT
BEGIN:VEVENT
DTSTART;TZID=America/Chicago:20240711T090000
DTEND;TZID=America/Chicago:20240711T130000
DTSTAMP:20260422T173339
CREATED:20240706T205358Z
LAST-MODIFIED:20240706T205358Z
UID:36663-1720688400-1720702800@statelinekids.com
SUMMARY:Rockford Midtown Market
DESCRIPTION:Shop from local vendors and enjoy live music.
URL:https://statelinekids.com/event/rockford-midtown-market-9/
LOCATION:Katie’s Cup\, 502 7th St.\, Rockford\, IL\, United States
CATEGORIES:Rockford
END:VEVENT
BEGIN:VEVENT
DTSTART;TZID=America/Chicago:20240711T090000
DTEND;TZID=America/Chicago:20240711T130000
DTSTAMP:20260422T173339
CREATED:20240602T225249Z
LAST-MODIFIED:20240602T225249Z
UID:35283-1720688400-1720702800@statelinekids.com
SUMMARY:Rockford Midtown Market
DESCRIPTION:Shop from local vendors and enjoy live music.
URL:https://statelinekids.com/event/rockford-midtown-market-6/2024-07-11/
LOCATION:Katie’s Cup\, 502 7th St.\, Rockford\, IL\, United States
CATEGORIES:Rockford
END:VEVENT
BEGIN:VEVENT
DTSTART;TZID=America/Chicago:20240704T090000
DTEND;TZID=America/Chicago:20240704T130000
DTSTAMP:20260422T173339
CREATED:20240602T225249Z
LAST-MODIFIED:20240602T225249Z
UID:35282-1720083600-1720098000@statelinekids.com
SUMMARY:Rockford Midtown Market
DESCRIPTION:Shop from local vendors and enjoy live music.
URL:https://statelinekids.com/event/rockford-midtown-market-6/2024-07-04/
LOCATION:Katie’s Cup\, 502 7th St.\, Rockford\, IL\, United States
CATEGORIES:Rockford
END:VEVENT
BEGIN:VEVENT
DTSTART;TZID=America/Chicago:20240627T090000
DTEND;TZID=America/Chicago:20240627T130000
DTSTAMP:20260422T173339
CREATED:20240602T225249Z
LAST-MODIFIED:20240602T225249Z
UID:35281-1719478800-1719493200@statelinekids.com
SUMMARY:Rockford Midtown Market
DESCRIPTION:Shop from local vendors and enjoy live music.
URL:https://statelinekids.com/event/rockford-midtown-market-6/2024-06-27/
LOCATION:Katie’s Cup\, 502 7th St.\, Rockford\, IL\, United States
CATEGORIES:Rockford
END:VEVENT
BEGIN:VEVENT
DTSTART;TZID=America/Chicago:20240620T090000
DTEND;TZID=America/Chicago:20240620T130000
DTSTAMP:20260422T173339
CREATED:20240615T203247Z
LAST-MODIFIED:20240615T203247Z
UID:35591-1718874000-1718888400@statelinekids.com
SUMMARY:Rockford Midtown Market
DESCRIPTION:Shop from local vendors and enjoy live music.
URL:https://statelinekids.com/event/rockford-midtown-market-8/
LOCATION:Katie’s Cup\, 502 7th St.\, Rockford\, IL\, United States
CATEGORIES:Rockford
END:VEVENT
BEGIN:VEVENT
DTSTART;TZID=America/Chicago:20240620T090000
DTEND;TZID=America/Chicago:20240620T130000
DTSTAMP:20260422T173339
CREATED:20240602T225249Z
LAST-MODIFIED:20240602T225249Z
UID:35280-1718874000-1718888400@statelinekids.com
SUMMARY:Rockford Midtown Market
DESCRIPTION:Shop from local vendors and enjoy live music.
URL:https://statelinekids.com/event/rockford-midtown-market-6/2024-06-20/
LOCATION:Katie’s Cup\, 502 7th St.\, Rockford\, IL\, United States
CATEGORIES:Rockford
END:VEVENT
BEGIN:VEVENT
DTSTART;TZID=America/Chicago:20240613T090000
DTEND;TZID=America/Chicago:20240613T130000
DTSTAMP:20260422T173339
CREATED:20240609T174740Z
LAST-MODIFIED:20240609T174740Z
UID:35336-1718269200-1718283600@statelinekids.com
SUMMARY:Rockford Midtown Market
DESCRIPTION:Shop from local vendors and enjoy live music.
URL:https://statelinekids.com/event/rockford-midtown-market-7/
LOCATION:Katie’s Cup\, 502 7th St.\, Rockford\, IL\, United States
CATEGORIES:Rockford
END:VEVENT
BEGIN:VEVENT
DTSTART;TZID=America/Chicago:20240613T090000
DTEND;TZID=America/Chicago:20240613T130000
DTSTAMP:20260422T173339
CREATED:20240602T225249Z
LAST-MODIFIED:20240602T225249Z
UID:35279-1718269200-1718283600@statelinekids.com
SUMMARY:Rockford Midtown Market
DESCRIPTION:Shop from local vendors and enjoy live music.
URL:https://statelinekids.com/event/rockford-midtown-market-6/2024-06-13/
LOCATION:Katie’s Cup\, 502 7th St.\, Rockford\, IL\, United States
CATEGORIES:Rockford
END:VEVENT
BEGIN:VEVENT
DTSTART;TZID=America/Chicago:20240606T090000
DTEND;TZID=America/Chicago:20240606T130000
DTSTAMP:20260422T173339
CREATED:20240602T225249Z
LAST-MODIFIED:20240602T225249Z
UID:35277-1717664400-1717678800@statelinekids.com
SUMMARY:Rockford Midtown Market
DESCRIPTION:Shop from local vendors and enjoy live music.
URL:https://statelinekids.com/event/rockford-midtown-market-6/2024-06-06/
LOCATION:Katie’s Cup\, 502 7th St.\, Rockford\, IL\, United States
CATEGORIES:Rockford
END:VEVENT
BEGIN:VEVENT
DTSTART;TZID=America/Chicago:20240504T090000
DTEND;TZID=America/Chicago:20240504T120000
DTSTAMP:20260422T173339
CREATED:20240427T225400Z
LAST-MODIFIED:20240427T225400Z
UID:34644-1714813200-1714824000@statelinekids.com
SUMMARY:Cars and Coffee
DESCRIPTION:Check out a car show\, Hammy the Hog\, and more.
URL:https://statelinekids.com/event/cars-and-coffee-8/
LOCATION:Katie’s Cup\, 502 7th St.\, Rockford\, IL\, United States
CATEGORIES:Rockford
END:VEVENT
BEGIN:VEVENT
DTSTART;TZID=America/Chicago:20240314T190000
DTEND;TZID=America/Chicago:20240314T203000
DTSTAMP:20260422T173339
CREATED:20240310T175724Z
LAST-MODIFIED:20240310T175724Z
UID:33775-1710442800-1710448200@statelinekids.com
SUMMARY:St. Patrick’s Season Celebration
DESCRIPTION:Enjoy a night of Irish music with The Magtones\, Danny McDade\, and Emerald Wind. Doors open at 6 pm and attendance is capped at 50 people.\n \nCost: Free\, donations accepted
URL:https://statelinekids.com/event/st-patricks-season-celebration/
LOCATION:Katie’s Cup\, 502 7th St.\, Rockford\, IL\, United States
CATEGORIES:Rockford
END:VEVENT
BEGIN:VEVENT
DTSTART;TZID=America/Chicago:20240302T090000
DTEND;TZID=America/Chicago:20240302T130000
DTSTAMP:20260422T173339
CREATED:20240225T203818Z
LAST-MODIFIED:20240225T203818Z
UID:33607-1709370000-1709384400@statelinekids.com
SUMMARY:Spring Festival and Market
DESCRIPTION:Enjoy a morning of food\, music\, coffee\, and vendors.
URL:https://statelinekids.com/event/spring-festival-and-market/
LOCATION:Katie’s Cup\, 502 7th St.\, Rockford\, IL\, United States
CATEGORIES:Rockford
END:VEVENT
BEGIN:VEVENT
DTSTART;TZID=America/Chicago:20240203T090000
DTEND;TZID=America/Chicago:20240203T130000
DTSTAMP:20260422T173339
CREATED:20240128T210659Z
LAST-MODIFIED:20240128T210659Z
UID:33201-1706950800-1706965200@statelinekids.com
SUMMARY:Valentine Festival and Market
DESCRIPTION:Enjoy coffee\, food\, music\, and vendors.
URL:https://statelinekids.com/event/valentine-festival-and-market/
LOCATION:Katie’s Cup\, 502 7th St.\, Rockford\, IL\, United States
CATEGORIES:Rockford
END:VEVENT
BEGIN:VEVENT
DTSTART;TZID=America/Chicago:20231202T090000
DTEND;TZID=America/Chicago:20231202T130000
DTSTAMP:20260422T173339
CREATED:20231126T211204Z
LAST-MODIFIED:20231126T211204Z
UID:32293-1701507600-1701522000@statelinekids.com
SUMMARY:Holiday Festival and Market
DESCRIPTION:Shop from local vendors and enjoy some live music.
URL:https://statelinekids.com/event/holiday-festival-and-market/
LOCATION:Katie’s Cup\, 502 7th St.\, Rockford\, IL\, United States
CATEGORIES:Rockford
END:VEVENT
BEGIN:VEVENT
DTSTART;TZID=America/Chicago:20231007T090000
DTEND;TZID=America/Chicago:20231007T120000
DTSTAMP:20260422T173339
CREATED:20230930T175800Z
LAST-MODIFIED:20230930T175800Z
UID:30971-1696669200-1696680000@statelinekids.com
SUMMARY:Cars and Coffee
DESCRIPTION:Enjoy the last car show of the season and bring a brand new sealed toy for their toy drive.
URL:https://statelinekids.com/event/cars-and-coffee-7/
LOCATION:Katie’s Cup\, 502 7th St.\, Rockford\, IL\, United States
CATEGORIES:Rockford
END:VEVENT
BEGIN:VEVENT
DTSTART;TZID=America/Chicago:20230601T090000
DTEND;TZID=America/Chicago:20230601T130000
DTSTAMP:20260422T173339
CREATED:20230527T194832Z
LAST-MODIFIED:20230527T194832Z
UID:28227-1685610000-1685624400@statelinekids.com
SUMMARY:Rockford Midtown Market
DESCRIPTION:Shop from a local farmers market with fresh veggies\, baked goods\, and more.
URL:https://statelinekids.com/event/rockford-midtown-market-5/2023-06-01/
LOCATION:Katie’s Cup\, 502 7th St.\, Rockford\, IL\, United States
CATEGORIES:Rockford
END:VEVENT
BEGIN:VEVENT
DTSTART;TZID=America/Chicago:20230319T130000
DTEND;TZID=America/Chicago:20230319T160000
DTSTAMP:20260422T173339
CREATED:20230311T191420Z
LAST-MODIFIED:20230311T191420Z
UID:26895-1679230800-1679241600@statelinekids.com
SUMMARY:You Be Grandma Book Launch
DESCRIPTION:Celebrate the launch of Karla Clark’s new picture book.
URL:https://statelinekids.com/event/you-be-grandma-book-launch/
LOCATION:Katie’s Cup\, 502 7th St.\, Rockford\, IL\, United States
CATEGORIES:Rockford
END:VEVENT
BEGIN:VEVENT
DTSTART;TZID=America/Chicago:20221218T120000
DTEND;TZID=America/Chicago:20221218T170000
DTSTAMP:20260422T173339
CREATED:20221211T193730Z
LAST-MODIFIED:20221211T193730Z
UID:25317-1671364800-1671382800@statelinekids.com
SUMMARY:Winter Wonderland Pop Up Shop
DESCRIPTION:Shop from over 30 vendors for last minute presents.
URL:https://statelinekids.com/event/winter-wonderland-pop-up-shop/
LOCATION:Katie’s Cup\, 502 7th St.\, Rockford\, IL\, United States
CATEGORIES:Rockford
END:VEVENT
BEGIN:VEVENT
DTSTART;TZID=America/Chicago:20220903T090000
DTEND;TZID=America/Chicago:20220903T120000
DTSTAMP:20260422T173339
CREATED:20220828T200222Z
LAST-MODIFIED:20220828T200222Z
UID:23150-1662195600-1662206400@statelinekids.com
SUMMARY:Cars and Coffee
DESCRIPTION:Check out more than 200 cars\, raffles\, K9 demos\, a fire truck and vehicle display\, music\, and a cookout.
URL:https://statelinekids.com/event/cars-and-coffee-4/
LOCATION:Katie’s Cup\, 502 7th St.\, Rockford\, IL\, United States
CATEGORIES:Rockford
END:VEVENT
BEGIN:VEVENT
DTSTART;TZID=America/Chicago:20220806T090000
DTEND;TZID=America/Chicago:20220806T120000
DTSTAMP:20260422T173339
CREATED:20220731T175608Z
LAST-MODIFIED:20220731T175608Z
UID:22817-1659776400-1659787200@statelinekids.com
SUMMARY:Cars and Coffee
DESCRIPTION:Enjoy a car show\, games\, contests\, music\, and more.
URL:https://statelinekids.com/event/cars-and-coffee-3/
LOCATION:Katie’s Cup\, 502 7th St.\, Rockford\, IL\, United States
CATEGORIES:Beloit
END:VEVENT
BEGIN:VEVENT
DTSTART;TZID=America/Chicago:20220702T090000
DTEND;TZID=America/Chicago:20220702T120000
DTSTAMP:20260422T173339
CREATED:20220626T152936Z
LAST-MODIFIED:20220626T152936Z
UID:22209-1656752400-1656763200@statelinekids.com
SUMMARY:Cars and Coffee Weekend
DESCRIPTION:Check out more than 200 cars\, and a special Color Guard presentation\, wear red\, white\, and blue for a chance to win prizes.
URL:https://statelinekids.com/event/cars-and-coffee-weekend/
LOCATION:Katie’s Cup\, 502 7th St.\, Rockford\, IL\, United States
CATEGORIES:Rockford
END:VEVENT
BEGIN:VEVENT
DTSTART;TZID=America/Chicago:20220604T090000
DTEND;TZID=America/Chicago:20220604T120000
DTSTAMP:20260422T173339
CREATED:20220528T183816Z
LAST-MODIFIED:20220528T183816Z
UID:20594-1654333200-1654344000@statelinekids.com
SUMMARY:Cars and Coffee Show
DESCRIPTION:Check out more than 300 cars\, a monster truck\, a K9 demonstration from the Rockford Police Department\, and more.
URL:https://statelinekids.com/event/cars-and-coffee-show/
LOCATION:Katie’s Cup\, 502 7th St.\, Rockford\, IL\, United States
CATEGORIES:Rockford
END:VEVENT
BEGIN:VEVENT
DTSTART;TZID=America/Chicago:20220507T090000
DTEND;TZID=America/Chicago:20220507T120000
DTSTAMP:20260422T173339
CREATED:20220430T210420Z
LAST-MODIFIED:20220430T210420Z
UID:20095-1651914000-1651924800@statelinekids.com
SUMMARY:Cars and Coffee
DESCRIPTION:Check out more than 200 cars\, enjoy live music\, enter contests\, and meet Hammy from the IceHogs.
URL:https://statelinekids.com/event/cars-and-coffee-2/
LOCATION:Katie’s Cup\, 502 7th St.\, Rockford\, IL\, United States
CATEGORIES:Rockford
END:VEVENT
BEGIN:VEVENT
DTSTART;TZID=America/Chicago:20220402T090000
DTEND;TZID=America/Chicago:20220402T120000
DTSTAMP:20260422T173339
CREATED:20220326T210906Z
LAST-MODIFIED:20220326T210906Z
UID:19549-1648890000-1648900800@statelinekids.com
SUMMARY:Cars and Coffee Rockford
DESCRIPTION:Stop by the season opener of the car shows at Katie’s Cup.
URL:https://statelinekids.com/event/cars-and-coffee-rockford/
LOCATION:Katie’s Cup\, 502 7th St.\, Rockford\, IL\, United States
CATEGORIES:Rockford
END:VEVENT
BEGIN:VEVENT
DTSTART;TZID=America/Chicago:20211209T190000
DTEND;TZID=America/Chicago:20211209T203000
DTSTAMP:20260422T173339
CREATED:20211205T223008Z
LAST-MODIFIED:20211205T223008Z
UID:18529-1639076400-1639081800@statelinekids.com
SUMMARY:Trinadora’s Holiday Frolic
DESCRIPTION:Enjoy a night of holiday music. There will be a donation mid-concer
URL:https://statelinekids.com/event/trinadoras-holiday-frolic/
LOCATION:Katie’s Cup\, 502 7th St.\, Rockford\, IL\, United States
CATEGORIES:Rockford
END:VEVENT
BEGIN:VEVENT
DTSTART;TZID=America/Chicago:20211002T090000
DTEND;TZID=America/Chicago:20211002T120000
DTSTAMP:20260422T173339
CREATED:20210926T165459Z
LAST-MODIFIED:20210926T165459Z
UID:17484-1633165200-1633176000@statelinekids.com
SUMMARY:Cars and Coffee
DESCRIPTION:Check out a car show and make a donation to Noah’s Ark while you’re there.
URL:https://statelinekids.com/event/cars-and-coffee/
LOCATION:Katie’s Cup\, 502 7th St.\, Rockford\, IL\, United States
CATEGORIES:Rockford
END:VEVENT
BEGIN:VEVENT
DTSTART;TZID=America/Chicago:20210904T090000
DTEND;TZID=America/Chicago:20210904T120000
DTSTAMP:20260422T173339
CREATED:20210829T154331Z
LAST-MODIFIED:20210829T154331Z
UID:17183-1630746000-1630756800@statelinekids.com
SUMMARY:Cars and Coffee and a Cookout (CAR SHOW)
DESCRIPTION:Enjoy a car show\, coffee and donuts\, grilled food\, and a K9 demonstration.
URL:https://statelinekids.com/event/cars-and-coffee-and-a-cookout-car-show/
LOCATION:Katie’s Cup\, 502 7th St.\, Rockford\, IL\, United States
CATEGORIES:Rockford
END:VEVENT
END:VCALENDAR