BEGIN:VCALENDAR
VERSION:2.0
PRODID:-//Stateline Kids - ECPv6.5.1.3//NONSGML v1.0//EN
CALSCALE:GREGORIAN
METHOD:PUBLISH
X-ORIGINAL-URL:https://statelinekids.com
X-WR-CALDESC:Events for Stateline Kids
REFRESH-INTERVAL;VALUE=DURATION:PT1H
X-Robots-Tag:noindex
X-PUBLISHED-TTL:PT1H
BEGIN:VTIMEZONE
TZID:America/Chicago
BEGIN:DAYLIGHT
TZOFFSETFROM:-0600
TZOFFSETTO:-0500
TZNAME:CDT
DTSTART:20240310T080000
END:DAYLIGHT
BEGIN:STANDARD
TZOFFSETFROM:-0500
TZOFFSETTO:-0600
TZNAME:CST
DTSTART:20241103T070000
END:STANDARD
END:VTIMEZONE
BEGIN:VEVENT
DTSTART;TZID=America/Chicago:20240324T090000
DTEND;TZID=America/Chicago:20240324T103000
DTSTAMP:20260422T075107
CREATED:20240317T181734Z
LAST-MODIFIED:20240317T181734Z
UID:33954-1711270800-1711276200@statelinekids.com
SUMMARY:Easter Cookie Decorating
DESCRIPTION:Adults and kids can decorate six cookies and enjoy some brunch. An adult ticket must be purchased to purchase kids’ tickets. Get tickets here. \nCost: $35 per adult / $6 per kid 
URL:https://statelinekids.com/event/easter-cookie-decorating/
LOCATION:J&G Pastries\, 203 Main St.\, Woodstock\, IL\, United States
CATEGORIES:Woodstock
END:VEVENT
END:VCALENDAR