BEGIN:VCALENDAR
VERSION:2.0
PRODID:-//Stateline Kids - ECPv6.5.1.3//NONSGML v1.0//EN
CALSCALE:GREGORIAN
METHOD:PUBLISH
X-ORIGINAL-URL:https://statelinekids.com
X-WR-CALDESC:Events for Stateline Kids
REFRESH-INTERVAL;VALUE=DURATION:PT1H
X-Robots-Tag:noindex
X-PUBLISHED-TTL:PT1H
BEGIN:VTIMEZONE
TZID:America/Chicago
BEGIN:DAYLIGHT
TZOFFSETFROM:-0600
TZOFFSETTO:-0500
TZNAME:CDT
DTSTART:20190310T080000
END:DAYLIGHT
BEGIN:STANDARD
TZOFFSETFROM:-0500
TZOFFSETTO:-0600
TZNAME:CST
DTSTART:20191103T070000
END:STANDARD
BEGIN:DAYLIGHT
TZOFFSETFROM:-0600
TZOFFSETTO:-0500
TZNAME:CDT
DTSTART:20200308T080000
END:DAYLIGHT
BEGIN:STANDARD
TZOFFSETFROM:-0500
TZOFFSETTO:-0600
TZNAME:CST
DTSTART:20201101T070000
END:STANDARD
BEGIN:DAYLIGHT
TZOFFSETFROM:-0600
TZOFFSETTO:-0500
TZNAME:CDT
DTSTART:20210314T080000
END:DAYLIGHT
BEGIN:STANDARD
TZOFFSETFROM:-0500
TZOFFSETTO:-0600
TZNAME:CST
DTSTART:20211107T070000
END:STANDARD
BEGIN:DAYLIGHT
TZOFFSETFROM:-0600
TZOFFSETTO:-0500
TZNAME:CDT
DTSTART:20220313T080000
END:DAYLIGHT
BEGIN:STANDARD
TZOFFSETFROM:-0500
TZOFFSETTO:-0600
TZNAME:CST
DTSTART:20221106T070000
END:STANDARD
BEGIN:DAYLIGHT
TZOFFSETFROM:-0600
TZOFFSETTO:-0500
TZNAME:CDT
DTSTART:20230312T080000
END:DAYLIGHT
BEGIN:STANDARD
TZOFFSETFROM:-0500
TZOFFSETTO:-0600
TZNAME:CST
DTSTART:20231105T070000
END:STANDARD
BEGIN:DAYLIGHT
TZOFFSETFROM:-0600
TZOFFSETTO:-0500
TZNAME:CDT
DTSTART:20240310T080000
END:DAYLIGHT
BEGIN:STANDARD
TZOFFSETFROM:-0500
TZOFFSETTO:-0600
TZNAME:CST
DTSTART:20241103T070000
END:STANDARD
BEGIN:DAYLIGHT
TZOFFSETFROM:-0600
TZOFFSETTO:-0500
TZNAME:CDT
DTSTART:20250309T080000
END:DAYLIGHT
BEGIN:STANDARD
TZOFFSETFROM:-0500
TZOFFSETTO:-0600
TZNAME:CST
DTSTART:20251102T070000
END:STANDARD
END:VTIMEZONE
BEGIN:VEVENT
DTSTART;TZID=America/Chicago:20250724T173000
DTEND;TZID=America/Chicago:20250724T183000
DTSTAMP:20260422T020330
CREATED:20250717T173729Z
LAST-MODIFIED:20250717T173729Z
UID:41557-1753378200-1753381800@statelinekids.com
SUMMARY:Candy Bar Bingo
DESCRIPTION:Bring your own full size candy bar as admission and play Bingo to win more candy bars. \nCost: 1 candy bar per person
URL:https://statelinekids.com/event/candy-bar-bingo-2/
LOCATION:Janesville Town Square\, 15 Dodge St.\, Janesville\, WI\, United States
CATEGORIES:Janesville
END:VEVENT
BEGIN:VEVENT
DTSTART;TZID=America/Chicago:20250710T173000
DTEND;TZID=America/Chicago:20250710T183000
DTSTAMP:20260422T020330
CREATED:20250706T201725Z
LAST-MODIFIED:20250706T201725Z
UID:41352-1752168600-1752172200@statelinekids.com
SUMMARY:Candy Bar Bingo
DESCRIPTION:Bring a candy bar (full size) and play Bingo to win more candy.
URL:https://statelinekids.com/event/candy-bar-bingo/
LOCATION:Janesville Town Square\, 15 Dodge St.\, Janesville\, WI\, United States
CATEGORIES:Janesville
END:VEVENT
BEGIN:VEVENT
DTSTART;TZID=America/Chicago:20240627T110000
DTEND;TZID=America/Chicago:20240627T140000
DTSTAMP:20260422T020330
CREATED:20240623T223912Z
LAST-MODIFIED:20240623T223912Z
UID:36459-1719486000-1719496800@statelinekids.com
SUMMARY:Public Safety Splash and Cookout
DESCRIPTION:Enjoy food\, games\, prizes\, and more with the Janesville Police Department.
URL:https://statelinekids.com/event/public-safety-splash-and-cookout/
LOCATION:Janesville Town Square\, 15 Dodge St.\, Janesville\, WI\, United States
CATEGORIES:Janesville
END:VEVENT
BEGIN:VEVENT
DTSTART;TZID=America/Chicago:20240323T100000
DTEND;TZID=America/Chicago:20240323T120000
DTSTAMP:20260422T020330
CREATED:20240317T172541Z
LAST-MODIFIED:20240317T172541Z
UID:33931-1711188000-1711195200@statelinekids.com
SUMMARY:Eggstravaganza
DESCRIPTION:Enjoy pictures with the Easter Bunny\, an 11 am egg hunt\, a sensory-friendly zone\, local food trucks\, music and more.
URL:https://statelinekids.com/event/eggstravaganza-3/
LOCATION:Janesville Town Square\, 15 Dodge St.\, Janesville\, WI\, United States
CATEGORIES:Janesville
END:VEVENT
BEGIN:VEVENT
DTSTART;TZID=America/Chicago:20230506T080000
DTEND;TZID=America/Chicago:20230506T130000
DTSTAMP:20260422T020330
CREATED:20230430T215908Z
LAST-MODIFIED:20230430T215908Z
UID:27691-1683360000-1683378000@statelinekids.com
SUMMARY:Janesville Farmers Market
DESCRIPTION:Shop from vendors\, enjoy live music\, kids activities and special events.
URL:https://statelinekids.com/event/janesville-farmers-market-6/2023-05-06/
LOCATION:Janesville Town Square\, 15 Dodge St.\, Janesville\, WI\, United States
CATEGORIES:Janesville
END:VEVENT
BEGIN:VEVENT
DTSTART;TZID=America/Chicago:20230401T100000
DTEND;TZID=America/Chicago:20230401T120000
DTSTAMP:20260422T020330
CREATED:20230324T212949Z
LAST-MODIFIED:20230324T212949Z
UID:27094-1680343200-1680350400@statelinekids.com
SUMMARY:Bunny at the Square
DESCRIPTION:Visit booths from local businesses with activities\, treats\, and food vendors. Bring your own Easter basket.
URL:https://statelinekids.com/event/bunny-at-the-square/
LOCATION:Janesville Town Square\, 15 Dodge St.\, Janesville\, WI\, United States
CATEGORIES:Janesville
END:VEVENT
BEGIN:VEVENT
DTSTART;TZID=America/Chicago:20230225T120000
DTEND;TZID=America/Chicago:20230225T170000
DTSTAMP:20260422T020330
CREATED:20230219T204912Z
LAST-MODIFIED:20230219T204912Z
UID:26569-1677326400-1677344400@statelinekids.com
SUMMARY:Flannelfest 2023
DESCRIPTION:Sample over 40 crat beers and 50 home brew beers. Get tickets here. \nCost: $55 for general admission / $110 for VIP admission
URL:https://statelinekids.com/event/flannelfest-2023/
LOCATION:Janesville Town Square\, 15 Dodge St.\, Janesville\, WI\, United States
CATEGORIES:Janesville
END:VEVENT
BEGIN:VEVENT
DTSTART;TZID=America/Chicago:20221016T100000
DTEND;TZID=America/Chicago:20221016T200000
DTSTAMP:20260422T020330
CREATED:20221008T223951Z
LAST-MODIFIED:20221008T223951Z
UID:24213-1665914400-1665950400@statelinekids.com
SUMMARY:Pride in the Park
DESCRIPTION:Enjoy a day celebrating local LGBTQ+ owned and affiliated businesses\, bands\, entertainers\, and more. There will be live music and food trucks.
URL:https://statelinekids.com/event/pride-in-the-park/
LOCATION:Janesville Town Square\, 15 Dodge St.\, Janesville\, WI\, United States
CATEGORIES:Janesville
END:VEVENT
BEGIN:VEVENT
DTSTART;TZID=America/Chicago:20220908T180000
DTEND;TZID=America/Chicago:20220908T190000
DTSTAMP:20260422T020330
CREATED:20220904T184750Z
LAST-MODIFIED:20220904T184750Z
UID:23192-1662660000-1662663600@statelinekids.com
SUMMARY:DATE NIGHT: Walking Tour of Downtown Janesville
DESCRIPTION:Learn about the history of Janesville from the 1830’s to today. Get tickets here.
URL:https://statelinekids.com/event/date-night-walking-tour-of-downtown-janesville/
LOCATION:Janesville Town Square\, 15 Dodge St.\, Janesville\, WI\, United States
CATEGORIES:Janesville
END:VEVENT
BEGIN:VEVENT
DTSTART;TZID=America/Chicago:20210515T080000
DTEND;TZID=America/Chicago:20210515T130000
DTSTAMP:20260422T020330
CREATED:20210508T202357Z
LAST-MODIFIED:20210508T202357Z
UID:15523-1621065600-1621083600@statelinekids.com
SUMMARY:Janesville Farmers Markets
DESCRIPTION:Shop from local vendors and farmers in the beautiful new Town Square location.
URL:https://statelinekids.com/event/janesville-farmers-markets/2021-05-15/
LOCATION:Janesville Town Square\, 15 Dodge St.\, Janesville\, WI\, United States
CATEGORIES:Janesville
END:VEVENT
BEGIN:VEVENT
DTSTART;TZID=America/Chicago:20191005T110000
DTEND;TZID=America/Chicago:20191005T180000
DTSTAMP:20260422T020330
CREATED:20190929T134228Z
LAST-MODIFIED:20190929T134228Z
UID:7644-1570273200-1570298400@statelinekids.com
SUMMARY:Celebrate Janesville
DESCRIPTION:Celebrate Janesville! is a free family-oriented music and arts festival featuring kids’ events\, community artists\, activities that create awareness and appreciation for our community\, food vendors\, Gary McAdams band featuring a variety of local musicians\, lawn games\, and booths featuring community partners.
URL:https://statelinekids.com/event/celebrate-janesville/
LOCATION:Janesville Town Square\, 15 Dodge St.\, Janesville\, WI\, United States
CATEGORIES:Janesville
END:VEVENT
END:VCALENDAR