BEGIN:VCALENDAR
VERSION:2.0
PRODID:-//Stateline Kids - ECPv6.5.1.3//NONSGML v1.0//EN
CALSCALE:GREGORIAN
METHOD:PUBLISH
X-WR-CALNAME:Stateline Kids
X-ORIGINAL-URL:https://statelinekids.com
X-WR-CALDESC:Events for Stateline Kids
REFRESH-INTERVAL;VALUE=DURATION:PT1H
X-Robots-Tag:noindex
X-PUBLISHED-TTL:PT1H
BEGIN:VTIMEZONE
TZID:America/Chicago
BEGIN:DAYLIGHT
TZOFFSETFROM:-0600
TZOFFSETTO:-0500
TZNAME:CDT
DTSTART:20190310T080000
END:DAYLIGHT
BEGIN:STANDARD
TZOFFSETFROM:-0500
TZOFFSETTO:-0600
TZNAME:CST
DTSTART:20191103T070000
END:STANDARD
BEGIN:DAYLIGHT
TZOFFSETFROM:-0600
TZOFFSETTO:-0500
TZNAME:CDT
DTSTART:20200308T080000
END:DAYLIGHT
BEGIN:STANDARD
TZOFFSETFROM:-0500
TZOFFSETTO:-0600
TZNAME:CST
DTSTART:20201101T070000
END:STANDARD
BEGIN:DAYLIGHT
TZOFFSETFROM:-0600
TZOFFSETTO:-0500
TZNAME:CDT
DTSTART:20210314T080000
END:DAYLIGHT
BEGIN:STANDARD
TZOFFSETFROM:-0500
TZOFFSETTO:-0600
TZNAME:CST
DTSTART:20211107T070000
END:STANDARD
BEGIN:DAYLIGHT
TZOFFSETFROM:-0600
TZOFFSETTO:-0500
TZNAME:CDT
DTSTART:20220313T080000
END:DAYLIGHT
BEGIN:STANDARD
TZOFFSETFROM:-0500
TZOFFSETTO:-0600
TZNAME:CST
DTSTART:20221106T070000
END:STANDARD
BEGIN:DAYLIGHT
TZOFFSETFROM:-0600
TZOFFSETTO:-0500
TZNAME:CDT
DTSTART:20230312T080000
END:DAYLIGHT
BEGIN:STANDARD
TZOFFSETFROM:-0500
TZOFFSETTO:-0600
TZNAME:CST
DTSTART:20231105T070000
END:STANDARD
END:VTIMEZONE
BEGIN:VEVENT
DTSTART;TZID=America/Chicago:20230311T101500
DTEND;TZID=America/Chicago:20230311T104500
DTSTAMP:20260420T033317
CREATED:20230304T225421Z
LAST-MODIFIED:20230304T225421Z
UID:26748-1678529700-1678531500@statelinekids.com
SUMMARY:Try Hockey For Free
DESCRIPTION:Kids ages 4-9 can try hockey in a fun and safe environment. Sign up here.
URL:https://statelinekids.com/event/try-hockey-for-free-5/
LOCATION:Janesville Ice Arena\, 821 Beloit Ave\, Janesville\, WI\, United States
CATEGORIES:Janesville
END:VEVENT
BEGIN:VEVENT
DTSTART;TZID=America/Chicago:20221203T100000
DTEND;TZID=America/Chicago:20221203T130000
DTSTAMP:20260420T033317
CREATED:20221127T183658Z
LAST-MODIFIED:20221127T183658Z
UID:25123-1670061600-1670072400@statelinekids.com
SUMMARY:Spice on Ice
DESCRIPTION:Watch a figure skating show and then skate with Santa afterward until 1 pm. \nCost: Free with a donation of a non-perishable food item \n 
URL:https://statelinekids.com/event/spice-on-ice/
LOCATION:Janesville Ice Arena\, 821 Beloit Ave\, Janesville\, WI\, United States
CATEGORIES:Janesville
END:VEVENT
BEGIN:VEVENT
DTSTART;TZID=America/Chicago:20221105T110000
DTEND;TZID=America/Chicago:20221105T120000
DTSTAMP:20260420T033317
CREATED:20221030T155332Z
LAST-MODIFIED:20221030T155332Z
UID:24683-1667646000-1667649600@statelinekids.com
SUMMARY:Try Hockey for Free
DESCRIPTION:Kids ages 4 and up can try hockey for free. Equipment will be provided. Register here.
URL:https://statelinekids.com/event/try-hockey-for-free-4/
LOCATION:Janesville Ice Arena\, 821 Beloit Ave\, Janesville\, WI\, United States
CATEGORIES:Janesville
END:VEVENT
BEGIN:VEVENT
DTSTART;TZID=America/Chicago:20220312T190000
DTEND;TZID=America/Chicago:20220312T220000
DTSTAMP:20260420T033317
CREATED:20220306T194617Z
LAST-MODIFIED:20220306T194617Z
UID:19322-1647111600-1647122400@statelinekids.com
SUMMARY:Janesville Jets vs. Springfield Jr. Blues
DESCRIPTION:Watch a Janesville Jets game. Get tickets here.
URL:https://statelinekids.com/event/janesville-jets-vs-springfield-jr-blues/
LOCATION:Janesville Ice Arena\, 821 Beloit Ave\, Janesville\, WI\, United States
CATEGORIES:Janesville
END:VEVENT
BEGIN:VEVENT
DTSTART;TZID=America/Chicago:20220212T110000
DTEND;TZID=America/Chicago:20220212T123000
DTSTAMP:20260420T033317
CREATED:20220206T213549Z
LAST-MODIFIED:20220206T213549Z
UID:19136-1644663600-1644669000@statelinekids.com
SUMMARY:Try Hockey for Free
DESCRIPTION:Kids ages 4-9 can try hockey in a fun\, safe environment. Equipment is provided. Register here.
URL:https://statelinekids.com/event/try-hockey-for-free-3/
LOCATION:Janesville Ice Arena\, 821 Beloit Ave\, Janesville\, WI\, United States
CATEGORIES:Janesville
END:VEVENT
BEGIN:VEVENT
DTSTART;TZID=America/Chicago:20211127T190000
DTEND;TZID=America/Chicago:20211127T220000
DTSTAMP:20260420T033317
CREATED:20211121T203706Z
LAST-MODIFIED:20211121T203706Z
UID:18318-1638039600-1638050400@statelinekids.com
SUMMARY:Janesville Jets vs. Minnesota Magicians
DESCRIPTION:Watch the Janesville Jets take on another ice hockey team then skate with the team afterward. Get tickets here. \nCost: $7+
URL:https://statelinekids.com/event/janesville-jets-vs-minnesota-magicians-2/
LOCATION:Janesville Ice Arena\, 821 Beloit Ave\, Janesville\, WI\, United States
CATEGORIES:Janesville
END:VEVENT
BEGIN:VEVENT
DTSTART;TZID=America/Chicago:20211120T190000
DTEND;TZID=America/Chicago:20211120T220000
DTSTAMP:20260420T033317
CREATED:20211107T164953Z
LAST-MODIFIED:20211107T164953Z
UID:18229-1637434800-1637445600@statelinekids.com
SUMMARY:Janesville Jets vs. Minnesota Magicians
DESCRIPTION:Watch the Janesville Jets take on another ice hockey team. Get tickets here.
URL:https://statelinekids.com/event/janesville-jets-vs-minnesota-magicians/
LOCATION:Janesville Ice Arena\, 821 Beloit Ave\, Janesville\, WI\, United States
CATEGORIES:Janesville
END:VEVENT
BEGIN:VEVENT
DTSTART;TZID=America/Chicago:20211106T120000
DTEND;TZID=America/Chicago:20211106T133000
DTSTAMP:20260420T033317
CREATED:20211031T165147Z
LAST-MODIFIED:20211031T165147Z
UID:18123-1636200000-1636205400@statelinekids.com
SUMMARY:Try Hockey for Free
DESCRIPTION:Kids ages 4-9 can try hockey for free in a fun\, safe environment. No experience is necessary and all equipment will be provided. Register here.
URL:https://statelinekids.com/event/try-hockey-for-free-2/
LOCATION:Janesville Ice Arena\, 821 Beloit Ave\, Janesville\, WI\, United States
CATEGORIES:Janesville
END:VEVENT
BEGIN:VEVENT
DTSTART;TZID=America/Chicago:20210617T183000
DTEND;TZID=America/Chicago:20210617T193000
DTSTAMP:20260420T033317
CREATED:20210613T194659Z
LAST-MODIFIED:20210613T194659Z
UID:16197-1623954600-1623958200@statelinekids.com
SUMMARY:Girls Intro to Hockey
DESCRIPTION:Girls ages 4-14 can learn how to play hockey all summer. Register here.
URL:https://statelinekids.com/event/girls-intro-to-hockey/
LOCATION:Janesville Ice Arena\, 821 Beloit Ave\, Janesville\, WI\, United States
CATEGORIES:Janesville
END:VEVENT
BEGIN:VEVENT
DTSTART;TZID=America/Chicago:20191109T102000
DTEND;TZID=America/Chicago:20191109T115000
DTSTAMP:20260420T033317
CREATED:20191103T190231Z
LAST-MODIFIED:20191103T190231Z
UID:8386-1573294800-1573300200@statelinekids.com
SUMMARY:Try Hockey for Free
DESCRIPTION:Kids ages 4 and up can try hockey for free with the Janesville Youth Hockey team. Equipment and skates are provided. Register here.
URL:https://statelinekids.com/event/try-hockey-for-free/
LOCATION:Janesville Ice Arena\, 821 Beloit Ave\, Janesville\, WI\, United States
CATEGORIES:Janesville
END:VEVENT
END:VCALENDAR