BEGIN:VCALENDAR
VERSION:2.0
PRODID:-//Stateline Kids - ECPv6.5.1.3//NONSGML v1.0//EN
CALSCALE:GREGORIAN
METHOD:PUBLISH
X-WR-CALNAME:Stateline Kids
X-ORIGINAL-URL:https://statelinekids.com
X-WR-CALDESC:Events for Stateline Kids
REFRESH-INTERVAL;VALUE=DURATION:PT1H
X-Robots-Tag:noindex
X-PUBLISHED-TTL:PT1H
BEGIN:VTIMEZONE
TZID:America/Chicago
BEGIN:DAYLIGHT
TZOFFSETFROM:-0600
TZOFFSETTO:-0500
TZNAME:CDT
DTSTART:20190310T080000
END:DAYLIGHT
BEGIN:STANDARD
TZOFFSETFROM:-0500
TZOFFSETTO:-0600
TZNAME:CST
DTSTART:20191103T070000
END:STANDARD
BEGIN:DAYLIGHT
TZOFFSETFROM:-0600
TZOFFSETTO:-0500
TZNAME:CDT
DTSTART:20200308T080000
END:DAYLIGHT
BEGIN:STANDARD
TZOFFSETFROM:-0500
TZOFFSETTO:-0600
TZNAME:CST
DTSTART:20201101T070000
END:STANDARD
BEGIN:DAYLIGHT
TZOFFSETFROM:-0600
TZOFFSETTO:-0500
TZNAME:CDT
DTSTART:20210314T080000
END:DAYLIGHT
BEGIN:STANDARD
TZOFFSETFROM:-0500
TZOFFSETTO:-0600
TZNAME:CST
DTSTART:20211107T070000
END:STANDARD
BEGIN:DAYLIGHT
TZOFFSETFROM:-0600
TZOFFSETTO:-0500
TZNAME:CDT
DTSTART:20220313T080000
END:DAYLIGHT
BEGIN:STANDARD
TZOFFSETFROM:-0500
TZOFFSETTO:-0600
TZNAME:CST
DTSTART:20221106T070000
END:STANDARD
BEGIN:DAYLIGHT
TZOFFSETFROM:-0600
TZOFFSETTO:-0500
TZNAME:CDT
DTSTART:20230312T080000
END:DAYLIGHT
BEGIN:STANDARD
TZOFFSETFROM:-0500
TZOFFSETTO:-0600
TZNAME:CST
DTSTART:20231105T070000
END:STANDARD
BEGIN:DAYLIGHT
TZOFFSETFROM:-0600
TZOFFSETTO:-0500
TZNAME:CDT
DTSTART:20240310T080000
END:DAYLIGHT
BEGIN:STANDARD
TZOFFSETFROM:-0500
TZOFFSETTO:-0600
TZNAME:CST
DTSTART:20241103T070000
END:STANDARD
BEGIN:DAYLIGHT
TZOFFSETFROM:-0600
TZOFFSETTO:-0500
TZNAME:CDT
DTSTART:20250309T080000
END:DAYLIGHT
BEGIN:STANDARD
TZOFFSETFROM:-0500
TZOFFSETTO:-0600
TZNAME:CST
DTSTART:20251102T070000
END:STANDARD
END:VTIMEZONE
BEGIN:VEVENT
DTSTART;TZID=America/Chicago:20250605T170000
DTEND;TZID=America/Chicago:20250605T190000
DTSTAMP:20260419T094114
CREATED:20250530T225259Z
LAST-MODIFIED:20250530T225259Z
UID:40814-1749142800-1749150000@statelinekids.com
SUMMARY:Free Tours and Ice Cream
DESCRIPTION:Take a tour of the facility and see hawks\, owls\, eagles\, and more and enjoy free ice cream.
URL:https://statelinekids.com/event/free-tours-and-ice-cream/
LOCATION:Hoo Haven\, 10823 Cleveland Rd\, Durand\, IL\, United States
CATEGORIES:Durand
END:VEVENT
BEGIN:VEVENT
DTSTART;TZID=America/Chicago:20240801T170000
DTEND;TZID=America/Chicago:20240801T190000
DTSTAMP:20260419T094114
CREATED:20240219T181112Z
LAST-MODIFIED:20240219T181112Z
UID:33560-1722531600-1722538800@statelinekids.com
SUMMARY:Hoo Haven Ice Cream Social
DESCRIPTION:Enjoy a free tour of the animals\, activities\, and free ice cream. Donations are appreciated.
URL:https://statelinekids.com/event/hoo-haven-ice-cream-social/2024-08-01/
LOCATION:Hoo Haven\, 10823 Cleveland Rd\, Durand\, IL\, United States
CATEGORIES:Durand
END:VEVENT
BEGIN:VEVENT
DTSTART;TZID=America/Chicago:20240718T170000
DTEND;TZID=America/Chicago:20240718T190000
DTSTAMP:20260419T094114
CREATED:20240219T181112Z
LAST-MODIFIED:20240219T181112Z
UID:33559-1721322000-1721329200@statelinekids.com
SUMMARY:Hoo Haven Ice Cream Social
DESCRIPTION:Enjoy a free tour of the animals\, activities\, and free ice cream. Donations are appreciated.
URL:https://statelinekids.com/event/hoo-haven-ice-cream-social/2024-07-18/
LOCATION:Hoo Haven\, 10823 Cleveland Rd\, Durand\, IL\, United States
CATEGORIES:Durand
END:VEVENT
BEGIN:VEVENT
DTSTART;TZID=America/Chicago:20240620T170000
DTEND;TZID=America/Chicago:20240620T190000
DTSTAMP:20260419T094114
CREATED:20240219T181112Z
LAST-MODIFIED:20240219T181112Z
UID:33558-1718902800-1718910000@statelinekids.com
SUMMARY:Hoo Haven Ice Cream Social
DESCRIPTION:Enjoy a free tour of the animals\, activities\, and free ice cream. Donations are appreciated.
URL:https://statelinekids.com/event/hoo-haven-ice-cream-social/2024-06-20/
LOCATION:Hoo Haven\, 10823 Cleveland Rd\, Durand\, IL\, United States
CATEGORIES:Durand
END:VEVENT
BEGIN:VEVENT
DTSTART;TZID=America/Chicago:20240606T170000
DTEND;TZID=America/Chicago:20240606T190000
DTSTAMP:20260419T094114
CREATED:20240219T181112Z
LAST-MODIFIED:20240219T181112Z
UID:33557-1717693200-1717700400@statelinekids.com
SUMMARY:Hoo Haven Ice Cream Social
DESCRIPTION:Enjoy a free tour of the animals\, activities\, and free ice cream. Donations are appreciated.
URL:https://statelinekids.com/event/hoo-haven-ice-cream-social/2024-06-06/
LOCATION:Hoo Haven\, 10823 Cleveland Rd\, Durand\, IL\, United States
CATEGORIES:Durand
END:VEVENT
BEGIN:VEVENT
DTSTART;TZID=America/Chicago:20240516T170000
DTEND;TZID=America/Chicago:20240516T190000
DTSTAMP:20260419T094114
CREATED:20240423T165705Z
LAST-MODIFIED:20240423T170217Z
UID:34576-1715878800-1715886000@statelinekids.com
SUMMARY:Ice Cream Social
DESCRIPTION:Enjoy a free tour of the animals\, activities\, and free ice cream. Donations to support our mission are welcome.
URL:https://statelinekids.com/event/ice-cream-social-4/2024-05-16/
LOCATION:Hoo Haven\, 10823 Cleveland Rd\, Durand\, IL\, United States
CATEGORIES:Byron
END:VEVENT
BEGIN:VEVENT
DTSTART;TZID=America/Chicago:20240516T170000
DTEND;TZID=America/Chicago:20240516T190000
DTSTAMP:20260419T094114
CREATED:20240219T181112Z
LAST-MODIFIED:20240219T181112Z
UID:33556-1715878800-1715886000@statelinekids.com
SUMMARY:Hoo Haven Ice Cream Social
DESCRIPTION:Enjoy a free tour of the animals\, activities\, and free ice cream. Donations are appreciated.
URL:https://statelinekids.com/event/hoo-haven-ice-cream-social/2024-05-16/
LOCATION:Hoo Haven\, 10823 Cleveland Rd\, Durand\, IL\, United States
CATEGORIES:Durand
END:VEVENT
BEGIN:VEVENT
DTSTART;TZID=America/Chicago:20240502T170000
DTEND;TZID=America/Chicago:20240502T190000
DTSTAMP:20260419T094114
CREATED:20240423T165705Z
LAST-MODIFIED:20240423T170217Z
UID:34573-1714669200-1714676400@statelinekids.com
SUMMARY:Ice Cream Social
DESCRIPTION:Enjoy a free tour of the animals\, activities\, and free ice cream. Donations to support our mission are welcome.
URL:https://statelinekids.com/event/ice-cream-social-4/2024-05-02/
LOCATION:Hoo Haven\, 10823 Cleveland Rd\, Durand\, IL\, United States
CATEGORIES:Byron
END:VEVENT
BEGIN:VEVENT
DTSTART;TZID=America/Chicago:20240502T170000
DTEND;TZID=America/Chicago:20240502T190000
DTSTAMP:20260419T094114
CREATED:20240219T181112Z
LAST-MODIFIED:20240219T181112Z
UID:33553-1714669200-1714676400@statelinekids.com
SUMMARY:Hoo Haven Ice Cream Social
DESCRIPTION:Enjoy a free tour of the animals\, activities\, and free ice cream. Donations are appreciated.
URL:https://statelinekids.com/event/hoo-haven-ice-cream-social/2024-05-02/
LOCATION:Hoo Haven\, 10823 Cleveland Rd\, Durand\, IL\, United States
CATEGORIES:Durand
END:VEVENT
BEGIN:VEVENT
DTSTART;TZID=America/Chicago:20231210T110000
DTEND;TZID=America/Chicago:20231210T140000
DTSTAMP:20260419T094114
CREATED:20231203T222849Z
LAST-MODIFIED:20231203T222849Z
UID:32457-1702206000-1702216800@statelinekids.com
SUMMARY:Grinch Meet and Greet
DESCRIPTION:Meet The Grinch\, take a self-guided tour of hawks\, owls\, and bald eagles\, and enjoy free hot cocoa.
URL:https://statelinekids.com/event/grinch-meet-and-greet/
LOCATION:Hoo Haven\, 10823 Cleveland Rd\, Durand\, IL\, United States
CATEGORIES:Durand
END:VEVENT
BEGIN:VEVENT
DTSTART;TZID=America/Chicago:20230622T170000
DTEND;TZID=America/Chicago:20230622T190000
DTSTAMP:20260419T094114
CREATED:20230617T221558Z
LAST-MODIFIED:20230617T221558Z
UID:28857-1687453200-1687460400@statelinekids.com
SUMMARY:Ice Cream Social
DESCRIPTION:Take a tour to meet the animals\, listen to ghost stories around the fire\, and enjoy free ice cream and smores.
URL:https://statelinekids.com/event/ice-cream-social-3/
LOCATION:Hoo Haven\, 10823 Cleveland Rd\, Durand\, IL\, United States
CATEGORIES:Durand
END:VEVENT
BEGIN:VEVENT
DTSTART;TZID=America/Chicago:20230511T170000
DTEND;TZID=America/Chicago:20230511T190000
DTSTAMP:20260419T094114
CREATED:20230507T175906Z
LAST-MODIFIED:20230507T175906Z
UID:27891-1683824400-1683831600@statelinekids.com
SUMMARY:Ice Cream Social
DESCRIPTION:Take a free self-guided tour\, get free ice cream\, and see some birds of prey.
URL:https://statelinekids.com/event/ice-cream-social-2/
LOCATION:Hoo Haven\, 10823 Cleveland Rd\, Durand\, IL\, United States
CATEGORIES:Durand
END:VEVENT
BEGIN:VEVENT
DTSTART;TZID=America/Chicago:20221006T170000
DTEND;TZID=America/Chicago:20221006T190000
DTSTAMP:20260419T094114
CREATED:20221001T231137Z
LAST-MODIFIED:20221001T231137Z
UID:24061-1665075600-1665082800@statelinekids.com
SUMMARY:Trunk or Treat
DESCRIPTION: Collect candy\, kids activities\, participate in a not so scary haunt\, and take a free self-guided tour.
URL:https://statelinekids.com/event/trunk-or-treat-11/
LOCATION:Hoo Haven\, 10823 Cleveland Rd\, Durand\, IL\, United States
CATEGORIES:Durand
END:VEVENT
BEGIN:VEVENT
DTSTART;TZID=America/Chicago:20220728T173000
DTEND;TZID=America/Chicago:20220728T193000
DTSTAMP:20260419T094114
CREATED:20220724T165157Z
LAST-MODIFIED:20220724T165157Z
UID:22760-1659029400-1659036600@statelinekids.com
SUMMARY:Back to School Open House
DESCRIPTION:Enjoy a back to school open house with free ice cream\, free guided tours\, a sticker scavenger hunt\, coloring contest and more.
URL:https://statelinekids.com/event/back-to-school-open-house/
LOCATION:Hoo Haven\, 10823 Cleveland Rd\, Durand\, IL\, United States
CATEGORIES:Durand
END:VEVENT
BEGIN:VEVENT
DTSTART;TZID=America/Chicago:20211107T120000
DTEND;TZID=America/Chicago:20211107T150000
DTSTAMP:20260419T094114
CREATED:20211031T174655Z
LAST-MODIFIED:20211031T174655Z
UID:18128-1636286400-1636297200@statelinekids.com
SUMMARY:Hoo Haven Open House
DESCRIPTION:Check out the animals at Hoo Haven\, listen to live music\, shop and have fall fun. Donations are appreciated.
URL:https://statelinekids.com/event/hoo-haven-open-house-2/
LOCATION:Hoo Haven\, 10823 Cleveland Rd\, Durand\, IL\, United States
CATEGORIES:Durand
END:VEVENT
BEGIN:VEVENT
DTSTART;TZID=America/Chicago:20211017T160000
DTEND;TZID=America/Chicago:20211017T180000
DTSTAMP:20260419T094114
CREATED:20211009T182703Z
LAST-MODIFIED:20211009T182703Z
UID:17738-1634486400-1634493600@statelinekids.com
SUMMARY:Trunk or Treat at Hoo Haven
DESCRIPTION:Participate in a Trunk or Treat event at Hoo Haven.
URL:https://statelinekids.com/event/trunk-or-treat-at-hoo-haven/
LOCATION:Hoo Haven\, 10823 Cleveland Rd\, Durand\, IL\, United States
CATEGORIES:Durand
END:VEVENT
BEGIN:VEVENT
DTSTART;TZID=America/Chicago:20211017T160000
DTEND;TZID=America/Chicago:20211017T180000
DTSTAMP:20260419T094114
CREATED:20210926T214501Z
LAST-MODIFIED:20210926T214501Z
UID:17515-1634486400-1634493600@statelinekids.com
SUMMARY:Trunk or Treat
DESCRIPTION:Tour the animals\, Trunk or Treat and enter the costume contest.
URL:https://statelinekids.com/event/trunk-or-treat-8/
LOCATION:Hoo Haven\, 10823 Cleveland Rd\, Durand\, IL\, United States
CATEGORIES:Durand
END:VEVENT
BEGIN:VEVENT
DTSTART;TZID=America/Chicago:20210714T180000
DTEND;TZID=America/Chicago:20210714T193000
DTSTAMP:20260419T094114
CREATED:20210711T201939Z
LAST-MODIFIED:20210711T201939Z
UID:16655-1626285600-1626291000@statelinekids.com
SUMMARY:Bugs Life Tour
DESCRIPTION:Take a river walk to hunt for bugs and identify them\, then see all the animals in Hoo Haven\, then have a bug experience with Bug Expert Morgan. Get tickets here. \nCost: $5 per person
URL:https://statelinekids.com/event/bugs-life-tour/
LOCATION:Hoo Haven\, 10823 Cleveland Rd\, Durand\, IL\, United States
CATEGORIES:Durand
END:VEVENT
BEGIN:VEVENT
DTSTART;TZID=America/Chicago:20210501T120000
DTEND;TZID=America/Chicago:20210501T150000
DTSTAMP:20260419T094114
CREATED:20210425T160255Z
LAST-MODIFIED:20210425T160255Z
UID:15396-1619870400-1619881200@statelinekids.com
SUMMARY:Wildlife Baby Shower
DESCRIPTION:Enjoy the outdoors and meet some baby animals. There are recovering bald eagles\, hawks\, foxes\, owls and more at Hoo Haven. They are accepting donations of items (list here) and money.
URL:https://statelinekids.com/event/wildlife-baby-shower/
LOCATION:Hoo Haven\, 10823 Cleveland Rd\, Durand\, IL\, United States
CATEGORIES:Durand
END:VEVENT
BEGIN:VEVENT
DTSTART;TZID=America/Chicago:20191103T120000
DTEND;TZID=America/Chicago:20191103T160000
DTSTAMP:20260419T094114
CREATED:20191031T003609Z
LAST-MODIFIED:20191031T003609Z
UID:8314-1572782400-1572796800@statelinekids.com
SUMMARY:Hoo Haven Open House
DESCRIPTION:Volunteers at “Hoo” Haven Wildlife Rehabilitation &amp; Education Center will offer tours and share the wonderful educational opportunities that are available through the facility. Come see the Educational Ambassadors like “Charlie” and “Raleigh” the pelicans\, “Captain Jack” and “Frosty” the American bald eagles and many more. This year\, Hoo Haven is excited to introduce their newest and youngest raptor Ambassador\, “Denver” a Eurasian eagle owl. \nThere will also be a scavenger hunt for kids\, live music and a chili cook-off.
URL:https://statelinekids.com/event/hoo-haven-open-house/
LOCATION:Hoo Haven\, 10823 Cleveland Rd\, Durand\, IL\, United States
CATEGORIES:Durand
END:VEVENT
END:VCALENDAR