BEGIN:VCALENDAR
VERSION:2.0
PRODID:-//Stateline Kids - ECPv6.5.1.3//NONSGML v1.0//EN
CALSCALE:GREGORIAN
METHOD:PUBLISH
X-ORIGINAL-URL:https://statelinekids.com
X-WR-CALDESC:Events for Stateline Kids
REFRESH-INTERVAL;VALUE=DURATION:PT1H
X-Robots-Tag:noindex
X-PUBLISHED-TTL:PT1H
BEGIN:VTIMEZONE
TZID:America/Chicago
BEGIN:DAYLIGHT
TZOFFSETFROM:-0600
TZOFFSETTO:-0500
TZNAME:CDT
DTSTART:20200308T080000
END:DAYLIGHT
BEGIN:STANDARD
TZOFFSETFROM:-0500
TZOFFSETTO:-0600
TZNAME:CST
DTSTART:20201101T070000
END:STANDARD
BEGIN:DAYLIGHT
TZOFFSETFROM:-0600
TZOFFSETTO:-0500
TZNAME:CDT
DTSTART:20210314T080000
END:DAYLIGHT
BEGIN:STANDARD
TZOFFSETFROM:-0500
TZOFFSETTO:-0600
TZNAME:CST
DTSTART:20211107T070000
END:STANDARD
BEGIN:DAYLIGHT
TZOFFSETFROM:-0600
TZOFFSETTO:-0500
TZNAME:CDT
DTSTART:20220313T080000
END:DAYLIGHT
BEGIN:STANDARD
TZOFFSETFROM:-0500
TZOFFSETTO:-0600
TZNAME:CST
DTSTART:20221106T070000
END:STANDARD
BEGIN:DAYLIGHT
TZOFFSETFROM:-0600
TZOFFSETTO:-0500
TZNAME:CDT
DTSTART:20230312T080000
END:DAYLIGHT
BEGIN:STANDARD
TZOFFSETFROM:-0500
TZOFFSETTO:-0600
TZNAME:CST
DTSTART:20231105T070000
END:STANDARD
BEGIN:DAYLIGHT
TZOFFSETFROM:-0600
TZOFFSETTO:-0500
TZNAME:CDT
DTSTART:20240310T080000
END:DAYLIGHT
BEGIN:STANDARD
TZOFFSETFROM:-0500
TZOFFSETTO:-0600
TZNAME:CST
DTSTART:20241103T070000
END:STANDARD
BEGIN:DAYLIGHT
TZOFFSETFROM:-0600
TZOFFSETTO:-0500
TZNAME:CDT
DTSTART:20250309T080000
END:DAYLIGHT
BEGIN:STANDARD
TZOFFSETFROM:-0500
TZOFFSETTO:-0600
TZNAME:CST
DTSTART:20251102T070000
END:STANDARD
END:VTIMEZONE
BEGIN:VEVENT
DTSTART;TZID=America/Chicago:20250816T090000
DTEND;TZID=America/Chicago:20250816T150000
DTSTAMP:20260422T004001
CREATED:20250809T175305Z
LAST-MODIFIED:20250809T175305Z
UID:41733-1755334800-1755356400@statelinekids.com
SUMMARY:Janesville Card Show
DESCRIPTION:Check out more than 130 tables of vintage and modern cards of all kinds. Come out to buy\, sell and trade.
URL:https://statelinekids.com/event/janesville-card-show-2/
LOCATION:Holiday Inn Express\, 3100 Wellington Pl.\, Janesville\, WI\, United States
CATEGORIES:Janesville
END:VEVENT
BEGIN:VEVENT
DTSTART;TZID=America/Chicago:20240413T090000
DTEND;TZID=America/Chicago:20240413T150000
DTSTAMP:20260422T004001
CREATED:20240406T234055Z
LAST-MODIFIED:20240406T234055Z
UID:34278-1712998800-1713020400@statelinekids.com
SUMMARY:Premier Card Shows
DESCRIPTION:Check out more than 120 tables of vendors with vintage cards\, modern cards\, Pokemon\, and more. Come out to buy\, sell\, and trade.
URL:https://statelinekids.com/event/premier-card-shows/
LOCATION:Holiday Inn Express\, 3100 Wellington Pl.\, Janesville\, WI\, United States
CATEGORIES:Janesville
END:VEVENT
BEGIN:VEVENT
DTSTART;TZID=America/Chicago:20231022T090000
DTEND;TZID=America/Chicago:20231022T140000
DTSTAMP:20260422T004001
CREATED:20231015T174235Z
LAST-MODIFIED:20231015T174235Z
UID:31413-1697965200-1697983200@statelinekids.com
SUMMARY:Premier Card Show
DESCRIPTION:Shop from vintage cards\, modern cards\, non-sports cards\, and more. Come out to buy\, sell\, and trade.
URL:https://statelinekids.com/event/premier-card-show/
LOCATION:Holiday Inn Express\, 3100 Wellington Pl.\, Janesville\, WI\, United States
CATEGORIES:Janesville
END:VEVENT
BEGIN:VEVENT
DTSTART;TZID=America/Chicago:20230716T090000
DTEND;TZID=America/Chicago:20230716T153000
DTSTAMP:20260422T004001
CREATED:20230709T194658Z
LAST-MODIFIED:20230709T194658Z
UID:29366-1689498000-1689521400@statelinekids.com
SUMMARY:Wisconsin Reptile Expo
DESCRIPTION:Check out reptiles and supplies. Get tickets here. \nCost: $10 per person / free for kids 12 and under
URL:https://statelinekids.com/event/wisconsin-reptile-expo-3/
LOCATION:Holiday Inn Express\, 3100 Wellington Pl.\, Janesville\, WI\, United States
CATEGORIES:Janesville
END:VEVENT
BEGIN:VEVENT
DTSTART;TZID=America/Chicago:20230604T090000
DTEND;TZID=America/Chicago:20230604T140000
DTSTAMP:20260422T004001
CREATED:20230527T201304Z
LAST-MODIFIED:20230527T201304Z
UID:28277-1685869200-1685887200@statelinekids.com
SUMMARY:The Janesville Card Show
DESCRIPTION:Check out more than 120 tables full of vintage and modern cars\, autographs\, and memorabilia.
URL:https://statelinekids.com/event/the-janesville-card-show-2/
LOCATION:Holiday Inn Express\, 3100 Wellington Pl.\, Janesville\, WI\, United States
CATEGORIES:Janesville
END:VEVENT
BEGIN:VEVENT
DTSTART;TZID=America/Chicago:20230521T090000
DTEND;TZID=America/Chicago:20230521T153000
DTSTAMP:20260422T004001
CREATED:20230513T210813Z
LAST-MODIFIED:20230513T210813Z
UID:27981-1684659600-1684683000@statelinekids.com
SUMMARY:Wisconsin Reptile Expo
DESCRIPTION:Learn about reptiles and see lots of different ones for sale. Get tickets here.
URL:https://statelinekids.com/event/wisconsin-reptile-expo-2/
LOCATION:Holiday Inn Express\, 3100 Wellington Pl.\, Janesville\, WI\, United States
CATEGORIES:Janesville
END:VEVENT
BEGIN:VEVENT
DTSTART;TZID=America/Chicago:20230423T090000
DTEND;TZID=America/Chicago:20230423T140000
DTSTAMP:20260422T004001
CREATED:20230416T203419Z
LAST-MODIFIED:20230416T203419Z
UID:27515-1682240400-1682258400@statelinekids.com
SUMMARY:The Janesville Card Show
DESCRIPTION:Check out more than 100 tables with cards of all kinds.
URL:https://statelinekids.com/event/the-janesville-card-show/
LOCATION:Holiday Inn Express\, 3100 Wellington Pl.\, Janesville\, WI\, United States
CATEGORIES:Janesville
END:VEVENT
BEGIN:VEVENT
DTSTART;TZID=America/Chicago:20230304T090000
DTEND;TZID=America/Chicago:20230304T153000
DTSTAMP:20260422T004001
CREATED:20230225T192138Z
LAST-MODIFIED:20230225T192138Z
UID:26639-1677920400-1677943800@statelinekids.com
SUMMARY:Wisconsin Reptile Expo
DESCRIPTION:See a variety of reptiles\, amphibians\, and exotic mammals. Get tickets here. \nCost: $7 per person / kids 12 and under are free
URL:https://statelinekids.com/event/wisconsin-reptile-expo/2023-03-04/
LOCATION:Holiday Inn Express\, 3100 Wellington Pl.\, Janesville\, WI\, United States
CATEGORIES:Janesville
END:VEVENT
BEGIN:VEVENT
DTSTART;TZID=America/Chicago:20230226T090000
DTEND;TZID=America/Chicago:20230226T140000
DTSTAMP:20260422T004001
CREATED:20230219T204546Z
LAST-MODIFIED:20230219T204546Z
UID:26567-1677402000-1677420000@statelinekids.com
SUMMARY:Janesville Card Show
DESCRIPTION:Check out more than 100 tables of cards\, collectibles\, and more. Bring your cards to buy\, sell and trade.
URL:https://statelinekids.com/event/janesville-card-show/
LOCATION:Holiday Inn Express\, 3100 Wellington Pl.\, Janesville\, WI\, United States
CATEGORIES:Janesville
END:VEVENT
BEGIN:VEVENT
DTSTART;TZID=America/Chicago:20210725T100000
DTEND;TZID=America/Chicago:20210725T153000
DTSTAMP:20260422T004001
CREATED:20210718T174842Z
LAST-MODIFIED:20210718T174842Z
UID:16801-1627207200-1627227000@statelinekids.com
SUMMARY:Show Me Reptile and Exotics Show
DESCRIPTION:Learn about reptiles and check out a variety of reptiles and supplies to care for them. Get tickets here. \nCost: $5 per person for general admission / Free for kids 12 and under after 1 pm
URL:https://statelinekids.com/event/show-me-reptile-and-exotics-show-2/
LOCATION:Holiday Inn Express\, 3100 Wellington Pl.\, Janesville\, WI\, United States
CATEGORIES:Janesville
END:VEVENT
BEGIN:VEVENT
DTSTART;TZID=America/Chicago:20210306T100000
DTEND;TZID=America/Chicago:20210306T160000
DTSTAMP:20260422T004001
CREATED:20210228T192636Z
LAST-MODIFIED:20210228T192636Z
UID:14933-1615024800-1615046400@statelinekids.com
SUMMARY:Show Me Reptiles and Exotics Show
DESCRIPTION:Check out the largest reptile and exotic pet show in the region. This event continues Sunday from 10 am – 3:30 pm. Get tickets here.  \nCost: $6 per person\, after 1 pm\, kids 12 and under are no charge
URL:https://statelinekids.com/event/show-me-reptiles-and-exotics-show/2021-03-06/
LOCATION:Holiday Inn Express\, 3100 Wellington Pl.\, Janesville\, WI\, United States
CATEGORIES:Janesville
END:VEVENT
BEGIN:VEVENT
DTSTART;TZID=America/Chicago:20210117T100000
DTEND;TZID=America/Chicago:20210117T153000
DTSTAMP:20260422T004001
CREATED:20210110T180025Z
LAST-MODIFIED:20210110T181507Z
UID:14506-1610877600-1610897400@statelinekids.com
SUMMARY:Show Me Reptile and Exotics Show
DESCRIPTION:Learn about reptiles and snakes and see them in person. After 1 pm\, kids 12 and under are free.
URL:https://statelinekids.com/event/show-me-reptile-and-exotics-show/
LOCATION:Holiday Inn Express\, 3100 Wellington Pl.\, Janesville\, WI\, United States
CATEGORIES:Janesville
END:VEVENT
BEGIN:VEVENT
DTSTART;TZID=America/Chicago:20200112T100000
DTEND;TZID=America/Chicago:20200112T150000
DTSTAMP:20260422T004001
CREATED:20200104T185057Z
LAST-MODIFIED:20200104T185057Z
UID:9336-1578823200-1578841200@statelinekids.com
SUMMARY:Wisconsin Exotic Pet and Reptile Expo
DESCRIPTION:View thousands of reptiles and accessories as well as educational and interactive displays. \nCost is $5 per person\, kids 12 and under are free
URL:https://statelinekids.com/event/wisconsin-exotic-pet-and-reptile-expo/
LOCATION:Holiday Inn Express\, 3100 Wellington Pl.\, Janesville\, WI\, United States
CATEGORIES:Janesville
END:VEVENT
END:VCALENDAR