BEGIN:VCALENDAR
VERSION:2.0
PRODID:-//Stateline Kids - ECPv6.5.1.3//NONSGML v1.0//EN
CALSCALE:GREGORIAN
METHOD:PUBLISH
X-WR-CALNAME:Stateline Kids
X-ORIGINAL-URL:https://statelinekids.com
X-WR-CALDESC:Events for Stateline Kids
REFRESH-INTERVAL;VALUE=DURATION:PT1H
X-Robots-Tag:noindex
X-PUBLISHED-TTL:PT1H
BEGIN:VTIMEZONE
TZID:America/Chicago
BEGIN:DAYLIGHT
TZOFFSETFROM:-0600
TZOFFSETTO:-0500
TZNAME:CDT
DTSTART:20220313T080000
END:DAYLIGHT
BEGIN:STANDARD
TZOFFSETFROM:-0500
TZOFFSETTO:-0600
TZNAME:CST
DTSTART:20221106T070000
END:STANDARD
BEGIN:DAYLIGHT
TZOFFSETFROM:-0600
TZOFFSETTO:-0500
TZNAME:CDT
DTSTART:20230312T080000
END:DAYLIGHT
BEGIN:STANDARD
TZOFFSETFROM:-0500
TZOFFSETTO:-0600
TZNAME:CST
DTSTART:20231105T070000
END:STANDARD
BEGIN:DAYLIGHT
TZOFFSETFROM:-0600
TZOFFSETTO:-0500
TZNAME:CDT
DTSTART:20240310T080000
END:DAYLIGHT
BEGIN:STANDARD
TZOFFSETFROM:-0500
TZOFFSETTO:-0600
TZNAME:CST
DTSTART:20241103T070000
END:STANDARD
BEGIN:DAYLIGHT
TZOFFSETFROM:-0600
TZOFFSETTO:-0500
TZNAME:CDT
DTSTART:20250309T080000
END:DAYLIGHT
BEGIN:STANDARD
TZOFFSETFROM:-0500
TZOFFSETTO:-0600
TZNAME:CST
DTSTART:20251102T070000
END:STANDARD
END:VTIMEZONE
BEGIN:VEVENT
DTSTART;TZID=America/Chicago:20250910T170000
DTEND;TZID=America/Chicago:20250910T200000
DTSTAMP:20260423T110436
CREATED:20250505T213447Z
LAST-MODIFIED:20250505T213447Z
UID:40546-1757523600-1757534400@statelinekids.com
SUMMARY:Cruise Night at the Museum
DESCRIPTION:Check out cars and purchase food.
URL:https://statelinekids.com/event/cruise-night-at-the-museum-2/2025-09-10/
LOCATION:Historic Auto Attractions\, 13825 Metric Dr.\, Roscoe\, IL\, United States
CATEGORIES:Roscoe
END:VEVENT
BEGIN:VEVENT
DTSTART;TZID=America/Chicago:20250813T170000
DTEND;TZID=America/Chicago:20250813T200000
DTSTAMP:20260423T110436
CREATED:20250809T212540Z
LAST-MODIFIED:20250809T212540Z
UID:41745-1755104400-1755115200@statelinekids.com
SUMMARY:Cruise Night at the Museum
DESCRIPTION:Check out a car show and enjoy a discounted admission to the museum.
URL:https://statelinekids.com/event/cruise-night-at-the-museum-3/
LOCATION:Historic Auto Attractions\, 13825 Metric Dr.\, Roscoe\, IL\, United States
CATEGORIES:Roscoe
END:VEVENT
BEGIN:VEVENT
DTSTART;TZID=America/Chicago:20250813T170000
DTEND;TZID=America/Chicago:20250813T200000
DTSTAMP:20260423T110436
CREATED:20250505T213447Z
LAST-MODIFIED:20250505T213447Z
UID:40545-1755104400-1755115200@statelinekids.com
SUMMARY:Cruise Night at the Museum
DESCRIPTION:Check out cars and purchase food.
URL:https://statelinekids.com/event/cruise-night-at-the-museum-2/2025-08-13/
LOCATION:Historic Auto Attractions\, 13825 Metric Dr.\, Roscoe\, IL\, United States
CATEGORIES:Roscoe
END:VEVENT
BEGIN:VEVENT
DTSTART;TZID=America/Chicago:20250709T170000
DTEND;TZID=America/Chicago:20250709T200000
DTSTAMP:20260423T110436
CREATED:20250706T184935Z
LAST-MODIFIED:20250706T184935Z
UID:41291-1752080400-1752091200@statelinekids.com
SUMMARY:Cruise Night
DESCRIPTION:Check out classic cars\, local vendors\, and take $5 off admission to the museum.
URL:https://statelinekids.com/event/cruise-night-10/
LOCATION:Historic Auto Attractions\, 13825 Metric Dr.\, Roscoe\, IL\, United States
CATEGORIES:Roscoe
END:VEVENT
BEGIN:VEVENT
DTSTART;TZID=America/Chicago:20250709T170000
DTEND;TZID=America/Chicago:20250709T200000
DTSTAMP:20260423T110436
CREATED:20250505T213447Z
LAST-MODIFIED:20250505T213447Z
UID:40544-1752080400-1752091200@statelinekids.com
SUMMARY:Cruise Night at the Museum
DESCRIPTION:Check out cars and purchase food.
URL:https://statelinekids.com/event/cruise-night-at-the-museum-2/2025-07-09/
LOCATION:Historic Auto Attractions\, 13825 Metric Dr.\, Roscoe\, IL\, United States
CATEGORIES:Roscoe
END:VEVENT
BEGIN:VEVENT
DTSTART;TZID=America/Chicago:20250611T170000
DTEND;TZID=America/Chicago:20250611T200000
DTSTAMP:20260423T110436
CREATED:20250607T225223Z
LAST-MODIFIED:20250607T225223Z
UID:40955-1749661200-1749672000@statelinekids.com
SUMMARY:Cruise Night
DESCRIPTION:Check out a car show with music\, food\, and beverages.
URL:https://statelinekids.com/event/cruise-night-9/
LOCATION:Historic Auto Attractions\, 13825 Metric Dr.\, Roscoe\, IL\, United States
CATEGORIES:Roscoe
END:VEVENT
BEGIN:VEVENT
DTSTART;TZID=America/Chicago:20250611T170000
DTEND;TZID=America/Chicago:20250611T200000
DTSTAMP:20260423T110436
CREATED:20250505T213447Z
LAST-MODIFIED:20250505T213447Z
UID:40543-1749661200-1749672000@statelinekids.com
SUMMARY:Cruise Night at the Museum
DESCRIPTION:Check out cars and purchase food.
URL:https://statelinekids.com/event/cruise-night-at-the-museum-2/2025-06-11/
LOCATION:Historic Auto Attractions\, 13825 Metric Dr.\, Roscoe\, IL\, United States
CATEGORIES:Roscoe
END:VEVENT
BEGIN:VEVENT
DTSTART;TZID=America/Chicago:20250514T170000
DTEND;TZID=America/Chicago:20250514T200000
DTSTAMP:20260423T110436
CREATED:20250505T213447Z
LAST-MODIFIED:20250505T213447Z
UID:40541-1747242000-1747252800@statelinekids.com
SUMMARY:Cruise Night at the Museum
DESCRIPTION:Check out cars and purchase food.
URL:https://statelinekids.com/event/cruise-night-at-the-museum-2/2025-05-14/
LOCATION:Historic Auto Attractions\, 13825 Metric Dr.\, Roscoe\, IL\, United States
CATEGORIES:Roscoe
END:VEVENT
BEGIN:VEVENT
DTSTART;TZID=America/Chicago:20240511T180000
DTEND;TZID=America/Chicago:20240511T200000
DTSTAMP:20260423T110436
CREATED:20240504T183013Z
LAST-MODIFIED:20240504T183013Z
UID:34721-1715450400-1715457600@statelinekids.com
SUMMARY:It’s Mom’s Day to Wine
DESCRIPTION:Celebrate mom with a wine tasting and time at the museum. Get tickets here.
URL:https://statelinekids.com/event/its-moms-day-to-wine/
LOCATION:Historic Auto Attractions\, 13825 Metric Dr.\, Roscoe\, IL\, United States
CATEGORIES:Roscoe
END:VEVENT
BEGIN:VEVENT
DTSTART;TZID=America/Chicago:20240401T100000
DTEND;TZID=America/Chicago:20240401T170000
DTSTAMP:20260423T110436
CREATED:20240331T181541Z
LAST-MODIFIED:20240331T181541Z
UID:34184-1711965600-1711990800@statelinekids.com
SUMMARY:Opening Day
DESCRIPTION:Check out over 80\,000 square feet of exhibits of cars and more. \nCost: $28 per adult / $17 for kids ages 7-17 / free for kids 6 and under
URL:https://statelinekids.com/event/opening-day/
LOCATION:Historic Auto Attractions\, 13825 Metric Dr.\, Roscoe\, IL\, United States
CATEGORIES:Roscoe
END:VEVENT
BEGIN:VEVENT
DTSTART;TZID=America/Chicago:20230712T170000
DTEND;TZID=America/Chicago:20230712T200000
DTSTAMP:20260423T110436
CREATED:20230707T003050Z
LAST-MODIFIED:20230707T003050Z
UID:29315-1689181200-1689192000@statelinekids.com
SUMMARY:Cruise Night at the Museum
DESCRIPTION:Enjoy an evening of music\, fun\, food trucks\, and show cars galore.
URL:https://statelinekids.com/event/cruise-night-at-the-museum/
LOCATION:Historic Auto Attractions\, 13825 Metric Dr.\, Roscoe\, IL\, United States
CATEGORIES:Roscoe
END:VEVENT
BEGIN:VEVENT
DTSTART;TZID=America/Chicago:20230614T170000
DTEND;TZID=America/Chicago:20230614T200000
DTSTAMP:20260423T110436
CREATED:20230605T231456Z
LAST-MODIFIED:20230605T231456Z
UID:28646-1686762000-1686772800@statelinekids.com
SUMMARY:Cruise Night
DESCRIPTION:Enjoy a night of music\, fun\, food trucks\, and show cars. The museum will be open for extended hours.
URL:https://statelinekids.com/event/cruise-night-8/
LOCATION:Historic Auto Attractions\, 13825 Metric Dr.\, Roscoe\, IL\, United States
CATEGORIES:Roscoe
END:VEVENT
BEGIN:VEVENT
DTSTART;TZID=America/Chicago:20230527T120000
DTEND;TZID=America/Chicago:20230527T140000
DTSTAMP:20260423T110436
CREATED:20230521T203248Z
LAST-MODIFIED:20230521T203248Z
UID:28104-1685188800-1685196000@statelinekids.com
SUMMARY:JFK Celebration
DESCRIPTION:Enjoy a visit to the museum as well as a presentation and tour with Tony Farrell about JFK and the Kennedy Family collection. Get tickets here. \nCost: $35 per adult / $25 per youth \n 
URL:https://statelinekids.com/event/jfk-celebration/
LOCATION:Historic Auto Attractions\, 13825 Metric Dr.\, Roscoe\, IL\, United States
CATEGORIES:Roscoe
END:VEVENT
BEGIN:VEVENT
DTSTART;TZID=America/Chicago:20230510T170000
DTEND;TZID=America/Chicago:20230510T200000
DTSTAMP:20260423T110436
CREATED:20230505T161143Z
LAST-MODIFIED:20230505T161143Z
UID:27840-1683738000-1683748800@statelinekids.com
SUMMARY:Cruise Night
DESCRIPTION:Check out cars and enjoy an evening of music\, fun\, food trucks and more.
URL:https://statelinekids.com/event/cruise-night-6/
LOCATION:Historic Auto Attractions\, 13825 Metric Dr.\, Roscoe\, IL\, United States
CATEGORIES:Roscoe
END:VEVENT
BEGIN:VEVENT
DTSTART;TZID=America/Chicago:20220527T100000
DTEND;TZID=America/Chicago:20220527T170000
DTSTAMP:20260423T110436
CREATED:20220522T170351Z
LAST-MODIFIED:20220522T170351Z
UID:20369-1653645600-1653670800@statelinekids.com
SUMMARY:Historic Auto Attraction Opening Weekend
DESCRIPTION:Come check out more than 12 new exhibits in the 50\,000 square feet of new museum space. \nCost: $28 per adult / $20 per kid ages 7-17 / free for kids 6 and under
URL:https://statelinekids.com/event/historic-auto-attraction-opening-weekend/2022-05-27/
LOCATION:Historic Auto Attractions\, 13825 Metric Dr.\, Roscoe\, IL\, United States
CATEGORIES:Roscoe
END:VEVENT
END:VCALENDAR