BEGIN:VCALENDAR
VERSION:2.0
PRODID:-//Stateline Kids - ECPv6.5.1.3//NONSGML v1.0//EN
CALSCALE:GREGORIAN
METHOD:PUBLISH
X-ORIGINAL-URL:https://statelinekids.com
X-WR-CALDESC:Events for Stateline Kids
REFRESH-INTERVAL;VALUE=DURATION:PT1H
X-Robots-Tag:noindex
X-PUBLISHED-TTL:PT1H
BEGIN:VTIMEZONE
TZID:America/Chicago
BEGIN:DAYLIGHT
TZOFFSETFROM:-0600
TZOFFSETTO:-0500
TZNAME:CDT
DTSTART:20220313T080000
END:DAYLIGHT
BEGIN:STANDARD
TZOFFSETFROM:-0500
TZOFFSETTO:-0600
TZNAME:CST
DTSTART:20221106T070000
END:STANDARD
BEGIN:DAYLIGHT
TZOFFSETFROM:-0600
TZOFFSETTO:-0500
TZNAME:CDT
DTSTART:20230312T080000
END:DAYLIGHT
BEGIN:STANDARD
TZOFFSETFROM:-0500
TZOFFSETTO:-0600
TZNAME:CST
DTSTART:20231105T070000
END:STANDARD
BEGIN:DAYLIGHT
TZOFFSETFROM:-0600
TZOFFSETTO:-0500
TZNAME:CDT
DTSTART:20240310T080000
END:DAYLIGHT
BEGIN:STANDARD
TZOFFSETFROM:-0500
TZOFFSETTO:-0600
TZNAME:CST
DTSTART:20241103T070000
END:STANDARD
END:VTIMEZONE
BEGIN:VEVENT
DTSTART;TZID=America/Chicago:20240929T110000
DTEND;TZID=America/Chicago:20240929T170000
DTSTAMP:20260423T082010
CREATED:20240922T181554Z
LAST-MODIFIED:20240922T181554Z
UID:37792-1727607600-1727629200@statelinekids.com
SUMMARY:Harvest Haus Artisanal Oktoberfest Market
DESCRIPTION:Enjoy a day of authentic German fun including polka music\, contests\, food\, drinks\, and 50 vendors.
URL:https://statelinekids.com/event/harvest-haus-artisanal-oktoberfest-market/
LOCATION:Hidden Creek Estates\, 13276 Whiteschool Rd.\, Roscoe\, IL\, United States
CATEGORIES:Roscoe
END:VEVENT
BEGIN:VEVENT
DTSTART;TZID=America/Chicago:20231025T173000
DTEND;TZID=America/Chicago:20231025T213000
DTSTAMP:20260423T082010
CREATED:20231018T182758Z
LAST-MODIFIED:20231018T182758Z
UID:31465-1698255000-1698269400@statelinekids.com
SUMMARY:DATE NIGHT: Spooky Keys: Dueling Pianos Halloween Bash
DESCRIPTION:Enjoy a night of dueling pianos and dress up in Halloween costumes. There will be food for purchase. Get tickets here.
URL:https://statelinekids.com/event/date-night-spooky-keys-dueling-pianos-halloween-bash/
LOCATION:Hidden Creek Estates\, 13276 Whiteschool Rd.\, Roscoe\, IL\, United States
CATEGORIES:Roscoe
END:VEVENT
BEGIN:VEVENT
DTSTART;TZID=America/Chicago:20231001T110000
DTEND;TZID=America/Chicago:20231001T170000
DTSTAMP:20260423T082010
CREATED:20230924T164455Z
LAST-MODIFIED:20230924T164455Z
UID:30804-1696158000-1696179600@statelinekids.com
SUMMARY:Fall Market
DESCRIPTION:Shop from 30 local vendors with handmade crafts and treats. \nCost: $5 per person / free for kids 12 and under
URL:https://statelinekids.com/event/fall-market/
LOCATION:Hidden Creek Estates\, 13276 Whiteschool Rd.\, Roscoe\, IL\, United States
CATEGORIES:Roscoe
END:VEVENT
BEGIN:VEVENT
DTSTART;TZID=America/Chicago:20230811T190000
DTEND;TZID=America/Chicago:20230811T210000
DTSTAMP:20260423T082010
CREATED:20230805T160553Z
LAST-MODIFIED:20230805T160553Z
UID:29789-1691780400-1691787600@statelinekids.com
SUMMARY:DATE NIGHT: Movie Date Night
DESCRIPTION:Bring your own lawn chairs to watch a romantic movie and enjoy a meal ranging from $18-36. Get tickets here.
URL:https://statelinekids.com/event/date-night-movie-date-night/
LOCATION:Hidden Creek Estates\, 13276 Whiteschool Rd.\, Roscoe\, IL\, United States
CATEGORIES:Roscoe
END:VEVENT
BEGIN:VEVENT
DTSTART;TZID=America/Chicago:20221210T110000
DTEND;TZID=America/Chicago:20221210T170000
DTSTAMP:20260423T082010
CREATED:20221204T174607Z
LAST-MODIFIED:20221204T174607Z
UID:25224-1670670000-1670691600@statelinekids.com
SUMMARY:Holiday Market
DESCRIPTION:Shop from 30 local vendors\, see Santa\, buy drinks and food. Pay in advance and get a free hot cocoa. \nCost: $5 per adult / free for kids \n 
URL:https://statelinekids.com/event/holiday-market-2/
LOCATION:Hidden Creek Estates\, 13276 Whiteschool Rd.\, Roscoe\, IL\, United States
CATEGORIES:Roscoe
END:VEVENT
END:VCALENDAR