BEGIN:VCALENDAR
VERSION:2.0
PRODID:-//Stateline Kids - ECPv6.5.1.3//NONSGML v1.0//EN
CALSCALE:GREGORIAN
METHOD:PUBLISH
X-ORIGINAL-URL:https://statelinekids.com
X-WR-CALDESC:Events for Stateline Kids
REFRESH-INTERVAL;VALUE=DURATION:PT1H
X-Robots-Tag:noindex
X-PUBLISHED-TTL:PT1H
BEGIN:VTIMEZONE
TZID:America/Chicago
BEGIN:DAYLIGHT
TZOFFSETFROM:-0600
TZOFFSETTO:-0500
TZNAME:CDT
DTSTART:20180311T080000
END:DAYLIGHT
BEGIN:STANDARD
TZOFFSETFROM:-0500
TZOFFSETTO:-0600
TZNAME:CST
DTSTART:20181104T070000
END:STANDARD
BEGIN:DAYLIGHT
TZOFFSETFROM:-0600
TZOFFSETTO:-0500
TZNAME:CDT
DTSTART:20190310T080000
END:DAYLIGHT
BEGIN:STANDARD
TZOFFSETFROM:-0500
TZOFFSETTO:-0600
TZNAME:CST
DTSTART:20191103T070000
END:STANDARD
BEGIN:DAYLIGHT
TZOFFSETFROM:-0600
TZOFFSETTO:-0500
TZNAME:CDT
DTSTART:20200308T080000
END:DAYLIGHT
BEGIN:STANDARD
TZOFFSETFROM:-0500
TZOFFSETTO:-0600
TZNAME:CST
DTSTART:20201101T070000
END:STANDARD
BEGIN:DAYLIGHT
TZOFFSETFROM:-0600
TZOFFSETTO:-0500
TZNAME:CDT
DTSTART:20210314T080000
END:DAYLIGHT
BEGIN:STANDARD
TZOFFSETFROM:-0500
TZOFFSETTO:-0600
TZNAME:CST
DTSTART:20211107T070000
END:STANDARD
BEGIN:DAYLIGHT
TZOFFSETFROM:-0600
TZOFFSETTO:-0500
TZNAME:CDT
DTSTART:20220313T080000
END:DAYLIGHT
BEGIN:STANDARD
TZOFFSETFROM:-0500
TZOFFSETTO:-0600
TZNAME:CST
DTSTART:20221106T070000
END:STANDARD
BEGIN:DAYLIGHT
TZOFFSETFROM:-0600
TZOFFSETTO:-0500
TZNAME:CDT
DTSTART:20230312T080000
END:DAYLIGHT
BEGIN:STANDARD
TZOFFSETFROM:-0500
TZOFFSETTO:-0600
TZNAME:CST
DTSTART:20231105T070000
END:STANDARD
BEGIN:DAYLIGHT
TZOFFSETFROM:-0600
TZOFFSETTO:-0500
TZNAME:CDT
DTSTART:20240310T080000
END:DAYLIGHT
BEGIN:STANDARD
TZOFFSETFROM:-0500
TZOFFSETTO:-0600
TZNAME:CST
DTSTART:20241103T070000
END:STANDARD
BEGIN:DAYLIGHT
TZOFFSETFROM:-0600
TZOFFSETTO:-0500
TZNAME:CDT
DTSTART:20250309T080000
END:DAYLIGHT
BEGIN:STANDARD
TZOFFSETFROM:-0500
TZOFFSETTO:-0600
TZNAME:CST
DTSTART:20251102T070000
END:STANDARD
END:VTIMEZONE
BEGIN:VEVENT
DTSTART;TZID=America/Chicago:20250704T190000
DTEND;TZID=America/Chicago:20250704T220000
DTSTAMP:20260421T194414
CREATED:20250629T152628Z
LAST-MODIFIED:20250629T152628Z
UID:41259-1751655600-1751666400@statelinekids.com
SUMMARY:Pops on the Rock Patriotic Concert and Fireworks
DESCRIPTION:Watch a performance from the City of Beloit and Janesville Symphony Orchestra before the amazing fireworks show.
URL:https://statelinekids.com/event/pops-on-the-rock-patriotic-concert-and-fireworks/
LOCATION:Harry Moore Pavilion Riverside Park\, 1240 Riverside Dr\, Beloit\, WI\, United States
END:VEVENT
BEGIN:VEVENT
DTSTART;TZID=America/Chicago:20250704T100000
DTEND;TZID=America/Chicago:20250704T110000
DTSTAMP:20260421T194414
CREATED:20250629T152327Z
LAST-MODIFIED:20250629T152327Z
UID:41256-1751623200-1751626800@statelinekids.com
SUMMARY:July 4 Bike Parade
DESCRIPTION: Kids ages 3-12 can decorate their bikes and participate in a bike parade. Register here.
URL:https://statelinekids.com/event/july-4-bike-parade/
LOCATION:Harry Moore Pavilion Riverside Park\, 1240 Riverside Dr\, Beloit\, WI\, United States
CATEGORIES:Beloit
END:VEVENT
BEGIN:VEVENT
DTSTART;TZID=America/Chicago:20250625T173000
DTEND;TZID=America/Chicago:20250625T183000
DTSTAMP:20260421T194414
CREATED:20250622T181938Z
LAST-MODIFIED:20250622T181938Z
UID:41158-1750872600-1750876200@statelinekids.com
SUMMARY:Blanket Bingo
DESCRIPTION:Stop by to play Bingo and win prizes. Cards and markers are provided.
URL:https://statelinekids.com/event/blanket-bingo-3/
LOCATION:Harry Moore Pavilion Riverside Park\, 1240 Riverside Dr\, Beloit\, WI\, United States
CATEGORIES:Beloit
END:VEVENT
BEGIN:VEVENT
DTSTART;TZID=America/Chicago:20240816T180000
DTEND;TZID=America/Chicago:20240816T213000
DTSTAMP:20260421T194414
CREATED:20240811T184435Z
LAST-MODIFIED:20240811T184436Z
UID:37290-1723831200-1723843800@statelinekids.com
SUMMARY:Movie on the Lawn: Happy Feet
DESCRIPTION:Enjoy an outdoor showing of Happy Feet. Bring your own chairs and blankets.
URL:https://statelinekids.com/event/movie-on-the-lawn-happy-feet/
LOCATION:Harry Moore Pavilion Riverside Park\, 1240 Riverside Dr\, Beloit\, WI\, United States
END:VEVENT
BEGIN:VEVENT
DTSTART;TZID=America/Chicago:20240615T100000
DTEND;TZID=America/Chicago:20240615T170000
DTSTAMP:20260421T194414
CREATED:20240609T194122Z
LAST-MODIFIED:20240609T194122Z
UID:35405-1718445600-1718470800@statelinekids.com
SUMMARY:Juneteenth
DESCRIPTION:Enjoy a day of performances\, speakers\, and more.
URL:https://statelinekids.com/event/juneteenth/
LOCATION:Harry Moore Pavilion Riverside Park\, 1240 Riverside Dr\, Beloit\, WI\, United States
CATEGORIES:Beloit
END:VEVENT
BEGIN:VEVENT
DTSTART;TZID=America/Chicago:20230908T180000
DTEND;TZID=America/Chicago:20230908T220000
DTSTAMP:20260421T194414
CREATED:20230903T173916Z
LAST-MODIFIED:20230903T173916Z
UID:30198-1694196000-1694210400@statelinekids.com
SUMMARY:Finding Nemo Movie
DESCRIPTION:Enjoy a showing of Finding Nemo at the Henry C. Moore Pavilion. Bring chairs and blankets\, and do activities and shop from vendors before the movie.
URL:https://statelinekids.com/event/finding-nemo-movie/
LOCATION:Harry Moore Pavilion Riverside Park\, 1240 Riverside Dr\, Beloit\, WI\, United States
CATEGORIES:Beloit
END:VEVENT
BEGIN:VEVENT
DTSTART;TZID=America/Chicago:20190703T180000
DTEND;TZID=America/Chicago:20190703T220000
DTSTAMP:20260421T194414
CREATED:20190621T222117Z
LAST-MODIFIED:20190621T222117Z
UID:6193-1562176800-1562191200@statelinekids.com
SUMMARY:Coin Carnival & Outdoor Movie
DESCRIPTION:The City of Beloit Parks and Recreation division brings you fun games\, coin carnival\, trinket prizes\, ice cream and soda available for purchase\, free family movie on the big screen. Bring your lawn chairs and blankets. \n(coin carnival 6-8 p.m.\, movie to follow)\nLOCATION: Riverside Park\, Jones Pavilion \nFEES: FREE Movie! (Bernie the Dolphin) Coin Carnival .25 cent games or unlimited play wrist band just $5.00\nAGES: Fun for the Entire Family!
URL:https://statelinekids.com/event/coin-carnival-outdoor-movie/
LOCATION:Harry Moore Pavilion Riverside Park\, 1240 Riverside Dr\, Beloit\, WI\, United States
CATEGORIES:Beloit
END:VEVENT
BEGIN:VEVENT
DTSTART;TZID=America/Chicago:20190627T110000
DTEND;TZID=America/Chicago:20190627T140000
DTSTAMP:20260421T194414
CREATED:20190624T033532Z
LAST-MODIFIED:20190624T033532Z
UID:6236-1561633200-1561644000@statelinekids.com
SUMMARY:Touch a Truck 2019
DESCRIPTION:Come to Touch a Truck and see a variety of vehicles used in the City of Beloit. Take the shuttle from the Rotary Center Parking Lot (1160 Riverside Dr.). No parking allowed at event site this year.
URL:https://statelinekids.com/event/touch-a-truck-2019/
LOCATION:Harry Moore Pavilion Riverside Park\, 1240 Riverside Dr\, Beloit\, WI\, United States
CATEGORIES:Beloit
END:VEVENT
BEGIN:VEVENT
DTSTART;TZID=America/Chicago:20180816T150000
DTEND;TZID=America/Chicago:20180816T163000
DTSTAMP:20260421T194414
CREATED:20180713T030423Z
LAST-MODIFIED:20180713T030423Z
UID:975-1534431600-1534437000@statelinekids.com
SUMMARY:Fish Lips and Casting Tips
DESCRIPTION:Experiments will help us understand how fish are able to survive in their watery environment. Program also includes a fishing lesson and a chance to catch some fish. Fishing poles and bait will be provided.
URL:https://statelinekids.com/event/fish-lips-and-casting-tips/
LOCATION:Harry Moore Pavilion Riverside Park\, 1240 Riverside Dr\, Beloit\, WI\, United States
CATEGORIES:Beloit
END:VEVENT
BEGIN:VEVENT
DTSTART;TZID=America/Chicago:20180807T170000
DTEND;TZID=America/Chicago:20180807T190000
DTSTAMP:20260421T194414
CREATED:20180805T144926Z
LAST-MODIFIED:20180805T144926Z
UID:1571-1533661200-1533668400@statelinekids.com
SUMMARY:National Night Out - Beloit
DESCRIPTION:The City of Beloit Police Department is hosting a citywide National Night Out kickoff event at the Harry C. Moore Pavilion in Riverside Park from 5 p.m. to 7 p.m. Tuesday\, Aug. 7\, 2018. \nResidents in neighborhoods throughout Beloit are asked to turn on and display outside lights\, lock their doors\, and spend a positive evening outside with their neighbors. \nPersonnel from the City of Beloit Police Department and the City of Beloit Fire Department\, as well as other community organizations\, will be present at the National Night Out kickoff event in Riverside Park. This event is designed to promote police-community partnerships and to strengthen neighborhoods as we work together to make Beloit neighborhoods safer for the whole community.
URL:https://statelinekids.com/event/national-night-out-beloit-wi/
LOCATION:Harry Moore Pavilion Riverside Park\, 1240 Riverside Dr\, Beloit\, WI\, United States
CATEGORIES:Beloit
END:VEVENT
END:VCALENDAR