BEGIN:VCALENDAR
VERSION:2.0
PRODID:-//Stateline Kids - ECPv6.5.1.3//NONSGML v1.0//EN
CALSCALE:GREGORIAN
METHOD:PUBLISH
X-ORIGINAL-URL:https://statelinekids.com
X-WR-CALDESC:Events for Stateline Kids
REFRESH-INTERVAL;VALUE=DURATION:PT1H
X-Robots-Tag:noindex
X-PUBLISHED-TTL:PT1H
BEGIN:VTIMEZONE
TZID:America/Chicago
BEGIN:DAYLIGHT
TZOFFSETFROM:-0600
TZOFFSETTO:-0500
TZNAME:CDT
DTSTART:20180311T080000
END:DAYLIGHT
BEGIN:STANDARD
TZOFFSETFROM:-0500
TZOFFSETTO:-0600
TZNAME:CST
DTSTART:20181104T070000
END:STANDARD
BEGIN:DAYLIGHT
TZOFFSETFROM:-0600
TZOFFSETTO:-0500
TZNAME:CDT
DTSTART:20190310T080000
END:DAYLIGHT
BEGIN:STANDARD
TZOFFSETFROM:-0500
TZOFFSETTO:-0600
TZNAME:CST
DTSTART:20191103T070000
END:STANDARD
BEGIN:DAYLIGHT
TZOFFSETFROM:-0600
TZOFFSETTO:-0500
TZNAME:CDT
DTSTART:20200308T080000
END:DAYLIGHT
BEGIN:STANDARD
TZOFFSETFROM:-0500
TZOFFSETTO:-0600
TZNAME:CST
DTSTART:20201101T070000
END:STANDARD
BEGIN:DAYLIGHT
TZOFFSETFROM:-0600
TZOFFSETTO:-0500
TZNAME:CDT
DTSTART:20210314T080000
END:DAYLIGHT
BEGIN:STANDARD
TZOFFSETFROM:-0500
TZOFFSETTO:-0600
TZNAME:CST
DTSTART:20211107T070000
END:STANDARD
BEGIN:DAYLIGHT
TZOFFSETFROM:-0600
TZOFFSETTO:-0500
TZNAME:CDT
DTSTART:20220313T080000
END:DAYLIGHT
BEGIN:STANDARD
TZOFFSETFROM:-0500
TZOFFSETTO:-0600
TZNAME:CST
DTSTART:20221106T070000
END:STANDARD
BEGIN:DAYLIGHT
TZOFFSETFROM:-0600
TZOFFSETTO:-0500
TZNAME:CDT
DTSTART:20230312T080000
END:DAYLIGHT
BEGIN:STANDARD
TZOFFSETFROM:-0500
TZOFFSETTO:-0600
TZNAME:CST
DTSTART:20231105T070000
END:STANDARD
END:VTIMEZONE
BEGIN:VEVENT
DTSTART;TZID=America/Chicago:20231028T160000
DTEND;TZID=America/Chicago:20231028T180000
DTSTAMP:20260420T002107
CREATED:20231020T153358Z
LAST-MODIFIED:20231020T153358Z
UID:31565-1698508800-1698516000@statelinekids.com
SUMMARY:Trick or Treat at Forest of Freaks
DESCRIPTION:Kids can trick or treat from 25 stops\, go into a bounce house for 5 minutes\, and take a pumpkin home. There will be other activities as well. \nCost: $6 per kid \n 
URL:https://statelinekids.com/event/trick-or-treat-at-forest-of-freaks/
LOCATION:Forest of Freaks\, 5946 S US Highway 51\, Janesville\, WI\, United States
CATEGORIES:Janesville
END:VEVENT
BEGIN:VEVENT
DTSTART;TZID=America/Chicago:20191012T150000
DTEND;TZID=America/Chicago:20191012T173000
DTSTAMP:20260420T002107
CREATED:20191005T185206Z
LAST-MODIFIED:20191005T185206Z
UID:7840-1570892400-1570901400@statelinekids.com
SUMMARY:Kids Trick or Treat in Forest of Freaks
DESCRIPTION:Dress up in costume and go to 25+ stops on a Trick or Treat candy walk\, get entry to a bounce house\, and do a horse ride. \n$5 per kid
URL:https://statelinekids.com/event/kids-trick-or-treat-in-forest-of-freaks/
LOCATION:Forest of Freaks\, 5946 S US Highway 51\, Janesville\, WI\, United States
CATEGORIES:Janesville
END:VEVENT
BEGIN:VEVENT
DTSTART;TZID=America/Chicago:20181020T150000
DTEND;TZID=America/Chicago:20181020T173000
DTSTAMP:20260420T002107
CREATED:20181015T013143Z
LAST-MODIFIED:20181015T013143Z
UID:3328-1540047600-1540056600@statelinekids.com
SUMMARY:Kids Day at Forest of Freaks
DESCRIPTION:Walk along a 25+ stop candy trail\, jump in bounce houses\, and ride a horse. There will also be carnival games like ring a bottle\, a dunk tank\, and a paintball target range. This is a kid friendly event\, all of the other days it’s a scary event.
URL:https://statelinekids.com/event/kids-day-at-forest-of-freaks/
LOCATION:Forest of Freaks\, 5946 S US Highway 51\, Janesville\, WI\, United States
CATEGORIES:Janesville
END:VEVENT
END:VCALENDAR