BEGIN:VCALENDAR
VERSION:2.0
PRODID:-//Stateline Kids - ECPv6.5.1.3//NONSGML v1.0//EN
CALSCALE:GREGORIAN
METHOD:PUBLISH
X-WR-CALNAME:Stateline Kids
X-ORIGINAL-URL:https://statelinekids.com
X-WR-CALDESC:Events for Stateline Kids
REFRESH-INTERVAL;VALUE=DURATION:PT1H
X-Robots-Tag:noindex
X-PUBLISHED-TTL:PT1H
BEGIN:VTIMEZONE
TZID:America/Chicago
BEGIN:DAYLIGHT
TZOFFSETFROM:-0600
TZOFFSETTO:-0500
TZNAME:CDT
DTSTART:20210314T080000
END:DAYLIGHT
BEGIN:STANDARD
TZOFFSETFROM:-0500
TZOFFSETTO:-0600
TZNAME:CST
DTSTART:20211107T070000
END:STANDARD
BEGIN:DAYLIGHT
TZOFFSETFROM:-0600
TZOFFSETTO:-0500
TZNAME:CDT
DTSTART:20220313T080000
END:DAYLIGHT
BEGIN:STANDARD
TZOFFSETFROM:-0500
TZOFFSETTO:-0600
TZNAME:CST
DTSTART:20221106T070000
END:STANDARD
BEGIN:DAYLIGHT
TZOFFSETFROM:-0600
TZOFFSETTO:-0500
TZNAME:CDT
DTSTART:20230312T080000
END:DAYLIGHT
BEGIN:STANDARD
TZOFFSETFROM:-0500
TZOFFSETTO:-0600
TZNAME:CST
DTSTART:20231105T070000
END:STANDARD
BEGIN:DAYLIGHT
TZOFFSETFROM:-0600
TZOFFSETTO:-0500
TZNAME:CDT
DTSTART:20240310T080000
END:DAYLIGHT
BEGIN:STANDARD
TZOFFSETFROM:-0500
TZOFFSETTO:-0600
TZNAME:CST
DTSTART:20241103T070000
END:STANDARD
BEGIN:DAYLIGHT
TZOFFSETFROM:-0600
TZOFFSETTO:-0500
TZNAME:CDT
DTSTART:20250309T080000
END:DAYLIGHT
BEGIN:STANDARD
TZOFFSETFROM:-0500
TZOFFSETTO:-0600
TZNAME:CST
DTSTART:20251102T070000
END:STANDARD
END:VTIMEZONE
BEGIN:VEVENT
DTSTART;TZID=America/Chicago:20251031T090000
DTEND;TZID=America/Chicago:20251031T120000
DTSTAMP:20260420T023220
CREATED:20250505T220919Z
LAST-MODIFIED:20250505T220919Z
UID:40606-1761901200-1761912000@statelinekids.com
SUMMARY:Forest City Farmers Market
DESCRIPTION:Shop from local vendors at an outdoor market.
URL:https://statelinekids.com/event/forest-city-farmers-market-3/2025-10-31/
LOCATION:Forest City Church\, 1280 S. Alpine Rd.\, Rockford\, IL\, United States
CATEGORIES:Rockford
END:VEVENT
BEGIN:VEVENT
DTSTART;TZID=America/Chicago:20251024T090000
DTEND;TZID=America/Chicago:20251024T120000
DTSTAMP:20260420T023220
CREATED:20250505T220919Z
LAST-MODIFIED:20250505T220919Z
UID:40605-1761296400-1761307200@statelinekids.com
SUMMARY:Forest City Farmers Market
DESCRIPTION:Shop from local vendors at an outdoor market.
URL:https://statelinekids.com/event/forest-city-farmers-market-3/2025-10-24/
LOCATION:Forest City Church\, 1280 S. Alpine Rd.\, Rockford\, IL\, United States
CATEGORIES:Rockford
END:VEVENT
BEGIN:VEVENT
DTSTART;TZID=America/Chicago:20251017T090000
DTEND;TZID=America/Chicago:20251017T120000
DTSTAMP:20260420T023220
CREATED:20250505T220919Z
LAST-MODIFIED:20250505T220919Z
UID:40604-1760691600-1760702400@statelinekids.com
SUMMARY:Forest City Farmers Market
DESCRIPTION:Shop from local vendors at an outdoor market.
URL:https://statelinekids.com/event/forest-city-farmers-market-3/2025-10-17/
LOCATION:Forest City Church\, 1280 S. Alpine Rd.\, Rockford\, IL\, United States
CATEGORIES:Rockford
END:VEVENT
BEGIN:VEVENT
DTSTART;TZID=America/Chicago:20251010T090000
DTEND;TZID=America/Chicago:20251010T120000
DTSTAMP:20260420T023220
CREATED:20250505T220919Z
LAST-MODIFIED:20250505T220919Z
UID:40603-1760086800-1760097600@statelinekids.com
SUMMARY:Forest City Farmers Market
DESCRIPTION:Shop from local vendors at an outdoor market.
URL:https://statelinekids.com/event/forest-city-farmers-market-3/2025-10-10/
LOCATION:Forest City Church\, 1280 S. Alpine Rd.\, Rockford\, IL\, United States
CATEGORIES:Rockford
END:VEVENT
BEGIN:VEVENT
DTSTART;TZID=America/Chicago:20251003T090000
DTEND;TZID=America/Chicago:20251003T120000
DTSTAMP:20260420T023220
CREATED:20250505T220919Z
LAST-MODIFIED:20250505T220919Z
UID:40602-1759482000-1759492800@statelinekids.com
SUMMARY:Forest City Farmers Market
DESCRIPTION:Shop from local vendors at an outdoor market.
URL:https://statelinekids.com/event/forest-city-farmers-market-3/2025-10-03/
LOCATION:Forest City Church\, 1280 S. Alpine Rd.\, Rockford\, IL\, United States
CATEGORIES:Rockford
END:VEVENT
BEGIN:VEVENT
DTSTART;TZID=America/Chicago:20250926T090000
DTEND;TZID=America/Chicago:20250926T120000
DTSTAMP:20260420T023220
CREATED:20250505T220919Z
LAST-MODIFIED:20250505T220919Z
UID:40601-1758877200-1758888000@statelinekids.com
SUMMARY:Forest City Farmers Market
DESCRIPTION:Shop from local vendors at an outdoor market.
URL:https://statelinekids.com/event/forest-city-farmers-market-3/2025-09-26/
LOCATION:Forest City Church\, 1280 S. Alpine Rd.\, Rockford\, IL\, United States
CATEGORIES:Rockford
END:VEVENT
BEGIN:VEVENT
DTSTART;TZID=America/Chicago:20250919T090000
DTEND;TZID=America/Chicago:20250919T120000
DTSTAMP:20260420T023220
CREATED:20250505T220919Z
LAST-MODIFIED:20250505T220919Z
UID:40600-1758272400-1758283200@statelinekids.com
SUMMARY:Forest City Farmers Market
DESCRIPTION:Shop from local vendors at an outdoor market.
URL:https://statelinekids.com/event/forest-city-farmers-market-3/2025-09-19/
LOCATION:Forest City Church\, 1280 S. Alpine Rd.\, Rockford\, IL\, United States
CATEGORIES:Rockford
END:VEVENT
BEGIN:VEVENT
DTSTART;TZID=America/Chicago:20250912T090000
DTEND;TZID=America/Chicago:20250912T120000
DTSTAMP:20260420T023220
CREATED:20250505T220919Z
LAST-MODIFIED:20250505T220919Z
UID:40599-1757667600-1757678400@statelinekids.com
SUMMARY:Forest City Farmers Market
DESCRIPTION:Shop from local vendors at an outdoor market.
URL:https://statelinekids.com/event/forest-city-farmers-market-3/2025-09-12/
LOCATION:Forest City Church\, 1280 S. Alpine Rd.\, Rockford\, IL\, United States
CATEGORIES:Rockford
END:VEVENT
BEGIN:VEVENT
DTSTART;TZID=America/Chicago:20250905T090000
DTEND;TZID=America/Chicago:20250905T120000
DTSTAMP:20260420T023220
CREATED:20250505T220919Z
LAST-MODIFIED:20250505T220919Z
UID:40598-1757062800-1757073600@statelinekids.com
SUMMARY:Forest City Farmers Market
DESCRIPTION:Shop from local vendors at an outdoor market.
URL:https://statelinekids.com/event/forest-city-farmers-market-3/2025-09-05/
LOCATION:Forest City Church\, 1280 S. Alpine Rd.\, Rockford\, IL\, United States
CATEGORIES:Rockford
END:VEVENT
BEGIN:VEVENT
DTSTART;TZID=America/Chicago:20250829T090000
DTEND;TZID=America/Chicago:20250829T120000
DTSTAMP:20260420T023221
CREATED:20250505T220919Z
LAST-MODIFIED:20250505T220919Z
UID:40597-1756458000-1756468800@statelinekids.com
SUMMARY:Forest City Farmers Market
DESCRIPTION:Shop from local vendors at an outdoor market.
URL:https://statelinekids.com/event/forest-city-farmers-market-3/2025-08-29/
LOCATION:Forest City Church\, 1280 S. Alpine Rd.\, Rockford\, IL\, United States
CATEGORIES:Rockford
END:VEVENT
BEGIN:VEVENT
DTSTART;TZID=America/Chicago:20250822T090000
DTEND;TZID=America/Chicago:20250822T120000
DTSTAMP:20260420T023221
CREATED:20250505T220919Z
LAST-MODIFIED:20250505T220919Z
UID:40596-1755853200-1755864000@statelinekids.com
SUMMARY:Forest City Farmers Market
DESCRIPTION:Shop from local vendors at an outdoor market.
URL:https://statelinekids.com/event/forest-city-farmers-market-3/2025-08-22/
LOCATION:Forest City Church\, 1280 S. Alpine Rd.\, Rockford\, IL\, United States
CATEGORIES:Rockford
END:VEVENT
BEGIN:VEVENT
DTSTART;TZID=America/Chicago:20250815T090000
DTEND;TZID=America/Chicago:20250815T120000
DTSTAMP:20260420T023221
CREATED:20250505T220919Z
LAST-MODIFIED:20250505T220919Z
UID:40595-1755248400-1755259200@statelinekids.com
SUMMARY:Forest City Farmers Market
DESCRIPTION:Shop from local vendors at an outdoor market.
URL:https://statelinekids.com/event/forest-city-farmers-market-3/2025-08-15/
LOCATION:Forest City Church\, 1280 S. Alpine Rd.\, Rockford\, IL\, United States
CATEGORIES:Rockford
END:VEVENT
BEGIN:VEVENT
DTSTART;TZID=America/Chicago:20250808T090000
DTEND;TZID=America/Chicago:20250808T120000
DTSTAMP:20260420T023221
CREATED:20250505T220919Z
LAST-MODIFIED:20250505T220919Z
UID:40594-1754643600-1754654400@statelinekids.com
SUMMARY:Forest City Farmers Market
DESCRIPTION:Shop from local vendors at an outdoor market.
URL:https://statelinekids.com/event/forest-city-farmers-market-3/2025-08-08/
LOCATION:Forest City Church\, 1280 S. Alpine Rd.\, Rockford\, IL\, United States
CATEGORIES:Rockford
END:VEVENT
BEGIN:VEVENT
DTSTART;TZID=America/Chicago:20250801T090000
DTEND;TZID=America/Chicago:20250801T120000
DTSTAMP:20260420T023221
CREATED:20250505T220919Z
LAST-MODIFIED:20250505T220919Z
UID:40593-1754038800-1754049600@statelinekids.com
SUMMARY:Forest City Farmers Market
DESCRIPTION:Shop from local vendors at an outdoor market.
URL:https://statelinekids.com/event/forest-city-farmers-market-3/2025-08-01/
LOCATION:Forest City Church\, 1280 S. Alpine Rd.\, Rockford\, IL\, United States
CATEGORIES:Rockford
END:VEVENT
BEGIN:VEVENT
DTSTART;TZID=America/Chicago:20250725T090000
DTEND;TZID=America/Chicago:20250725T120000
DTSTAMP:20260420T023221
CREATED:20250505T220919Z
LAST-MODIFIED:20250505T220919Z
UID:40592-1753434000-1753444800@statelinekids.com
SUMMARY:Forest City Farmers Market
DESCRIPTION:Shop from local vendors at an outdoor market.
URL:https://statelinekids.com/event/forest-city-farmers-market-3/2025-07-25/
LOCATION:Forest City Church\, 1280 S. Alpine Rd.\, Rockford\, IL\, United States
CATEGORIES:Rockford
END:VEVENT
BEGIN:VEVENT
DTSTART;TZID=America/Chicago:20250718T090000
DTEND;TZID=America/Chicago:20250718T120000
DTSTAMP:20260420T023221
CREATED:20250505T220919Z
LAST-MODIFIED:20250505T220919Z
UID:40590-1752829200-1752840000@statelinekids.com
SUMMARY:Forest City Farmers Market
DESCRIPTION:Shop from local vendors at an outdoor market.
URL:https://statelinekids.com/event/forest-city-farmers-market-3/2025-07-18/
LOCATION:Forest City Church\, 1280 S. Alpine Rd.\, Rockford\, IL\, United States
CATEGORIES:Rockford
END:VEVENT
BEGIN:VEVENT
DTSTART;TZID=America/Chicago:20250711T090000
DTEND;TZID=America/Chicago:20250711T120000
DTSTAMP:20260420T023221
CREATED:20250505T220919Z
LAST-MODIFIED:20250505T220919Z
UID:40589-1752224400-1752235200@statelinekids.com
SUMMARY:Forest City Farmers Market
DESCRIPTION:Shop from local vendors at an outdoor market.
URL:https://statelinekids.com/event/forest-city-farmers-market-3/2025-07-11/
LOCATION:Forest City Church\, 1280 S. Alpine Rd.\, Rockford\, IL\, United States
CATEGORIES:Rockford
END:VEVENT
BEGIN:VEVENT
DTSTART;TZID=America/Chicago:20250704T090000
DTEND;TZID=America/Chicago:20250704T120000
DTSTAMP:20260420T023221
CREATED:20250505T220919Z
LAST-MODIFIED:20250505T220919Z
UID:40588-1751619600-1751630400@statelinekids.com
SUMMARY:Forest City Farmers Market
DESCRIPTION:Shop from local vendors at an outdoor market.
URL:https://statelinekids.com/event/forest-city-farmers-market-3/2025-07-04/
LOCATION:Forest City Church\, 1280 S. Alpine Rd.\, Rockford\, IL\, United States
CATEGORIES:Rockford
END:VEVENT
BEGIN:VEVENT
DTSTART;TZID=America/Chicago:20250627T090000
DTEND;TZID=America/Chicago:20250627T120000
DTSTAMP:20260420T023221
CREATED:20250505T220919Z
LAST-MODIFIED:20250505T220919Z
UID:40587-1751014800-1751025600@statelinekids.com
SUMMARY:Forest City Farmers Market
DESCRIPTION:Shop from local vendors at an outdoor market.
URL:https://statelinekids.com/event/forest-city-farmers-market-3/2025-06-27/
LOCATION:Forest City Church\, 1280 S. Alpine Rd.\, Rockford\, IL\, United States
CATEGORIES:Rockford
END:VEVENT
BEGIN:VEVENT
DTSTART;TZID=America/Chicago:20250620T090000
DTEND;TZID=America/Chicago:20250620T120000
DTSTAMP:20260420T023221
CREATED:20250505T220919Z
LAST-MODIFIED:20250505T220919Z
UID:40586-1750410000-1750420800@statelinekids.com
SUMMARY:Forest City Farmers Market
DESCRIPTION:Shop from local vendors at an outdoor market.
URL:https://statelinekids.com/event/forest-city-farmers-market-3/2025-06-20/
LOCATION:Forest City Church\, 1280 S. Alpine Rd.\, Rockford\, IL\, United States
CATEGORIES:Rockford
END:VEVENT
BEGIN:VEVENT
DTSTART;TZID=America/Chicago:20250613T090000
DTEND;TZID=America/Chicago:20250613T120000
DTSTAMP:20260420T023221
CREATED:20250505T220919Z
LAST-MODIFIED:20250505T220919Z
UID:40585-1749805200-1749816000@statelinekids.com
SUMMARY:Forest City Farmers Market
DESCRIPTION:Shop from local vendors at an outdoor market.
URL:https://statelinekids.com/event/forest-city-farmers-market-3/2025-06-13/
LOCATION:Forest City Church\, 1280 S. Alpine Rd.\, Rockford\, IL\, United States
CATEGORIES:Rockford
END:VEVENT
BEGIN:VEVENT
DTSTART;TZID=America/Chicago:20250606T090000
DTEND;TZID=America/Chicago:20250606T120000
DTSTAMP:20260420T023221
CREATED:20250505T220919Z
LAST-MODIFIED:20250505T220919Z
UID:40584-1749200400-1749211200@statelinekids.com
SUMMARY:Forest City Farmers Market
DESCRIPTION:Shop from local vendors at an outdoor market.
URL:https://statelinekids.com/event/forest-city-farmers-market-3/2025-06-06/
LOCATION:Forest City Church\, 1280 S. Alpine Rd.\, Rockford\, IL\, United States
CATEGORIES:Rockford
END:VEVENT
BEGIN:VEVENT
DTSTART;TZID=America/Chicago:20250530T090000
DTEND;TZID=America/Chicago:20250530T120000
DTSTAMP:20260420T023221
CREATED:20250505T220919Z
LAST-MODIFIED:20250505T220919Z
UID:40583-1748595600-1748606400@statelinekids.com
SUMMARY:Forest City Farmers Market
DESCRIPTION:Shop from local vendors at an outdoor market.
URL:https://statelinekids.com/event/forest-city-farmers-market-3/2025-05-30/
LOCATION:Forest City Church\, 1280 S. Alpine Rd.\, Rockford\, IL\, United States
CATEGORIES:Rockford
END:VEVENT
BEGIN:VEVENT
DTSTART;TZID=America/Chicago:20250523T090000
DTEND;TZID=America/Chicago:20250523T120000
DTSTAMP:20260420T023221
CREATED:20250505T220919Z
LAST-MODIFIED:20250505T220919Z
UID:40582-1747990800-1748001600@statelinekids.com
SUMMARY:Forest City Farmers Market
DESCRIPTION:Shop from local vendors at an outdoor market.
URL:https://statelinekids.com/event/forest-city-farmers-market-3/2025-05-23/
LOCATION:Forest City Church\, 1280 S. Alpine Rd.\, Rockford\, IL\, United States
CATEGORIES:Rockford
END:VEVENT
BEGIN:VEVENT
DTSTART;TZID=America/Chicago:20250516T090000
DTEND;TZID=America/Chicago:20250516T120000
DTSTAMP:20260420T023221
CREATED:20250505T220919Z
LAST-MODIFIED:20250505T220919Z
UID:40581-1747386000-1747396800@statelinekids.com
SUMMARY:Forest City Farmers Market
DESCRIPTION:Shop from local vendors at an outdoor market.
URL:https://statelinekids.com/event/forest-city-farmers-market-3/2025-05-16/
LOCATION:Forest City Church\, 1280 S. Alpine Rd.\, Rockford\, IL\, United States
CATEGORIES:Rockford
END:VEVENT
BEGIN:VEVENT
DTSTART;TZID=America/Chicago:20250509T090000
DTEND;TZID=America/Chicago:20250509T120000
DTSTAMP:20260420T023221
CREATED:20250505T220919Z
LAST-MODIFIED:20250505T220919Z
UID:40579-1746781200-1746792000@statelinekids.com
SUMMARY:Forest City Farmers Market
DESCRIPTION:Shop from local vendors at an outdoor market.
URL:https://statelinekids.com/event/forest-city-farmers-market-3/2025-05-09/
LOCATION:Forest City Church\, 1280 S. Alpine Rd.\, Rockford\, IL\, United States
CATEGORIES:Rockford
END:VEVENT
BEGIN:VEVENT
DTSTART;TZID=America/Chicago:20220506T090000
DTEND;TZID=America/Chicago:20220506T130000
DTSTAMP:20260420T023221
CREATED:20220430T205857Z
LAST-MODIFIED:20220430T205921Z
UID:20066-1651827600-1651842000@statelinekids.com
SUMMARY:Farmers Market
DESCRIPTION:Shop local at the oldest running farmers’ market in Rockford.
URL:https://statelinekids.com/event/farmers-market/2022-05-06/
LOCATION:Forest City Church\, 1280 S. Alpine Rd.\, Rockford\, IL\, United States
CATEGORIES:Rockford
END:VEVENT
BEGIN:VEVENT
DTSTART;TZID=America/Chicago:20210821T090000
DTEND;TZID=America/Chicago:20210821T130000
DTSTAMP:20260420T023221
CREATED:20210815T180600Z
LAST-MODIFIED:20210815T180600Z
UID:17100-1629536400-1629550800@statelinekids.com
SUMMARY:Forest City Farmers Market
DESCRIPTION:Shop at Rockford’s oldest farmers market for local fresh fruit\, vegetables\, baked goods and more.
URL:https://statelinekids.com/event/forest-city-farmers-market/
LOCATION:Forest City Church\, 1280 S. Alpine Rd.\, Rockford\, IL\, United States
CATEGORIES:Rockford
END:VEVENT
END:VCALENDAR