BEGIN:VCALENDAR
VERSION:2.0
PRODID:-//Stateline Kids - ECPv6.5.1.3//NONSGML v1.0//EN
CALSCALE:GREGORIAN
METHOD:PUBLISH
X-WR-CALNAME:Stateline Kids
X-ORIGINAL-URL:https://statelinekids.com
X-WR-CALDESC:Events for Stateline Kids
REFRESH-INTERVAL;VALUE=DURATION:PT1H
X-Robots-Tag:noindex
X-PUBLISHED-TTL:PT1H
BEGIN:VTIMEZONE
TZID:America/Chicago
BEGIN:DAYLIGHT
TZOFFSETFROM:-0600
TZOFFSETTO:-0500
TZNAME:CDT
DTSTART:20180311T080000
END:DAYLIGHT
BEGIN:STANDARD
TZOFFSETFROM:-0500
TZOFFSETTO:-0600
TZNAME:CST
DTSTART:20181104T070000
END:STANDARD
BEGIN:DAYLIGHT
TZOFFSETFROM:-0600
TZOFFSETTO:-0500
TZNAME:CDT
DTSTART:20190310T080000
END:DAYLIGHT
BEGIN:STANDARD
TZOFFSETFROM:-0500
TZOFFSETTO:-0600
TZNAME:CST
DTSTART:20191103T070000
END:STANDARD
END:VTIMEZONE
BEGIN:VEVENT
DTSTART;TZID=America/Chicago:20191214T160000
DTEND;TZID=America/Chicago:20191214T200000
DTSTAMP:20260425T064010
CREATED:20191208T182724Z
LAST-MODIFIED:20191208T182724Z
UID:8957-1576339200-1576353600@statelinekids.com
SUMMARY:Christmas Traditions at First Free Church
DESCRIPTION:Enjoy free photos with Santa\, live t-shirt printing by Rockford Art Deli\, kids stage show\, petting zoo with donkeys\, camels\, and sheep\, horse drawn wagon rides\, smores\, indoor snowball fight and more.
URL:https://statelinekids.com/event/christmas-traditions-at-first-free-church/
LOCATION:First Free Rockford\, 2223 N Mulford Rd\, Rockford\, IL\, United States
CATEGORIES:Rockford
END:VEVENT
BEGIN:VEVENT
DTSTART;TZID=America/Chicago:20190824T090000
DTEND;TZID=America/Chicago:20190824T120000
DTSTAMP:20260425T064010
CREATED:20190817T200953Z
LAST-MODIFIED:20190817T200953Z
UID:7042-1566637200-1566648000@statelinekids.com
SUMMARY:The Amazing Chemistry Show and Family Experience
DESCRIPTION:Explore the science museum then watch a chemistry show with Josh Denhart at 11 am.
URL:https://statelinekids.com/event/the-amazing-chemistry-show-and-family-experience-2/
LOCATION:First Free Rockford\, 2223 N Mulford Rd\, Rockford\, IL\, United States
CATEGORIES:Rockford
END:VEVENT
BEGIN:VEVENT
DTSTART;TZID=America/Chicago:20190824T090000
DTEND;TZID=America/Chicago:20190824T120000
DTSTAMP:20260425T064010
CREATED:20190618T200208Z
LAST-MODIFIED:20190618T200221Z
UID:6161-1566637200-1566648000@statelinekids.com
SUMMARY:The Amazing Chemistry Show and Family Experience
DESCRIPTION:FREE | All Ages \nSuper Slime! Magnet Mania! Ready\, Set\, Rockets! Join First Free Rockford for The Amazing Chemistry Show and Family Experience to be held at our main campus on Saturday\, August 24 from 9am to noon. This will be an entertaining and educational family event that you will want to invite your friends and neighbors to! \nDoors open at 9:00 a.m. for the exploratory Science Museum\, followed by The Amazing Chemistry Show with Josh Denhart at 11:00 a.m. \nABOUT THE PERFORMER\n—\nJosh Denhart is a seasoned educator with BA in Chemistry Education\, an MA in Effective Instruction\, and has earned National Board Certification in Young Adult and Adolescent Science. As a former High School chemistry teacher and followed by 10 years serving as a children’s pastor\, Josh melded his love for Science and Christ\, creating “The Amazing Chemistry Show\,” a traveling gospel-centered stage show with fire\, explosions and foam. Carrying this Ministry of Chemistry even further\, Josh created three Science VBS programs and a family resource entitled “Science Devotions @ Home.” \nJosh is a published author\, children’s magazine columnist and has a regular spot on local TV preforming fun science. \nFor almost 20 years\, Josh Denhart has been entertaining kids ages 3-93 with loud noises\, chemical reactions\, glow-in-the dark solutions\, and a POWERFUL message.
URL:https://statelinekids.com/event/the-amazing-chemistry-show-and-family-experience/
LOCATION:First Free Rockford\, 2223 N Mulford Rd\, Rockford\, IL\, United States
CATEGORIES:Rockford
END:VEVENT
BEGIN:VEVENT
DTSTART;TZID=America/Chicago:20181215T160000
DTEND;TZID=America/Chicago:20181215T200000
DTSTAMP:20260425T064010
CREATED:20181211T042926Z
LAST-MODIFIED:20181211T042926Z
UID:4152-1544889600-1544904000@statelinekids.com
SUMMARY:Christmas Traditions 2018
DESCRIPTION:First Free Rockford hosts their third annual Christmas Traditions event Saturday\, December 15. Each activity is designed to help families create new holiday traditions and memories while weaving the Christmas story into it all. There will be a reindeer petting zoo\, indoor snowball fight\, live nativity with real animals\, free photos with Santa\, and more fun family activities.
URL:https://statelinekids.com/event/christmas-traditions-2018/
LOCATION:First Free Rockford\, 2223 N Mulford Rd\, Rockford\, IL\, United States
CATEGORIES:Rockford
END:VEVENT
BEGIN:VEVENT
DTSTART;TZID=America/Chicago:20180714T100000
DTEND;TZID=America/Chicago:20180714T130000
DTSTAMP:20260425T064010
CREATED:20180706T134926Z
LAST-MODIFIED:20180706T135211Z
UID:674-1531562400-1531573200@statelinekids.com
SUMMARY:Summerama Family Experience
DESCRIPTION:The Summerama Family Experience is a fun\, one-day event with free food and treats\, inflatables\, carnival games\, dunk tank and more! There will also be giveaways and prizes at 12:30 p.m. in the big Summerbranch tent. \nThis event is open to the public for all families\, and we encourage everyone to invite their friends to experience all the Summerama fun at First Free Rockford. \nAll activities will be held outdoors\, weather permitting. \nFree for all ages.
URL:https://statelinekids.com/event/summerama-family-experience/
LOCATION:First Free Rockford\, 2223 N Mulford Rd\, Rockford\, IL\, United States
CATEGORIES:Rockford
END:VEVENT
END:VCALENDAR