BEGIN:VCALENDAR
VERSION:2.0
PRODID:-//Stateline Kids - ECPv6.5.1.3//NONSGML v1.0//EN
CALSCALE:GREGORIAN
METHOD:PUBLISH
X-ORIGINAL-URL:https://statelinekids.com
X-WR-CALDESC:Events for Stateline Kids
REFRESH-INTERVAL;VALUE=DURATION:PT1H
X-Robots-Tag:noindex
X-PUBLISHED-TTL:PT1H
BEGIN:VTIMEZONE
TZID:America/Chicago
BEGIN:DAYLIGHT
TZOFFSETFROM:-0600
TZOFFSETTO:-0500
TZNAME:CDT
DTSTART:20230312T080000
END:DAYLIGHT
BEGIN:STANDARD
TZOFFSETFROM:-0500
TZOFFSETTO:-0600
TZNAME:CST
DTSTART:20231105T070000
END:STANDARD
END:VTIMEZONE
BEGIN:VEVENT
DTSTART;TZID=America/Chicago:20231021T170000
DTEND;TZID=America/Chicago:20231021T190000
DTSTAMP:20260421T143339
CREATED:20231013T175428Z
LAST-MODIFIED:20231013T175428Z
UID:31362-1697907600-1697914800@statelinekids.com
SUMMARY:Frightfully Fun Night
DESCRIPTION:There will be a glow stick party\, scavenger hunt\, games\, tables and treats\, an imagination station\, fun zone available\, and more. This event is Free for members and $5.00 per non-member family.
URL:https://statelinekids.com/event/frightfully-fun-night/
LOCATION:Family YMCA of Northwest Illinois\, 2998 West Pearl City Rd.\, Freeport\, IL\, United States
CATEGORIES:Freeport
END:VEVENT
END:VCALENDAR