BEGIN:VCALENDAR
VERSION:2.0
PRODID:-//Stateline Kids - ECPv6.5.1.3//NONSGML v1.0//EN
CALSCALE:GREGORIAN
METHOD:PUBLISH
X-ORIGINAL-URL:https://statelinekids.com
X-WR-CALDESC:Events for Stateline Kids
REFRESH-INTERVAL;VALUE=DURATION:PT1H
X-Robots-Tag:noindex
X-PUBLISHED-TTL:PT1H
BEGIN:VTIMEZONE
TZID:America/Chicago
BEGIN:DAYLIGHT
TZOFFSETFROM:-0600
TZOFFSETTO:-0500
TZNAME:CDT
DTSTART:20190310T080000
END:DAYLIGHT
BEGIN:STANDARD
TZOFFSETFROM:-0500
TZOFFSETTO:-0600
TZNAME:CST
DTSTART:20191103T070000
END:STANDARD
BEGIN:DAYLIGHT
TZOFFSETFROM:-0600
TZOFFSETTO:-0500
TZNAME:CDT
DTSTART:20200308T080000
END:DAYLIGHT
BEGIN:STANDARD
TZOFFSETFROM:-0500
TZOFFSETTO:-0600
TZNAME:CST
DTSTART:20201101T070000
END:STANDARD
BEGIN:DAYLIGHT
TZOFFSETFROM:-0600
TZOFFSETTO:-0500
TZNAME:CDT
DTSTART:20210314T080000
END:DAYLIGHT
BEGIN:STANDARD
TZOFFSETFROM:-0500
TZOFFSETTO:-0600
TZNAME:CST
DTSTART:20211107T070000
END:STANDARD
BEGIN:DAYLIGHT
TZOFFSETFROM:-0600
TZOFFSETTO:-0500
TZNAME:CDT
DTSTART:20220313T080000
END:DAYLIGHT
BEGIN:STANDARD
TZOFFSETFROM:-0500
TZOFFSETTO:-0600
TZNAME:CST
DTSTART:20221106T070000
END:STANDARD
BEGIN:DAYLIGHT
TZOFFSETFROM:-0600
TZOFFSETTO:-0500
TZNAME:CDT
DTSTART:20230312T080000
END:DAYLIGHT
BEGIN:STANDARD
TZOFFSETFROM:-0500
TZOFFSETTO:-0600
TZNAME:CST
DTSTART:20231105T070000
END:STANDARD
BEGIN:DAYLIGHT
TZOFFSETFROM:-0600
TZOFFSETTO:-0500
TZNAME:CDT
DTSTART:20240310T080000
END:DAYLIGHT
BEGIN:STANDARD
TZOFFSETFROM:-0500
TZOFFSETTO:-0600
TZNAME:CST
DTSTART:20241103T070000
END:STANDARD
BEGIN:DAYLIGHT
TZOFFSETFROM:-0600
TZOFFSETTO:-0500
TZNAME:CDT
DTSTART:20250309T080000
END:DAYLIGHT
BEGIN:STANDARD
TZOFFSETFROM:-0500
TZOFFSETTO:-0600
TZNAME:CST
DTSTART:20251102T070000
END:STANDARD
END:VTIMEZONE
BEGIN:VEVENT
DTSTART;VALUE=DATE:20250130
DTEND;VALUE=DATE:20250203
DTSTAMP:20260420T223933
CREATED:20250126T185629Z
LAST-MODIFIED:20250126T185629Z
UID:39448-1738195200-1738540799@statelinekids.com
SUMMARY:Groundhog Day Celebration
DESCRIPTION:Enjoy a weekend of activities in Woodstock\, where the movie Groundhog Day was filmed. View a schedule here.
URL:https://statelinekids.com/event/groundhog-day-celebration/
LOCATION:Downtown Woodstock\, 121 W Calhoun St.\, Woodstock\, IL\, United States
CATEGORIES:Woodstock
END:VEVENT
BEGIN:VEVENT
DTSTART;TZID=America/Chicago:20240924T080000
DTEND;TZID=America/Chicago:20240924T130000
DTSTAMP:20260420T223933
CREATED:20240526T172459Z
LAST-MODIFIED:20240526T172459Z
UID:35120-1727164800-1727182800@statelinekids.com
SUMMARY:Woodstock Farmers Market
DESCRIPTION:Enjoy local products\, fresh produce\, yoga\, and more.
URL:https://statelinekids.com/event/woodstock-farmers-market-6/2024-09-24/
LOCATION:Downtown Woodstock\, 121 W Calhoun St.\, Woodstock\, IL\, United States
CATEGORIES:Woodstock
END:VEVENT
BEGIN:VEVENT
DTSTART;TZID=America/Chicago:20240917T080000
DTEND;TZID=America/Chicago:20240917T130000
DTSTAMP:20260420T223933
CREATED:20240526T172459Z
LAST-MODIFIED:20240526T172459Z
UID:35119-1726560000-1726578000@statelinekids.com
SUMMARY:Woodstock Farmers Market
DESCRIPTION:Enjoy local products\, fresh produce\, yoga\, and more.
URL:https://statelinekids.com/event/woodstock-farmers-market-6/2024-09-17/
LOCATION:Downtown Woodstock\, 121 W Calhoun St.\, Woodstock\, IL\, United States
CATEGORIES:Woodstock
END:VEVENT
BEGIN:VEVENT
DTSTART;TZID=America/Chicago:20240910T080000
DTEND;TZID=America/Chicago:20240910T130000
DTSTAMP:20260420T223933
CREATED:20240526T172459Z
LAST-MODIFIED:20240526T172459Z
UID:35118-1725955200-1725973200@statelinekids.com
SUMMARY:Woodstock Farmers Market
DESCRIPTION:Enjoy local products\, fresh produce\, yoga\, and more.
URL:https://statelinekids.com/event/woodstock-farmers-market-6/2024-09-10/
LOCATION:Downtown Woodstock\, 121 W Calhoun St.\, Woodstock\, IL\, United States
CATEGORIES:Woodstock
END:VEVENT
BEGIN:VEVENT
DTSTART;TZID=America/Chicago:20240903T080000
DTEND;TZID=America/Chicago:20240903T130000
DTSTAMP:20260420T223933
CREATED:20240526T172459Z
LAST-MODIFIED:20240526T172459Z
UID:35117-1725350400-1725368400@statelinekids.com
SUMMARY:Woodstock Farmers Market
DESCRIPTION:Enjoy local products\, fresh produce\, yoga\, and more.
URL:https://statelinekids.com/event/woodstock-farmers-market-6/2024-09-03/
LOCATION:Downtown Woodstock\, 121 W Calhoun St.\, Woodstock\, IL\, United States
CATEGORIES:Woodstock
END:VEVENT
BEGIN:VEVENT
DTSTART;TZID=America/Chicago:20240827T080000
DTEND;TZID=America/Chicago:20240827T130000
DTSTAMP:20260420T223933
CREATED:20240526T172459Z
LAST-MODIFIED:20240526T172459Z
UID:35116-1724745600-1724763600@statelinekids.com
SUMMARY:Woodstock Farmers Market
DESCRIPTION:Enjoy local products\, fresh produce\, yoga\, and more.
URL:https://statelinekids.com/event/woodstock-farmers-market-6/2024-08-27/
LOCATION:Downtown Woodstock\, 121 W Calhoun St.\, Woodstock\, IL\, United States
CATEGORIES:Woodstock
END:VEVENT
BEGIN:VEVENT
DTSTART;TZID=America/Chicago:20240820T080000
DTEND;TZID=America/Chicago:20240820T130000
DTSTAMP:20260420T223933
CREATED:20240526T172459Z
LAST-MODIFIED:20240526T172459Z
UID:35115-1724140800-1724158800@statelinekids.com
SUMMARY:Woodstock Farmers Market
DESCRIPTION:Enjoy local products\, fresh produce\, yoga\, and more.
URL:https://statelinekids.com/event/woodstock-farmers-market-6/2024-08-20/
LOCATION:Downtown Woodstock\, 121 W Calhoun St.\, Woodstock\, IL\, United States
CATEGORIES:Woodstock
END:VEVENT
BEGIN:VEVENT
DTSTART;TZID=America/Chicago:20240813T080000
DTEND;TZID=America/Chicago:20240813T130000
DTSTAMP:20260420T223933
CREATED:20240526T172459Z
LAST-MODIFIED:20240526T172459Z
UID:35114-1723536000-1723554000@statelinekids.com
SUMMARY:Woodstock Farmers Market
DESCRIPTION:Enjoy local products\, fresh produce\, yoga\, and more.
URL:https://statelinekids.com/event/woodstock-farmers-market-6/2024-08-13/
LOCATION:Downtown Woodstock\, 121 W Calhoun St.\, Woodstock\, IL\, United States
CATEGORIES:Woodstock
END:VEVENT
BEGIN:VEVENT
DTSTART;TZID=America/Chicago:20240806T080000
DTEND;TZID=America/Chicago:20240806T130000
DTSTAMP:20260420T223933
CREATED:20240526T172459Z
LAST-MODIFIED:20240526T172459Z
UID:35113-1722931200-1722949200@statelinekids.com
SUMMARY:Woodstock Farmers Market
DESCRIPTION:Enjoy local products\, fresh produce\, yoga\, and more.
URL:https://statelinekids.com/event/woodstock-farmers-market-6/2024-08-06/
LOCATION:Downtown Woodstock\, 121 W Calhoun St.\, Woodstock\, IL\, United States
CATEGORIES:Woodstock
END:VEVENT
BEGIN:VEVENT
DTSTART;TZID=America/Chicago:20240730T080000
DTEND;TZID=America/Chicago:20240730T130000
DTSTAMP:20260420T223933
CREATED:20240526T172459Z
LAST-MODIFIED:20240526T172459Z
UID:35112-1722326400-1722344400@statelinekids.com
SUMMARY:Woodstock Farmers Market
DESCRIPTION:Enjoy local products\, fresh produce\, yoga\, and more.
URL:https://statelinekids.com/event/woodstock-farmers-market-6/2024-07-30/
LOCATION:Downtown Woodstock\, 121 W Calhoun St.\, Woodstock\, IL\, United States
CATEGORIES:Woodstock
END:VEVENT
BEGIN:VEVENT
DTSTART;TZID=America/Chicago:20240724T190000
DTEND;TZID=America/Chicago:20240724T210000
DTSTAMP:20260420T223933
CREATED:20240720T172710Z
LAST-MODIFIED:20240720T172710Z
UID:36937-1721847600-1721854800@statelinekids.com
SUMMARY:Woodstock City Band Concerts
DESCRIPTION:Watch a concert from the city band and enjoy ice cream. Bring your own chairs and blankets.
URL:https://statelinekids.com/event/woodstock-city-band-concerts/
LOCATION:Downtown Woodstock\, 121 W Calhoun St.\, Woodstock\, IL\, United States
CATEGORIES:Woodstock
END:VEVENT
BEGIN:VEVENT
DTSTART;TZID=America/Chicago:20240723T080000
DTEND;TZID=America/Chicago:20240723T130000
DTSTAMP:20260420T223933
CREATED:20240526T172459Z
LAST-MODIFIED:20240526T172459Z
UID:35111-1721721600-1721739600@statelinekids.com
SUMMARY:Woodstock Farmers Market
DESCRIPTION:Enjoy local products\, fresh produce\, yoga\, and more.
URL:https://statelinekids.com/event/woodstock-farmers-market-6/2024-07-23/
LOCATION:Downtown Woodstock\, 121 W Calhoun St.\, Woodstock\, IL\, United States
CATEGORIES:Woodstock
END:VEVENT
BEGIN:VEVENT
DTSTART;TZID=America/Chicago:20240716T080000
DTEND;TZID=America/Chicago:20240716T130000
DTSTAMP:20260420T223933
CREATED:20240526T172459Z
LAST-MODIFIED:20240526T172459Z
UID:35110-1721116800-1721134800@statelinekids.com
SUMMARY:Woodstock Farmers Market
DESCRIPTION:Enjoy local products\, fresh produce\, yoga\, and more.
URL:https://statelinekids.com/event/woodstock-farmers-market-6/2024-07-16/
LOCATION:Downtown Woodstock\, 121 W Calhoun St.\, Woodstock\, IL\, United States
CATEGORIES:Woodstock
END:VEVENT
BEGIN:VEVENT
DTSTART;TZID=America/Chicago:20240714T110000
DTEND;TZID=America/Chicago:20240714T160000
DTSTAMP:20260420T223933
CREATED:20240706T184810Z
LAST-MODIFIED:20240706T184810Z
UID:36651-1720954800-1720972800@statelinekids.com
SUMMARY:Planet Palooza
DESCRIPTION:Check out tables with demonstrations\, activities\, free giveaways from organizations focusing on environmental and community issues.
URL:https://statelinekids.com/event/planet-palooza-3/
LOCATION:Downtown Woodstock\, 121 W Calhoun St.\, Woodstock\, IL\, United States
CATEGORIES:Woodstock
END:VEVENT
BEGIN:VEVENT
DTSTART;TZID=America/Chicago:20240711T203000
DTEND;TZID=America/Chicago:20240711T220000
DTSTAMP:20260420T223933
CREATED:20240707T004850Z
LAST-MODIFIED:20240707T004850Z
UID:36713-1720729800-1720735200@statelinekids.com
SUMMARY:Movie in the Park: How to Train Your Dragon
DESCRIPTION:Enjoy a free movie in the park. Bring your own chairs and blankets.
URL:https://statelinekids.com/event/movie-in-the-park-how-to-train-your-dragon/
LOCATION:Downtown Woodstock\, 121 W Calhoun St.\, Woodstock\, IL\, United States
CATEGORIES:Woodstock
END:VEVENT
BEGIN:VEVENT
DTSTART;TZID=America/Chicago:20240709T080000
DTEND;TZID=America/Chicago:20240709T130000
DTSTAMP:20260420T223933
CREATED:20240526T172459Z
LAST-MODIFIED:20240526T172459Z
UID:35109-1720512000-1720530000@statelinekids.com
SUMMARY:Woodstock Farmers Market
DESCRIPTION:Enjoy local products\, fresh produce\, yoga\, and more.
URL:https://statelinekids.com/event/woodstock-farmers-market-6/2024-07-09/
LOCATION:Downtown Woodstock\, 121 W Calhoun St.\, Woodstock\, IL\, United States
CATEGORIES:Woodstock
END:VEVENT
BEGIN:VEVENT
DTSTART;TZID=America/Chicago:20240702T080000
DTEND;TZID=America/Chicago:20240702T130000
DTSTAMP:20260420T223933
CREATED:20240526T172459Z
LAST-MODIFIED:20240526T172459Z
UID:35108-1719907200-1719925200@statelinekids.com
SUMMARY:Woodstock Farmers Market
DESCRIPTION:Enjoy local products\, fresh produce\, yoga\, and more.
URL:https://statelinekids.com/event/woodstock-farmers-market-6/2024-07-02/
LOCATION:Downtown Woodstock\, 121 W Calhoun St.\, Woodstock\, IL\, United States
CATEGORIES:Woodstock
END:VEVENT
BEGIN:VEVENT
DTSTART;TZID=America/Chicago:20240625T080000
DTEND;TZID=America/Chicago:20240625T130000
DTSTAMP:20260420T223933
CREATED:20240526T172459Z
LAST-MODIFIED:20240526T172459Z
UID:35107-1719302400-1719320400@statelinekids.com
SUMMARY:Woodstock Farmers Market
DESCRIPTION:Enjoy local products\, fresh produce\, yoga\, and more.
URL:https://statelinekids.com/event/woodstock-farmers-market-6/2024-06-25/
LOCATION:Downtown Woodstock\, 121 W Calhoun St.\, Woodstock\, IL\, United States
CATEGORIES:Woodstock
END:VEVENT
BEGIN:VEVENT
DTSTART;TZID=America/Chicago:20240618T080000
DTEND;TZID=America/Chicago:20240618T130000
DTSTAMP:20260420T223933
CREATED:20240526T172459Z
LAST-MODIFIED:20240526T172459Z
UID:35106-1718697600-1718715600@statelinekids.com
SUMMARY:Woodstock Farmers Market
DESCRIPTION:Enjoy local products\, fresh produce\, yoga\, and more.
URL:https://statelinekids.com/event/woodstock-farmers-market-6/2024-06-18/
LOCATION:Downtown Woodstock\, 121 W Calhoun St.\, Woodstock\, IL\, United States
CATEGORIES:Woodstock
END:VEVENT
BEGIN:VEVENT
DTSTART;TZID=America/Chicago:20240611T080000
DTEND;TZID=America/Chicago:20240611T130000
DTSTAMP:20260420T223933
CREATED:20240526T172459Z
LAST-MODIFIED:20240526T172459Z
UID:35105-1718092800-1718110800@statelinekids.com
SUMMARY:Woodstock Farmers Market
DESCRIPTION:Enjoy local products\, fresh produce\, yoga\, and more.
URL:https://statelinekids.com/event/woodstock-farmers-market-6/2024-06-11/
LOCATION:Downtown Woodstock\, 121 W Calhoun St.\, Woodstock\, IL\, United States
CATEGORIES:Woodstock
END:VEVENT
BEGIN:VEVENT
DTSTART;TZID=America/Chicago:20240604T080000
DTEND;TZID=America/Chicago:20240604T130000
DTSTAMP:20260420T223933
CREATED:20240526T172459Z
LAST-MODIFIED:20240526T172459Z
UID:35104-1717488000-1717506000@statelinekids.com
SUMMARY:Woodstock Farmers Market
DESCRIPTION:Enjoy local products\, fresh produce\, yoga\, and more.
URL:https://statelinekids.com/event/woodstock-farmers-market-6/2024-06-04/
LOCATION:Downtown Woodstock\, 121 W Calhoun St.\, Woodstock\, IL\, United States
CATEGORIES:Woodstock
END:VEVENT
BEGIN:VEVENT
DTSTART;TZID=America/Chicago:20240528T080000
DTEND;TZID=America/Chicago:20240528T130000
DTSTAMP:20260420T223933
CREATED:20240526T172459Z
LAST-MODIFIED:20240526T172459Z
UID:35101-1716883200-1716901200@statelinekids.com
SUMMARY:Woodstock Farmers Market
DESCRIPTION:Enjoy local products\, fresh produce\, yoga\, and more.
URL:https://statelinekids.com/event/woodstock-farmers-market-6/2024-05-28/
LOCATION:Downtown Woodstock\, 121 W Calhoun St.\, Woodstock\, IL\, United States
CATEGORIES:Woodstock
END:VEVENT
BEGIN:VEVENT
DTSTART;VALUE=DATE:20240201
DTEND;VALUE=DATE:20240205
DTSTAMP:20260420T223933
CREATED:20240128T183703Z
LAST-MODIFIED:20240128T184344Z
UID:33176-1706745600-1707091199@statelinekids.com
SUMMARY:Groundhog Day Festivities
DESCRIPTION:Celebrate Groundhog Day in Woodstock with a variety of activities. View a list here.
URL:https://statelinekids.com/event/groundhog-day-festivities/
LOCATION:Downtown Woodstock\, 121 W Calhoun St.\, Woodstock\, IL\, United States
CATEGORIES:Woodstock
END:VEVENT
BEGIN:VEVENT
DTSTART;TZID=America/Chicago:20221127T140000
DTEND;TZID=America/Chicago:20221127T150000
DTSTAMP:20260420T223933
CREATED:20221120T175838Z
LAST-MODIFIED:20221120T175838Z
UID:25000-1669557600-1669561200@statelinekids.com
SUMMARY:Woodstock Christmas Parade
DESCRIPTION:Watch the parade kick off from Woodstock Water Works then move toward the Square east on Jackson Street.
URL:https://statelinekids.com/event/woodstock-christmas-parade/
LOCATION:Downtown Woodstock\, 121 W Calhoun St.\, Woodstock\, IL\, United States
CATEGORIES:Woodstock
END:VEVENT
BEGIN:VEVENT
DTSTART;TZID=America/Chicago:20191201T140000
DTEND;TZID=America/Chicago:20191201T170000
DTSTAMP:20260420T223933
CREATED:20191124T175533Z
LAST-MODIFIED:20191124T175533Z
UID:8724-1575208800-1575219600@statelinekids.com
SUMMARY:Woodstock Milk and Cookies Parade
DESCRIPTION:Welcome Santa and Mrs. Claus at 2 pm then watch the parade and enjoy milk and cookies with Santa.
URL:https://statelinekids.com/event/woodstock-milk-and-cookies-parade/
LOCATION:Downtown Woodstock\, 121 W Calhoun St.\, Woodstock\, IL\, United States
CATEGORIES:Woodstock
END:VEVENT
END:VCALENDAR