BEGIN:VCALENDAR
VERSION:2.0
PRODID:-//Stateline Kids - ECPv6.5.1.3//NONSGML v1.0//EN
CALSCALE:GREGORIAN
METHOD:PUBLISH
X-WR-CALNAME:Stateline Kids
X-ORIGINAL-URL:https://statelinekids.com
X-WR-CALDESC:Events for Stateline Kids
REFRESH-INTERVAL;VALUE=DURATION:PT1H
X-Robots-Tag:noindex
X-PUBLISHED-TTL:PT1H
BEGIN:VTIMEZONE
TZID:America/Chicago
BEGIN:DAYLIGHT
TZOFFSETFROM:-0600
TZOFFSETTO:-0500
TZNAME:CDT
DTSTART:20220313T080000
END:DAYLIGHT
BEGIN:STANDARD
TZOFFSETFROM:-0500
TZOFFSETTO:-0600
TZNAME:CST
DTSTART:20221106T070000
END:STANDARD
BEGIN:DAYLIGHT
TZOFFSETFROM:-0600
TZOFFSETTO:-0500
TZNAME:CDT
DTSTART:20230312T080000
END:DAYLIGHT
BEGIN:STANDARD
TZOFFSETFROM:-0500
TZOFFSETTO:-0600
TZNAME:CST
DTSTART:20231105T070000
END:STANDARD
BEGIN:DAYLIGHT
TZOFFSETFROM:-0600
TZOFFSETTO:-0500
TZNAME:CDT
DTSTART:20240310T080000
END:DAYLIGHT
BEGIN:STANDARD
TZOFFSETFROM:-0500
TZOFFSETTO:-0600
TZNAME:CST
DTSTART:20241103T070000
END:STANDARD
END:VTIMEZONE
BEGIN:VEVENT
DTSTART;TZID=America/Chicago:20241018T170000
DTEND;TZID=America/Chicago:20241018T200000
DTSTAMP:20260422T192138
CREATED:20241013T200710Z
LAST-MODIFIED:20241013T200710Z
UID:38226-1729270800-1729281600@statelinekids.com
SUMMARY:Milton Community Days Trick or Treat
DESCRIPTION:Enjoy shopping and trick or treating from 80 vendors.
URL:https://statelinekids.com/event/milton-community-days-trick-or-treat/
LOCATION:Downtown Milton\, Milton\, WI\, United States
CATEGORIES:Milton
END:VEVENT
BEGIN:VEVENT
DTSTART;TZID=America/Chicago:20240913T170000
DTEND;TZID=America/Chicago:20240913T200000
DTSTAMP:20260422T192138
CREATED:20240907T191409Z
LAST-MODIFIED:20240907T191409Z
UID:37549-1726246800-1726257600@statelinekids.com
SUMMARY:Milton Community Days
DESCRIPTION:Enjoy over 80 vendors\, food trucks\, live music and more.
URL:https://statelinekids.com/event/milton-community-days-10/
LOCATION:Downtown Milton\, Milton\, WI\, United States
CATEGORIES:Milton
END:VEVENT
BEGIN:VEVENT
DTSTART;TZID=America/Chicago:20240816T170000
DTEND;TZID=America/Chicago:20240816T200000
DTSTAMP:20260422T192138
CREATED:20240811T163704Z
LAST-MODIFIED:20240811T163704Z
UID:37273-1723827600-1723838400@statelinekids.com
SUMMARY:Milton Community Days
DESCRIPTION:Enjoy a night of shopping from over 80 vendors\, food trucks\, and more.
URL:https://statelinekids.com/event/milton-community-days-9/
LOCATION:Downtown Milton\, Milton\, WI\, United States
CATEGORIES:Milton
END:VEVENT
BEGIN:VEVENT
DTSTART;TZID=America/Chicago:20240510T170000
DTEND;TZID=America/Chicago:20240510T200000
DTSTAMP:20260422T192138
CREATED:20240504T212929Z
LAST-MODIFIED:20240504T212929Z
UID:34758-1715360400-1715371200@statelinekids.com
SUMMARY:Milton Community Days
DESCRIPTION:Shop from local businesses and check out Milton’s new brewery.
URL:https://statelinekids.com/event/milton-community-days-7/
LOCATION:Downtown Milton\, Milton\, WI\, United States
CATEGORIES:Milton
END:VEVENT
BEGIN:VEVENT
DTSTART;TZID=America/Chicago:20231020T170000
DTEND;TZID=America/Chicago:20231020T200000
DTSTAMP:20260422T192138
CREATED:20231008T162143Z
LAST-MODIFIED:20231013T174335Z
UID:31250-1697821200-1697832000@statelinekids.com
SUMMARY:RESCHEDULED DUE TO RAIN: Milton Community Days 
DESCRIPTION:Go trick or treating from 80 vendors and shop. There will be food trucks and a movie\, Ghostbusters Afterlife.
URL:https://statelinekids.com/event/milton-community-days-6/
LOCATION:Downtown Milton\, Milton\, WI\, United States
CATEGORIES:Milton
END:VEVENT
BEGIN:VEVENT
DTSTART;TZID=America/Chicago:20230901T170000
DTEND;TZID=America/Chicago:20230901T200000
DTSTAMP:20260422T192138
CREATED:20230826T175834Z
LAST-MODIFIED:20230826T175834Z
UID:30118-1693587600-1693598400@statelinekids.com
SUMMARY:Milton Community Days
DESCRIPTION:Shop from over 100 vendors\, local nonprofits\, food trucks\, and more.
URL:https://statelinekids.com/event/milton-community-days-5/
LOCATION:Downtown Milton\, Milton\, WI\, United States
CATEGORIES:Milton
END:VEVENT
BEGIN:VEVENT
DTSTART;TZID=America/Chicago:20220923T170000
DTEND;TZID=America/Chicago:20220923T200000
DTSTAMP:20260422T192138
CREATED:20220917T200320Z
LAST-MODIFIED:20220917T200320Z
UID:23660-1663952400-1663963200@statelinekids.com
SUMMARY:Milton Night Market
DESCRIPTION:Enjoy a night of 80 vendors\, food trucks\, live music\, and activities for kids.
URL:https://statelinekids.com/event/milton-night-market-3/
LOCATION:Downtown Milton\, Milton\, WI\, United States
CATEGORIES:Milton
END:VEVENT
BEGIN:VEVENT
DTSTART;TZID=America/Chicago:20220819T170000
DTEND;TZID=America/Chicago:20220819T200000
DTSTAMP:20260422T192138
CREATED:20220814T182555Z
LAST-MODIFIED:20220814T182555Z
UID:22950-1660928400-1660939200@statelinekids.com
SUMMARY:Milton Night Market
DESCRIPTION:Shop from 50+ vendors and enjoy live music\, family-friendly activities\, food trucks and shopping.
URL:https://statelinekids.com/event/milton-night-market-2/
LOCATION:Downtown Milton\, Milton\, WI\, United States
CATEGORIES:Milton
END:VEVENT
END:VCALENDAR