BEGIN:VCALENDAR
VERSION:2.0
PRODID:-//Stateline Kids - ECPv6.5.1.3//NONSGML v1.0//EN
CALSCALE:GREGORIAN
METHOD:PUBLISH
X-ORIGINAL-URL:https://statelinekids.com
X-WR-CALDESC:Events for Stateline Kids
REFRESH-INTERVAL;VALUE=DURATION:PT1H
X-Robots-Tag:noindex
X-PUBLISHED-TTL:PT1H
BEGIN:VTIMEZONE
TZID:America/Chicago
BEGIN:DAYLIGHT
TZOFFSETFROM:-0600
TZOFFSETTO:-0500
TZNAME:CDT
DTSTART:20210314T080000
END:DAYLIGHT
BEGIN:STANDARD
TZOFFSETFROM:-0500
TZOFFSETTO:-0600
TZNAME:CST
DTSTART:20211107T070000
END:STANDARD
BEGIN:DAYLIGHT
TZOFFSETFROM:-0600
TZOFFSETTO:-0500
TZNAME:CDT
DTSTART:20220313T080000
END:DAYLIGHT
BEGIN:STANDARD
TZOFFSETFROM:-0500
TZOFFSETTO:-0600
TZNAME:CST
DTSTART:20221106T070000
END:STANDARD
BEGIN:DAYLIGHT
TZOFFSETFROM:-0600
TZOFFSETTO:-0500
TZNAME:CDT
DTSTART:20230312T080000
END:DAYLIGHT
BEGIN:STANDARD
TZOFFSETFROM:-0500
TZOFFSETTO:-0600
TZNAME:CST
DTSTART:20231105T070000
END:STANDARD
BEGIN:DAYLIGHT
TZOFFSETFROM:-0600
TZOFFSETTO:-0500
TZNAME:CDT
DTSTART:20240310T080000
END:DAYLIGHT
BEGIN:STANDARD
TZOFFSETFROM:-0500
TZOFFSETTO:-0600
TZNAME:CST
DTSTART:20241103T070000
END:STANDARD
END:VTIMEZONE
BEGIN:VEVENT
DTSTART;TZID=America/Chicago:20240622T080000
DTEND;TZID=America/Chicago:20240622T130000
DTSTAMP:20260422T135904
CREATED:20240428T013315Z
LAST-MODIFIED:20240428T013315Z
UID:34683-1719043200-1719061200@statelinekids.com
SUMMARY:Janesville Farmers Market
DESCRIPTION:Shop from seasonal produce\, handcrafted goods\, and fun entertainment.
URL:https://statelinekids.com/event/janesville-farmers-market-7/2024-06-22/
LOCATION:Downtown Janesville\, 100 N Main St.\, Janesville\, WI\, United States
CATEGORIES:Janesville
END:VEVENT
BEGIN:VEVENT
DTSTART;TZID=America/Chicago:20240615T080000
DTEND;TZID=America/Chicago:20240615T130000
DTSTAMP:20260422T135904
CREATED:20240428T013315Z
LAST-MODIFIED:20240428T013315Z
UID:34682-1718438400-1718456400@statelinekids.com
SUMMARY:Janesville Farmers Market
DESCRIPTION:Shop from seasonal produce\, handcrafted goods\, and fun entertainment.
URL:https://statelinekids.com/event/janesville-farmers-market-7/2024-06-15/
LOCATION:Downtown Janesville\, 100 N Main St.\, Janesville\, WI\, United States
CATEGORIES:Janesville
END:VEVENT
BEGIN:VEVENT
DTSTART;TZID=America/Chicago:20240608T080000
DTEND;TZID=America/Chicago:20240608T130000
DTSTAMP:20260422T135904
CREATED:20240428T013315Z
LAST-MODIFIED:20240428T013315Z
UID:34681-1717833600-1717851600@statelinekids.com
SUMMARY:Janesville Farmers Market
DESCRIPTION:Shop from seasonal produce\, handcrafted goods\, and fun entertainment.
URL:https://statelinekids.com/event/janesville-farmers-market-7/2024-06-08/
LOCATION:Downtown Janesville\, 100 N Main St.\, Janesville\, WI\, United States
CATEGORIES:Janesville
END:VEVENT
BEGIN:VEVENT
DTSTART;TZID=America/Chicago:20240601T080000
DTEND;TZID=America/Chicago:20240601T130000
DTSTAMP:20260422T135904
CREATED:20240428T013315Z
LAST-MODIFIED:20240428T013315Z
UID:34680-1717228800-1717246800@statelinekids.com
SUMMARY:Janesville Farmers Market
DESCRIPTION:Shop from seasonal produce\, handcrafted goods\, and fun entertainment.
URL:https://statelinekids.com/event/janesville-farmers-market-7/2024-06-01/
LOCATION:Downtown Janesville\, 100 N Main St.\, Janesville\, WI\, United States
CATEGORIES:Janesville
END:VEVENT
BEGIN:VEVENT
DTSTART;TZID=America/Chicago:20240525T080000
DTEND;TZID=America/Chicago:20240525T130000
DTSTAMP:20260422T135904
CREATED:20240428T013315Z
LAST-MODIFIED:20240428T013315Z
UID:34679-1716624000-1716642000@statelinekids.com
SUMMARY:Janesville Farmers Market
DESCRIPTION:Shop from seasonal produce\, handcrafted goods\, and fun entertainment.
URL:https://statelinekids.com/event/janesville-farmers-market-7/2024-05-25/
LOCATION:Downtown Janesville\, 100 N Main St.\, Janesville\, WI\, United States
CATEGORIES:Janesville
END:VEVENT
BEGIN:VEVENT
DTSTART;TZID=America/Chicago:20240518T080000
DTEND;TZID=America/Chicago:20240518T130000
DTSTAMP:20260422T135904
CREATED:20240428T013315Z
LAST-MODIFIED:20240428T013315Z
UID:34678-1716019200-1716037200@statelinekids.com
SUMMARY:Janesville Farmers Market
DESCRIPTION:Shop from seasonal produce\, handcrafted goods\, and fun entertainment.
URL:https://statelinekids.com/event/janesville-farmers-market-7/2024-05-18/
LOCATION:Downtown Janesville\, 100 N Main St.\, Janesville\, WI\, United States
CATEGORIES:Janesville
END:VEVENT
BEGIN:VEVENT
DTSTART;TZID=America/Chicago:20240511T080000
DTEND;TZID=America/Chicago:20240511T130000
DTSTAMP:20260422T135904
CREATED:20240428T013315Z
LAST-MODIFIED:20240428T013315Z
UID:34677-1715414400-1715432400@statelinekids.com
SUMMARY:Janesville Farmers Market
DESCRIPTION:Shop from seasonal produce\, handcrafted goods\, and fun entertainment.
URL:https://statelinekids.com/event/janesville-farmers-market-7/2024-05-11/
LOCATION:Downtown Janesville\, 100 N Main St.\, Janesville\, WI\, United States
CATEGORIES:Janesville
END:VEVENT
BEGIN:VEVENT
DTSTART;TZID=America/Chicago:20240504T080000
DTEND;TZID=America/Chicago:20240504T130000
DTSTAMP:20260422T135904
CREATED:20240428T013315Z
LAST-MODIFIED:20240428T013315Z
UID:34674-1714809600-1714827600@statelinekids.com
SUMMARY:Janesville Farmers Market
DESCRIPTION:Shop from seasonal produce\, handcrafted goods\, and fun entertainment.
URL:https://statelinekids.com/event/janesville-farmers-market-7/2024-05-04/
LOCATION:Downtown Janesville\, 100 N Main St.\, Janesville\, WI\, United States
CATEGORIES:Janesville
END:VEVENT
BEGIN:VEVENT
DTSTART;TZID=America/Chicago:20240224T120000
DTEND;TZID=America/Chicago:20240224T170000
DTSTAMP:20260422T135904
CREATED:20240218T193505Z
LAST-MODIFIED:20240218T193505Z
UID:33504-1708776000-1708794000@statelinekids.com
SUMMARY:DATE NIGHT: Downtown Janesville Flannelfest 2024
DESCRIPTION:Adults ages 21 and up can enjoy a beer fest with over 90 craft beers. Get tickets here.
URL:https://statelinekids.com/event/date-night-downtown-janesville-flannelfest-2024/
LOCATION:Downtown Janesville\, 100 N Main St.\, Janesville\, WI\, United States
CATEGORIES:Janesville
END:VEVENT
BEGIN:VEVENT
DTSTART;VALUE=DATE:20231201
DTEND;VALUE=DATE:20231204
DTSTAMP:20260422T135904
CREATED:20231125T210808Z
LAST-MODIFIED:20231125T210808Z
UID:32227-1701388800-1701647999@statelinekids.com
SUMMARY:Janesville’s Jolly Jingle
DESCRIPTION:Janesville’s Jolly Jingle is a weekend-long event with many free and low-cost holiday activities including a parade\, luminary walk\, holiday market\, visits with Santa\, and more. View a list of the events here.
URL:https://statelinekids.com/event/janesvilles-jolly-jingle-2/
LOCATION:Downtown Janesville\, 100 N Main St.\, Janesville\, WI\, United States
CATEGORIES:Janesville
END:VEVENT
BEGIN:VEVENT
DTSTART;VALUE=DATE:20230908
DTEND;VALUE=DATE:20230911
DTSTAMP:20260422T135904
CREATED:20230903T172118Z
LAST-MODIFIED:20230903T172118Z
UID:30186-1694131200-1694390399@statelinekids.com
SUMMARY:Art Infusion
DESCRIPTION:Check out the sidewalk chalk competition and mural painting. More details here.
URL:https://statelinekids.com/event/art-infusion/
LOCATION:Downtown Janesville\, 100 N Main St.\, Janesville\, WI\, United States
CATEGORIES:Janesville
END:VEVENT
BEGIN:VEVENT
DTSTART;TZID=America/Chicago:20230817T160000
DTEND;TZID=America/Chicago:20230817T200000
DTSTAMP:20260422T135904
CREATED:20230813T004135Z
LAST-MODIFIED:20230813T004135Z
UID:29983-1692288000-1692302400@statelinekids.com
SUMMARY:Night on Festival
DESCRIPTION:Enjoy a night of music\, kids activities\, and playing in the Bubbler fountain.
URL:https://statelinekids.com/event/night-on-festival/
LOCATION:Downtown Janesville\, 100 N Main St.\, Janesville\, WI\, United States
CATEGORIES:Janesville
END:VEVENT
BEGIN:VEVENT
DTSTART;TZID=America/Chicago:20230722T100000
DTEND;TZID=America/Chicago:20230722T110000
DTSTAMP:20260422T135904
CREATED:20230716T212636Z
LAST-MODIFIED:20230716T212636Z
UID:29483-1690020000-1690023600@statelinekids.com
SUMMARY:Duck Dump
DESCRIPTION:The Duck Dump is going on at 10 am on Dodge Street during the Janesville Farmers Market.
URL:https://statelinekids.com/event/duck-dump/
LOCATION:Downtown Janesville\, 100 N Main St.\, Janesville\, WI\, United States
CATEGORIES:Janesville
END:VEVENT
BEGIN:VEVENT
DTSTART;TZID=America/Chicago:20221203T180000
DTEND;TZID=America/Chicago:20221203T200000
DTSTAMP:20260422T135904
CREATED:20221127T190101Z
LAST-MODIFIED:20221127T190101Z
UID:25129-1670090400-1670097600@statelinekids.com
SUMMARY:Janesville's Jolly Jingle: Holiday Lighted Parade
DESCRIPTION:Enjoy lighted floats\, marching groups\, and more
URL:https://statelinekids.com/event/janesvilles-jolly-jingle-holiday-lighted-parade/
LOCATION:Downtown Janesville\, 100 N Main St.\, Janesville\, WI\, United States
CATEGORIES:Janesville
END:VEVENT
BEGIN:VEVENT
DTSTART;TZID=America/Chicago:20221202T160000
DTEND;TZID=America/Chicago:20221202T210000
DTSTAMP:20260422T135904
CREATED:20221127T184935Z
LAST-MODIFIED:20221127T184935Z
UID:25127-1669996800-1670014800@statelinekids.com
SUMMARY:Luminary Walk
DESCRIPTION:Shop from downtown businesses with luminaria in front of them and take free trolley rides throughout downtown.
URL:https://statelinekids.com/event/luminary-walk-5/
LOCATION:Downtown Janesville\, 100 N Main St.\, Janesville\, WI\, United States
CATEGORIES:Janesville
END:VEVENT
BEGIN:VEVENT
DTSTART;TZID=America/Chicago:20221015T130000
DTEND;TZID=America/Chicago:20221015T170000
DTSTAMP:20260422T135904
CREATED:20221008T220235Z
LAST-MODIFIED:20221008T220235Z
UID:24207-1665838800-1665853200@statelinekids.com
SUMMARY:Downtown Janesville Wine Walk
DESCRIPTION:Enjoy wine pours from 20 businesses while shopping. Must be 21 and up. Get tickets here.
URL:https://statelinekids.com/event/downtown-janesville-wine-walk-2/
LOCATION:Downtown Janesville\, 100 N Main St.\, Janesville\, WI\, United States
CATEGORIES:Janesville
END:VEVENT
BEGIN:VEVENT
DTSTART;VALUE=DATE:20220909
DTEND;VALUE=DATE:20220912
DTSTAMP:20260422T135904
CREATED:20220904T184325Z
LAST-MODIFIED:20220904T184325Z
UID:23190-1662681600-1662940799@statelinekids.com
SUMMARY:Art Infusion 2022
DESCRIPTION:Head to the River Walk to see artists painting five new murals. Check out the Sidewalk Chalk competition at Firehouse Park as well. Preregister to participate in the sidewalk chalk competition by stopping by the Janeville CVB office.
URL:https://statelinekids.com/event/art-infusion-2022/
LOCATION:Downtown Janesville\, 100 N Main St.\, Janesville\, WI\, United States
CATEGORIES:Janesville
END:VEVENT
BEGIN:VEVENT
DTSTART;TZID=America/Chicago:20220818T170000
DTEND;TZID=America/Chicago:20220818T210000
DTSTAMP:20260422T135904
CREATED:20220814T183055Z
LAST-MODIFIED:20220814T183055Z
UID:22955-1660842000-1660856400@statelinekids.com
SUMMARY:Festival Night
DESCRIPTION:Enjoy music\, kids’ activities\, and shopping.
URL:https://statelinekids.com/event/festival-night/
LOCATION:Downtown Janesville\, 100 N Main St.\, Janesville\, WI\, United States
CATEGORIES:Janesville
END:VEVENT
BEGIN:VEVENT
DTSTART;TZID=America/Chicago:20220521T120000
DTEND;TZID=America/Chicago:20220521T170000
DTSTAMP:20260422T135904
CREATED:20220508T012937Z
LAST-MODIFIED:20220508T012937Z
UID:20268-1653134400-1653152400@statelinekids.com
SUMMARY:GIRLS NIGHT OUT: Spring Wine Walk
DESCRIPTION:Stroll through downtown Janesville\, or hop on and off the trolley\, and enjoy trying different wines at local shops. Must be 21 or older. Get tickets here.
URL:https://statelinekids.com/event/girls-night-out-spring-wine-walk/
LOCATION:Downtown Janesville\, 100 N Main St.\, Janesville\, WI\, United States
CATEGORIES:Janesville
END:VEVENT
BEGIN:VEVENT
DTSTART;TZID=America/Chicago:20220507T080000
DTEND;TZID=America/Chicago:20220507T130000
DTSTAMP:20260422T135904
CREATED:20220430T195559Z
LAST-MODIFIED:20220430T195559Z
UID:19994-1651910400-1651928400@statelinekids.com
SUMMARY:Janesville Farmers Market
DESCRIPTION:Enjoy an outdoor farmers’ market with goods from local vendors and farmers.
URL:https://statelinekids.com/event/janesville-farmers-market-4/2022-05-07/
LOCATION:Downtown Janesville\, 100 N Main St.\, Janesville\, WI\, United States
CATEGORIES:Janesville
END:VEVENT
BEGIN:VEVENT
DTSTART;TZID=America/Chicago:20220205T100000
DTEND;TZID=America/Chicago:20220205T160000
DTSTAMP:20260422T135904
CREATED:20220129T194518Z
LAST-MODIFIED:20220129T194518Z
UID:19047-1644055200-1644076800@statelinekids.com
SUMMARY:Meander Downtown
DESCRIPTION:Walk around downtown\, or take a ride on the trolley\, and shop from local stores. There will also be pop-ups and food trucks.
URL:https://statelinekids.com/event/meander-downtown/
LOCATION:Downtown Janesville\, 100 N Main St.\, Janesville\, WI\, United States
CATEGORIES:Janesville
END:VEVENT
BEGIN:VEVENT
DTSTART;TZID=America/Chicago:20211030T100000
DTEND;TZID=America/Chicago:20211030T130000
DTSTAMP:20260422T135904
CREATED:20211023T180536Z
LAST-MODIFIED:20211023T180536Z
UID:17936-1635588000-1635598800@statelinekids.com
SUMMARY:Trick or Treat Downtown
DESCRIPTION:Trick or treat from downtown businesses that are displaying orange and black balloons. The trolley will be running during the event.
URL:https://statelinekids.com/event/trick-or-treat-downtown/
LOCATION:Downtown Janesville\, 100 N Main St.\, Janesville\, WI\, United States
CATEGORIES:Janesville
END:VEVENT
BEGIN:VEVENT
DTSTART;TZID=America/Chicago:20211030T100000
DTEND;TZID=America/Chicago:20211030T130000
DTSTAMP:20260422T135904
CREATED:20211008T212722Z
LAST-MODIFIED:20211008T212722Z
UID:17719-1635588000-1635598800@statelinekids.com
SUMMARY:Trick or Treat Downtown Janesville
DESCRIPTION:Take the trolley around downtown and trick or treat at various businesses with orange and black balloons outside the door.
URL:https://statelinekids.com/event/trick-or-treat-downtown-janesville/
LOCATION:Downtown Janesville\, 100 N Main St.\, Janesville\, WI\, United States
CATEGORIES:Janesville
END:VEVENT
BEGIN:VEVENT
DTSTART;TZID=America/Chicago:20211016T120000
DTEND;TZID=America/Chicago:20211016T170000
DTSTAMP:20260422T135904
CREATED:20211009T202434Z
LAST-MODIFIED:20211009T202434Z
UID:17759-1634385600-1634403600@statelinekids.com
SUMMARY:Downtown Janesville Wine Walk
DESCRIPTION:Walk around beautiful downtown Janesville\, or hop on and off the trolley\, and enjoy wines from 16 tasting locations. Get tickets here. \nCost: $35-50 per person
URL:https://statelinekids.com/event/downtown-janesville-wine-walk/
LOCATION:Downtown Janesville\, 100 N Main St.\, Janesville\, WI\, United States
CATEGORIES:Janesville
END:VEVENT
BEGIN:VEVENT
DTSTART;TZID=America/Chicago:20210916T160000
DTEND;TZID=America/Chicago:20210916T200000
DTSTAMP:20260422T135904
CREATED:20210912T180846Z
LAST-MODIFIED:20210912T180846Z
UID:17305-1631808000-1631822400@statelinekids.com
SUMMARY:Nights on Festival
DESCRIPTION:Shop from over 40 vendors and check out the food trucks and kids zone.
URL:https://statelinekids.com/event/nights-on-festival-2/
LOCATION:Downtown Janesville\, 100 N Main St.\, Janesville\, WI\, United States
CATEGORIES:Janesville
END:VEVENT
BEGIN:VEVENT
DTSTART;VALUE=DATE:20210904
DTEND;VALUE=DATE:20211101
DTSTAMP:20260422T135904
CREATED:20210829T160727Z
LAST-MODIFIED:20210829T160727Z
UID:17189-1630713600-1635724799@statelinekids.com
SUMMARY:My Pet Park
DESCRIPTION:Walk through the pet themed art installation for families to enjoy.
URL:https://statelinekids.com/event/my-pet-park/
LOCATION:Downtown Janesville\, 100 N Main St.\, Janesville\, WI\, United States
CATEGORIES:Janesville
END:VEVENT
BEGIN:VEVENT
DTSTART;VALUE=DATE:20210901
DTEND;VALUE=DATE:20210913
DTSTAMP:20260422T135904
CREATED:20210828T221728Z
LAST-MODIFIED:20210828T221728Z
UID:17173-1630454400-1631491199@statelinekids.com
SUMMARY:Art Infusion Mural Week
DESCRIPTION:There will be artists painting murals in several locations in downtown Janesville. See the list of locations here.
URL:https://statelinekids.com/event/art-infusion-mural-week/
LOCATION:Downtown Janesville\, 100 N Main St.\, Janesville\, WI\, United States
CATEGORIES:Janesville
END:VEVENT
BEGIN:VEVENT
DTSTART;TZID=America/Chicago:20210819T160000
DTEND;TZID=America/Chicago:20210819T200000
DTSTAMP:20260422T135904
CREATED:20210815T182909Z
LAST-MODIFIED:20210815T182909Z
UID:17111-1629388800-1629403200@statelinekids.com
SUMMARY:Nights on Festival (LIVE MUSIC)
DESCRIPTION:Shop from over 40 local vendors\, food trucks\, while enjoying live music and a Kids Zone.
URL:https://statelinekids.com/event/nights-on-festival-live-music/
LOCATION:Downtown Janesville\, 100 N Main St.\, Janesville\, WI\, United States
CATEGORIES:Janesville
END:VEVENT
BEGIN:VEVENT
DTSTART;TZID=America/Chicago:20210715T160000
DTEND;TZID=America/Chicago:20210715T200000
DTSTAMP:20260422T135904
CREATED:20210711T182448Z
LAST-MODIFIED:20210711T182448Z
UID:16637-1626364800-1626379200@statelinekids.com
SUMMARY:Nights on Festival
DESCRIPTION:Shop from over 40 local vendors\, get dinner from a food truck\, and enjoy live music.
URL:https://statelinekids.com/event/nights-on-festival/2021-07-15/
LOCATION:Downtown Janesville\, 100 N Main St.\, Janesville\, WI\, United States
CATEGORIES:Janesville
END:VEVENT
BEGIN:VEVENT
DTSTART;VALUE=DATE:20210130
DTEND;VALUE=DATE:20210213
DTSTAMP:20260422T135904
CREATED:20210131T213929Z
LAST-MODIFIED:20210131T213929Z
UID:14686-1611964800-1613174399@statelinekids.com
SUMMARY:Rock the Solar System Scavenger Hunt
DESCRIPTION:Look for the clues and find the planet’s location each Friday. Post your selfie with each planet in the Facebook event for a chance to win prizes.
URL:https://statelinekids.com/event/rock-the-solar-system-scavenger-hunt/
LOCATION:Downtown Janesville\, 100 N Main St.\, Janesville\, WI\, United States
CATEGORIES:Janesville
END:VEVENT
END:VCALENDAR