BEGIN:VCALENDAR
VERSION:2.0
PRODID:-//Stateline Kids - ECPv6.5.1.3//NONSGML v1.0//EN
CALSCALE:GREGORIAN
METHOD:PUBLISH
X-WR-CALNAME:Stateline Kids
X-ORIGINAL-URL:https://statelinekids.com
X-WR-CALDESC:Events for Stateline Kids
REFRESH-INTERVAL;VALUE=DURATION:PT1H
X-Robots-Tag:noindex
X-PUBLISHED-TTL:PT1H
BEGIN:VTIMEZONE
TZID:America/Chicago
BEGIN:DAYLIGHT
TZOFFSETFROM:-0600
TZOFFSETTO:-0500
TZNAME:CDT
DTSTART:20190310T080000
END:DAYLIGHT
BEGIN:STANDARD
TZOFFSETFROM:-0500
TZOFFSETTO:-0600
TZNAME:CST
DTSTART:20191103T070000
END:STANDARD
BEGIN:DAYLIGHT
TZOFFSETFROM:-0600
TZOFFSETTO:-0500
TZNAME:CDT
DTSTART:20200308T080000
END:DAYLIGHT
BEGIN:STANDARD
TZOFFSETFROM:-0500
TZOFFSETTO:-0600
TZNAME:CST
DTSTART:20201101T070000
END:STANDARD
BEGIN:DAYLIGHT
TZOFFSETFROM:-0600
TZOFFSETTO:-0500
TZNAME:CDT
DTSTART:20210314T080000
END:DAYLIGHT
BEGIN:STANDARD
TZOFFSETFROM:-0500
TZOFFSETTO:-0600
TZNAME:CST
DTSTART:20211107T070000
END:STANDARD
BEGIN:DAYLIGHT
TZOFFSETFROM:-0600
TZOFFSETTO:-0500
TZNAME:CDT
DTSTART:20220313T080000
END:DAYLIGHT
BEGIN:STANDARD
TZOFFSETFROM:-0500
TZOFFSETTO:-0600
TZNAME:CST
DTSTART:20221106T070000
END:STANDARD
BEGIN:DAYLIGHT
TZOFFSETFROM:-0600
TZOFFSETTO:-0500
TZNAME:CDT
DTSTART:20230312T080000
END:DAYLIGHT
BEGIN:STANDARD
TZOFFSETFROM:-0500
TZOFFSETTO:-0600
TZNAME:CST
DTSTART:20231105T070000
END:STANDARD
END:VTIMEZONE
BEGIN:VEVENT
DTSTART;TZID=America/Chicago:20230804T170000
DTEND;TZID=America/Chicago:20230804T190000
DTSTAMP:20260423T075207
CREATED:20230729T220710Z
LAST-MODIFIED:20230729T220710Z
UID:29634-1691168400-1691175600@statelinekids.com
SUMMARY:Country Splash Pad Night and Foam Party
DESCRIPTION:Enjoy a night of country music\, dancing\, and foam! Dress to the theme.
URL:https://statelinekids.com/event/country-splash-pad-night-and-foam-party/
LOCATION:Doty Sprayground\, 365 W Locust St\, Belvidere\, IL\, United States
CATEGORIES:Belvidere
END:VEVENT
BEGIN:VEVENT
DTSTART;TZID=America/Chicago:20190531T110000
DTEND;TZID=America/Chicago:20190531T200000
DTSTAMP:20260423T075207
CREATED:20190520T002741Z
LAST-MODIFIED:20190524T135700Z
UID:5720-1559300400-1559332800@statelinekids.com
SUMMARY:Opening Day of Doty Sprayground
DESCRIPTION:Doty Sprayground opens for the season!
URL:https://statelinekids.com/event/opening-day-of-doty-sprayground/
LOCATION:Doty Sprayground\, 365 W Locust St\, Belvidere\, IL\, United States
CATEGORIES:Belvidere
END:VEVENT
END:VCALENDAR