BEGIN:VCALENDAR
VERSION:2.0
PRODID:-//Stateline Kids - ECPv6.5.1.3//NONSGML v1.0//EN
CALSCALE:GREGORIAN
METHOD:PUBLISH
X-ORIGINAL-URL:https://statelinekids.com
X-WR-CALDESC:Events for Stateline Kids
REFRESH-INTERVAL;VALUE=DURATION:PT1H
X-Robots-Tag:noindex
X-PUBLISHED-TTL:PT1H
BEGIN:VTIMEZONE
TZID:America/Chicago
BEGIN:DAYLIGHT
TZOFFSETFROM:-0600
TZOFFSETTO:-0500
TZNAME:CDT
DTSTART:20190310T080000
END:DAYLIGHT
BEGIN:STANDARD
TZOFFSETFROM:-0500
TZOFFSETTO:-0600
TZNAME:CST
DTSTART:20191103T070000
END:STANDARD
BEGIN:DAYLIGHT
TZOFFSETFROM:-0600
TZOFFSETTO:-0500
TZNAME:CDT
DTSTART:20200308T080000
END:DAYLIGHT
BEGIN:STANDARD
TZOFFSETFROM:-0500
TZOFFSETTO:-0600
TZNAME:CST
DTSTART:20201101T070000
END:STANDARD
BEGIN:DAYLIGHT
TZOFFSETFROM:-0600
TZOFFSETTO:-0500
TZNAME:CDT
DTSTART:20210314T080000
END:DAYLIGHT
BEGIN:STANDARD
TZOFFSETFROM:-0500
TZOFFSETTO:-0600
TZNAME:CST
DTSTART:20211107T070000
END:STANDARD
BEGIN:DAYLIGHT
TZOFFSETFROM:-0600
TZOFFSETTO:-0500
TZNAME:CDT
DTSTART:20220313T080000
END:DAYLIGHT
BEGIN:STANDARD
TZOFFSETFROM:-0500
TZOFFSETTO:-0600
TZNAME:CST
DTSTART:20221106T070000
END:STANDARD
END:VTIMEZONE
BEGIN:VEVENT
DTSTART;TZID=America/Chicago:20220507T130000
DTEND;TZID=America/Chicago:20220507T200000
DTSTAMP:20260424T144320
CREATED:20220430T204006Z
LAST-MODIFIED:20220430T204006Z
UID:20034-1651928400-1651953600@statelinekids.com
SUMMARY:Cinco de Mayo Celebration
DESCRIPTION:Enjoy a Cinco celebration with food trucks\, live music and entertainment\, and a jalapeno eating contest.
URL:https://statelinekids.com/event/cinco-de-mayo-celebration/
LOCATION:Don Carter Lanes\, 4007 E. State St.\, Rockford\, IL\, United States
CATEGORIES:Rockford
END:VEVENT
BEGIN:VEVENT
DTSTART;TZID=America/Chicago:20211010T120000
DTEND;TZID=America/Chicago:20211010T150000
DTSTAMP:20260424T144320
CREATED:20210927T002313Z
LAST-MODIFIED:20210927T002313Z
UID:17536-1633867200-1633878000@statelinekids.com
SUMMARY:Screw City Jeeps Trunk or Treat at Old Magna
DESCRIPTION:Bring kids to get treats from decorated Jeeps\, get their face painted\, win a pumpkin and more.
URL:https://statelinekids.com/event/screw-city-jeeps-trunk-or-treat-at-old-magna/
LOCATION:Don Carter Lanes\, 4007 E. State St.\, Rockford\, IL\, United States
CATEGORIES:Rockford
END:VEVENT
BEGIN:VEVENT
DTSTART;TZID=America/Chicago:20210911T130000
DTEND;TZID=America/Chicago:20210911T210000
DTSTAMP:20260424T144320
CREATED:20210905T175424Z
LAST-MODIFIED:20210905T175424Z
UID:17225-1631365200-1631394000@statelinekids.com
SUMMARY:Tamale Fest
DESCRIPTION:Enjoy tamales\, a car show\, live music\, and more. \nCost: $10 per person / kids 10 and under are free
URL:https://statelinekids.com/event/tamale-fest/
LOCATION:Don Carter Lanes\, 4007 E. State St.\, Rockford\, IL\, United States
CATEGORIES:Rockford
END:VEVENT
BEGIN:VEVENT
DTSTART;TZID=America/Chicago:20210502T120000
DTEND;TZID=America/Chicago:20210502T200000
DTSTAMP:20260424T144320
CREATED:20210425T161007Z
LAST-MODIFIED:20210425T161007Z
UID:15398-1619956800-1619985600@statelinekids.com
SUMMARY:Cinco on State
DESCRIPTION:Enjoy live music\, food trucks\, and more at this event celebrating Cinco de Mayo.
URL:https://statelinekids.com/event/cinco-on-state/
LOCATION:Don Carter Lanes\, 4007 E. State St.\, Rockford\, IL\, United States
CATEGORIES:Rockford
END:VEVENT
BEGIN:VEVENT
DTSTART;TZID=America/Chicago:20201010T100000
DTEND;TZID=America/Chicago:20201010T160000
DTSTAMP:20260424T144320
CREATED:20201004T195516Z
LAST-MODIFIED:20201004T195516Z
UID:13288-1602324000-1602345600@statelinekids.com
SUMMARY:Rock N Bowl Car Show
DESCRIPTION:Check out cars\, listen to live music\, and enjoy food vendors.
URL:https://statelinekids.com/event/rock-n-bowl-car-show/
LOCATION:Don Carter Lanes\, 4007 E. State St.\, Rockford\, IL\, United States
CATEGORIES:Rockford
END:VEVENT
BEGIN:VEVENT
DTSTART;TZID=America/Chicago:20200815T190000
DTEND;TZID=America/Chicago:20200815T230000
DTSTAMP:20260424T144320
CREATED:20200809T175017Z
LAST-MODIFIED:20200809T175017Z
UID:12549-1597518000-1597532400@statelinekids.com
SUMMARY:Movies on the Mile
DESCRIPTION:Watch A League of Their Own at a pop-up drive-in at Don Carter Lanes. Get tickets here. \nCost: $10 per car
URL:https://statelinekids.com/event/movies-on-the-mile/
LOCATION:Don Carter Lanes\, 4007 E. State St.\, Rockford\, IL\, United States
CATEGORIES:Rockford
END:VEVENT
BEGIN:VEVENT
DTSTART;TZID=America/Chicago:20191231T120000
DTEND;TZID=America/Chicago:20191231T173000
DTSTAMP:20260424T144320
CREATED:20191228T203225Z
LAST-MODIFIED:20191228T203225Z
UID:9209-1577793600-1577813400@statelinekids.com
SUMMARY:Family Cosmic New Year’s Eve Bowling Party at Don Carter Lanes
DESCRIPTION:Enjoy two hours of unlimited bowling for everyone on your lane (up to 8 people)\, shoe rental for all bowlers\, 2 pizzas per lane\, unlimited pop\, and party favors. There will be music and lights and a New Year’s countdown. Register by call 815-399-0314. \nCost is $75 per lane.
URL:https://statelinekids.com/event/family-cosmic-new-years-eve-bowling-party-at-don-carter-lanes/
LOCATION:Don Carter Lanes\, 4007 E. State St.\, Rockford\, IL\, United States
CATEGORIES:Rockford
END:VEVENT
BEGIN:VEVENT
DTSTART;TZID=America/Chicago:20190525T120000
DTEND;TZID=America/Chicago:20190525T160000
DTSTAMP:20260424T144320
CREATED:20190520T003753Z
LAST-MODIFIED:20190520T003753Z
UID:5737-1558785600-1558800000@statelinekids.com
SUMMARY:3rd Annual Miracle Mile Cruise and Car Show
DESCRIPTION:Check out the cars at the car show. There will be food\, ice cream and fun activities for the kids\, young and old\, tricycle drag races\, bucket toss\, fan belt toss\, muffler rap contest and more.
URL:https://statelinekids.com/event/3rd-annual-miracle-mile-cruise-and-car-show/
LOCATION:Don Carter Lanes\, 4007 E. State St.\, Rockford\, IL\, United States
CATEGORIES:Rockford
END:VEVENT
END:VCALENDAR