BEGIN:VCALENDAR
VERSION:2.0
PRODID:-//Stateline Kids - ECPv6.5.1.3//NONSGML v1.0//EN
CALSCALE:GREGORIAN
METHOD:PUBLISH
X-ORIGINAL-URL:https://statelinekids.com
X-WR-CALDESC:Events for Stateline Kids
REFRESH-INTERVAL;VALUE=DURATION:PT1H
X-Robots-Tag:noindex
X-PUBLISHED-TTL:PT1H
BEGIN:VTIMEZONE
TZID:America/Chicago
BEGIN:DAYLIGHT
TZOFFSETFROM:-0600
TZOFFSETTO:-0500
TZNAME:CDT
DTSTART:20190310T080000
END:DAYLIGHT
BEGIN:STANDARD
TZOFFSETFROM:-0500
TZOFFSETTO:-0600
TZNAME:CST
DTSTART:20191103T070000
END:STANDARD
BEGIN:DAYLIGHT
TZOFFSETFROM:-0600
TZOFFSETTO:-0500
TZNAME:CDT
DTSTART:20200308T080000
END:DAYLIGHT
BEGIN:STANDARD
TZOFFSETFROM:-0500
TZOFFSETTO:-0600
TZNAME:CST
DTSTART:20201101T070000
END:STANDARD
BEGIN:DAYLIGHT
TZOFFSETFROM:-0600
TZOFFSETTO:-0500
TZNAME:CDT
DTSTART:20210314T080000
END:DAYLIGHT
BEGIN:STANDARD
TZOFFSETFROM:-0500
TZOFFSETTO:-0600
TZNAME:CST
DTSTART:20211107T070000
END:STANDARD
END:VTIMEZONE
BEGIN:VEVENT
DTSTART;TZID=America/Chicago:20211002T090000
DTEND;TZID=America/Chicago:20211002T120000
DTSTAMP:20260420T090532
CREATED:20210926T161404Z
LAST-MODIFIED:20210926T161404Z
UID:17474-1633165200-1633176000@statelinekids.com
SUMMARY:Belvidere Farmer’s Market
DESCRIPTION:Shop from local vendors for fall decor\, gourds\, apples\, baked goods and more.
URL:https://statelinekids.com/event/belvidere-farmers-market-3/
LOCATION:Dodge Lanes\, 1940 N. State St.\, Belvidere\, IL\, United States
CATEGORIES:Belvidere
END:VEVENT
BEGIN:VEVENT
DTSTART;TZID=America/Chicago:20210122T100000
DTEND;TZID=America/Chicago:20210122T190000
DTSTAMP:20260420T090532
CREATED:20210117T202714Z
LAST-MODIFIED:20210117T202714Z
UID:14607-1611309600-1611342000@statelinekids.com
SUMMARY:Gnomeland and More Craft Show
DESCRIPTION:Shop for crafts\, handmade items\, and more.
URL:https://statelinekids.com/event/gnomeland-and-more-craft-show/2021-01-22/
LOCATION:Dodge Lanes\, 1940 N. State St.\, Belvidere\, IL\, United States
CATEGORIES:Belvidere
END:VEVENT
BEGIN:VEVENT
DTSTART;TZID=America/Chicago:20200620T090000
DTEND;TZID=America/Chicago:20200620T123000
DTSTAMP:20260420T090532
CREATED:20200614T171856Z
LAST-MODIFIED:20200614T171856Z
UID:11557-1592643600-1592656200@statelinekids.com
SUMMARY:Belvidere Farmers Market 
DESCRIPTION:Stop by and grab some local produce and treats.
URL:https://statelinekids.com/event/belvidere-farmers-market-2/2020-06-20/
LOCATION:Dodge Lanes\, 1940 N. State St.\, Belvidere\, IL\, United States
CATEGORIES:Belvidere
END:VEVENT
BEGIN:VEVENT
DTSTART;TZID=America/Chicago:20190831T090000
DTEND;TZID=America/Chicago:20190831T123000
DTSTAMP:20260420T090532
CREATED:20190825T161916Z
LAST-MODIFIED:20190825T161916Z
UID:7145-1567242000-1567254600@statelinekids.com
SUMMARY:Belvidere Farmers Market
DESCRIPTION:Enjoy a farmers market with fresh fruit\, vegetables\, crafts and quilts.
URL:https://statelinekids.com/event/belvidere-farmers-market/
LOCATION:Dodge Lanes\, 1940 N. State St.\, Belvidere\, IL\, United States
CATEGORIES:Belvidere
END:VEVENT
END:VCALENDAR