BEGIN:VCALENDAR
VERSION:2.0
PRODID:-//Stateline Kids - ECPv6.5.1.3//NONSGML v1.0//EN
CALSCALE:GREGORIAN
METHOD:PUBLISH
X-ORIGINAL-URL:https://statelinekids.com
X-WR-CALDESC:Events for Stateline Kids
REFRESH-INTERVAL;VALUE=DURATION:PT1H
X-Robots-Tag:noindex
X-PUBLISHED-TTL:PT1H
BEGIN:VTIMEZONE
TZID:America/Chicago
BEGIN:DAYLIGHT
TZOFFSETFROM:-0600
TZOFFSETTO:-0500
TZNAME:CDT
DTSTART:20180311T080000
END:DAYLIGHT
BEGIN:STANDARD
TZOFFSETFROM:-0500
TZOFFSETTO:-0600
TZNAME:CST
DTSTART:20181104T070000
END:STANDARD
BEGIN:DAYLIGHT
TZOFFSETFROM:-0600
TZOFFSETTO:-0500
TZNAME:CDT
DTSTART:20190310T080000
END:DAYLIGHT
BEGIN:STANDARD
TZOFFSETFROM:-0500
TZOFFSETTO:-0600
TZNAME:CST
DTSTART:20191103T070000
END:STANDARD
END:VTIMEZONE
BEGIN:VEVENT
DTSTART;TZID=America/Chicago:20191231T130000
DTEND;TZID=America/Chicago:20191231T180000
DTSTAMP:20260423T181628
CREATED:20191228T203516Z
LAST-MODIFIED:20191228T203516Z
UID:9216-1577797200-1577815200@statelinekids.com
SUMMARY:Family Glow Bowling at Diamond Lanes
DESCRIPTION:Diamond Lanes will host a family glow bowling celebration. Admission includes bowling and shoe rental. \nSlots from 1 – 3 pm and 4 – 6 pm. Cost is $8 per person.
URL:https://statelinekids.com/event/family-glow-bowling-at-diamond-lanes-3/
LOCATION:Diamond Lanes\, 1218 Cranston Rd.\, Beloit\, WI\, United States
CATEGORIES:Beloit
END:VEVENT
BEGIN:VEVENT
DTSTART;TZID=America/Chicago:20181231T160000
DTEND;TZID=America/Chicago:20181231T180000
DTSTAMP:20260423T181628
CREATED:20181230T220529Z
LAST-MODIFIED:20181230T220529Z
UID:4421-1546272000-1546279200@statelinekids.com
SUMMARY:Family Glow Bowling at Diamond Lanes
DESCRIPTION:Diamond Lanes will host a family glow bowling celebration. Admission includes bowling\, shoe rental\, face painting\, prizes and fun. \nCost:$7 per person
URL:https://statelinekids.com/event/family-glow-bowling-at-diamond-lanes-2/
LOCATION:Diamond Lanes\, 1218 Cranston Rd.\, Beloit\, WI\, United States
CATEGORIES:Beloit
END:VEVENT
BEGIN:VEVENT
DTSTART;TZID=America/Chicago:20181231T130000
DTEND;TZID=America/Chicago:20181231T150000
DTSTAMP:20260423T181628
CREATED:20181230T220345Z
LAST-MODIFIED:20181230T220415Z
UID:4419-1546261200-1546268400@statelinekids.com
SUMMARY:Family Glow Bowling at Diamond Lanes
DESCRIPTION:Diamond Lanes will host a family glow bowling celebration. Admission includes bowling\, shoe rental\, face painting\, prizes and fun. \nCost:$7 per person
URL:https://statelinekids.com/event/family-glow-bowling-at-diamond-lanes/
LOCATION:Diamond Lanes\, 1218 Cranston Rd.\, Beloit\, WI\, United States
CATEGORIES:Beloit
END:VEVENT
BEGIN:VEVENT
DTSTART;TZID=America/Chicago:20181222T120000
DTEND;TZID=America/Chicago:20181222T140000
DTSTAMP:20260423T181628
CREATED:20181216T042047Z
LAST-MODIFIED:20181216T042047Z
UID:4217-1545480000-1545487200@statelinekids.com
SUMMARY:Bowl with Santa
DESCRIPTION:Bowl with Santa\, two hours of bowling including shoe rental\, pictures with Santa\, and prizes
URL:https://statelinekids.com/event/bowl-with-santa/
LOCATION:Diamond Lanes\, 1218 Cranston Rd.\, Beloit\, WI\, United States
CATEGORIES:Beloit
END:VEVENT
END:VCALENDAR