BEGIN:VCALENDAR
VERSION:2.0
PRODID:-//Stateline Kids - ECPv6.5.1.3//NONSGML v1.0//EN
CALSCALE:GREGORIAN
METHOD:PUBLISH
X-WR-CALNAME:Stateline Kids
X-ORIGINAL-URL:https://statelinekids.com
X-WR-CALDESC:Events for Stateline Kids
REFRESH-INTERVAL;VALUE=DURATION:PT1H
X-Robots-Tag:noindex
X-PUBLISHED-TTL:PT1H
BEGIN:VTIMEZONE
TZID:America/Chicago
BEGIN:DAYLIGHT
TZOFFSETFROM:-0600
TZOFFSETTO:-0500
TZNAME:CDT
DTSTART:20180311T080000
END:DAYLIGHT
BEGIN:STANDARD
TZOFFSETFROM:-0500
TZOFFSETTO:-0600
TZNAME:CST
DTSTART:20181104T070000
END:STANDARD
BEGIN:DAYLIGHT
TZOFFSETFROM:-0600
TZOFFSETTO:-0500
TZNAME:CDT
DTSTART:20190310T080000
END:DAYLIGHT
BEGIN:STANDARD
TZOFFSETFROM:-0500
TZOFFSETTO:-0600
TZNAME:CST
DTSTART:20191103T070000
END:STANDARD
BEGIN:DAYLIGHT
TZOFFSETFROM:-0600
TZOFFSETTO:-0500
TZNAME:CDT
DTSTART:20200308T080000
END:DAYLIGHT
BEGIN:STANDARD
TZOFFSETFROM:-0500
TZOFFSETTO:-0600
TZNAME:CST
DTSTART:20201101T070000
END:STANDARD
BEGIN:DAYLIGHT
TZOFFSETFROM:-0600
TZOFFSETTO:-0500
TZNAME:CDT
DTSTART:20210314T080000
END:DAYLIGHT
BEGIN:STANDARD
TZOFFSETFROM:-0500
TZOFFSETTO:-0600
TZNAME:CST
DTSTART:20211107T070000
END:STANDARD
BEGIN:DAYLIGHT
TZOFFSETFROM:-0600
TZOFFSETTO:-0500
TZNAME:CDT
DTSTART:20220313T080000
END:DAYLIGHT
BEGIN:STANDARD
TZOFFSETFROM:-0500
TZOFFSETTO:-0600
TZNAME:CST
DTSTART:20221106T070000
END:STANDARD
BEGIN:DAYLIGHT
TZOFFSETFROM:-0600
TZOFFSETTO:-0500
TZNAME:CDT
DTSTART:20230312T080000
END:DAYLIGHT
BEGIN:STANDARD
TZOFFSETFROM:-0500
TZOFFSETTO:-0600
TZNAME:CST
DTSTART:20231105T070000
END:STANDARD
BEGIN:DAYLIGHT
TZOFFSETFROM:-0600
TZOFFSETTO:-0500
TZNAME:CDT
DTSTART:20240310T080000
END:DAYLIGHT
BEGIN:STANDARD
TZOFFSETFROM:-0500
TZOFFSETTO:-0600
TZNAME:CST
DTSTART:20241103T070000
END:STANDARD
END:VTIMEZONE
BEGIN:VEVENT
DTSTART;TZID=America/Chicago:20240809T183000
DTEND;TZID=America/Chicago:20240809T210000
DTSTAMP:20260424T212608
CREATED:20240804T183613Z
LAST-MODIFIED:20240804T183613Z
UID:37180-1723228200-1723237200@statelinekids.com
SUMMARY:Friday Night Flix: Shrek
DESCRIPTION: Enjoy a free showing of Shrek\, games\, activities\, food trucks and more. Bring your own blankets and chairs.
URL:https://statelinekids.com/event/friday-night-flix-shrek-2/
LOCATION:Davis Park\, 320 S. Wyman Street\, Rockford\, IL\, United States
CATEGORIES:Rockford
END:VEVENT
BEGIN:VEVENT
DTSTART;TZID=America/Chicago:20240628T180000
DTEND;TZID=America/Chicago:20240628T223000
DTSTAMP:20260424T212608
CREATED:20240623T211600Z
LAST-MODIFIED:20240623T211600Z
UID:36403-1719597600-1719613800@statelinekids.com
SUMMARY:Friday Night Flix: Shrek
DESCRIPTION:Watch a free outdoor showing of Shrek\, enjoy kids activities\, food trucks\, and more.
URL:https://statelinekids.com/event/friday-night-flix-shrek/
LOCATION:Davis Park\, 320 S. Wyman Street\, Rockford\, IL\, United States
CATEGORIES:Rockford
END:VEVENT
BEGIN:VEVENT
DTSTART;TZID=America/Chicago:20230804T183000
DTEND;TZID=America/Chicago:20230804T220000
DTSTAMP:20260424T212608
CREATED:20230729T221658Z
LAST-MODIFIED:20230729T221658Z
UID:29638-1691173800-1691186400@statelinekids.com
SUMMARY:Friday Night Flix: Minions - The Rise of Gru
DESCRIPTION:Enjoy a free showing of Minions: Rise of Gru. Bring your own chairs and blankets. There will be food for sale.
URL:https://statelinekids.com/event/friday-night-flix-minions-the-rise-of-gru-2/
LOCATION:Davis Park\, 320 S. Wyman Street\, Rockford\, IL\, United States
CATEGORIES:Rockford
END:VEVENT
BEGIN:VEVENT
DTSTART;TZID=America/Chicago:20230804T183000
DTEND;TZID=America/Chicago:20230804T210000
DTSTAMP:20260424T212608
CREATED:20230527T190524Z
LAST-MODIFIED:20230527T190524Z
UID:28209-1691173800-1691182800@statelinekids.com
SUMMARY:Friday Night Flix - Minions: The Rise of Gru
DESCRIPTION:Bring your own chairs and blankets to watch Minions: The Rise of Gru in the park. There will be food trucks and activities.
URL:https://statelinekids.com/event/friday-night-flix-minions-the-rise-of-gru/
LOCATION:Davis Park\, 320 S. Wyman Street\, Rockford\, IL\, United States
CATEGORIES:Rockford
END:VEVENT
BEGIN:VEVENT
DTSTART;TZID=America/Chicago:20230707T183000
DTEND;TZID=America/Chicago:20230707T210000
DTSTAMP:20260424T212608
CREATED:20230701T172927Z
LAST-MODIFIED:20230701T172927Z
UID:29193-1688754600-1688763600@statelinekids.com
SUMMARY:Friday Night Flix: Sonic the Hedgehog 2
DESCRIPTION:Families can bring chairs and blankets to watch Sonic 2 in Davis Park. There will be concessions for sale.
URL:https://statelinekids.com/event/friday-night-flix-sonic-the-hedgehog-2-2/
LOCATION:Davis Park\, 320 S. Wyman Street\, Rockford\, IL\, United States
CATEGORIES:Rockford
END:VEVENT
BEGIN:VEVENT
DTSTART;TZID=America/Chicago:20230707T183000
DTEND;TZID=America/Chicago:20230707T210000
DTSTAMP:20260424T212608
CREATED:20230527T190347Z
LAST-MODIFIED:20230527T190347Z
UID:28207-1688754600-1688763600@statelinekids.com
SUMMARY:Friday Night Flix - Sonic the Hedgehog 2
DESCRIPTION:Bring your own chairs and blankets to watch Sonic the Hedgehog 2 in the park. There will be food trucks and activities.
URL:https://statelinekids.com/event/friday-night-flix-sonic-the-hedgehog-2/
LOCATION:Davis Park\, 320 S. Wyman Street\, Rockford\, IL\, United States
CATEGORIES:Rockford
END:VEVENT
BEGIN:VEVENT
DTSTART;TZID=America/Chicago:20230602T183000
DTEND;TZID=America/Chicago:20230602T210000
DTSTAMP:20260424T212608
CREATED:20230527T190235Z
LAST-MODIFIED:20230527T190235Z
UID:28205-1685730600-1685739600@statelinekids.com
SUMMARY:Friday Night Flix - Tangled
DESCRIPTION:Bring your own chairs and blankets to watch Tangled in the park. There will be food trucks and activities.
URL:https://statelinekids.com/event/friday-night-flix-tangled/
LOCATION:Davis Park\, 320 S. Wyman Street\, Rockford\, IL\, United States
CATEGORIES:Rockford
END:VEVENT
BEGIN:VEVENT
DTSTART;TZID=America/Chicago:20220805T190000
DTEND;TZID=America/Chicago:20220805T204500
DTSTAMP:20260424T212608
CREATED:20220619T190840Z
LAST-MODIFIED:20220619T190840Z
UID:21337-1659726000-1659732300@statelinekids.com
SUMMARY:FRIDAY NIGHT FLIX: Encanto
DESCRIPTION:Watch Encanto in downtown Rockford in Davis Park. Bring your own chair and blankets.
URL:https://statelinekids.com/event/friday-night-flix-encanto/
LOCATION:Davis Park\, 320 S. Wyman Street\, Rockford\, IL\, United States
CATEGORIES:Rockford
END:VEVENT
BEGIN:VEVENT
DTSTART;TZID=America/Chicago:20220701T190000
DTEND;TZID=America/Chicago:20220701T210000
DTSTAMP:20260424T212608
CREATED:20220626T160527Z
LAST-MODIFIED:20220626T160527Z
UID:22222-1656702000-1656709200@statelinekids.com
SUMMARY:Friday Night Flix: A League of Their Own
DESCRIPTION:Watch a showing of A League of Their Own for the 30th anniversary. Pre-movie entertainment includes swing dancers\, a performance from The Studio with their original Girls of Summer songs\, activities\, and games. The first 300 kids under 12 years old will get a Peaches pennant.
URL:https://statelinekids.com/event/friday-night-flix-a-league-of-their-own-2/
LOCATION:Davis Park\, 320 S. Wyman Street\, Rockford\, IL\, United States
CATEGORIES:Rockford
END:VEVENT
BEGIN:VEVENT
DTSTART;TZID=America/Chicago:20220701T190000
DTEND;TZID=America/Chicago:20220701T204500
DTSTAMP:20260424T212608
CREATED:20220619T190739Z
LAST-MODIFIED:20220619T190739Z
UID:21335-1656702000-1656708300@statelinekids.com
SUMMARY:FRIDAY NIGHT FLIX: A League of Their Own
DESCRIPTION:Watch a showing of A League of Their Own in downtown Rockford during the League of Their Own 30th Anniversary weekend. Bring your own blankets and chairs.
URL:https://statelinekids.com/event/friday-night-flix-a-league-of-their-own/
LOCATION:Davis Park\, 320 S. Wyman Street\, Rockford\, IL\, United States
CATEGORIES:Rockford
END:VEVENT
BEGIN:VEVENT
DTSTART;TZID=America/Chicago:20220603T190000
DTEND;TZID=America/Chicago:20220603T210000
DTSTAMP:20260424T212608
CREATED:20220528T184155Z
LAST-MODIFIED:20220528T184155Z
UID:20596-1654282800-1654290000@statelinekids.com
SUMMARY:Friday Night Flix: Sing 2
DESCRIPTION:Bring your own chairs and blankets to watch Sing 2 in Davis Park. The first 500 people can enjoy free chips and Pepsi samples.
URL:https://statelinekids.com/event/friday-night-flix-sing-2/
LOCATION:Davis Park\, 320 S. Wyman Street\, Rockford\, IL\, United States
CATEGORIES:Rockford
END:VEVENT
BEGIN:VEVENT
DTSTART;TZID=America/Chicago:20211127T120000
DTEND;TZID=America/Chicago:20211127T130000
DTSTAMP:20260424T212608
CREATED:20211121T172330Z
LAST-MODIFIED:20211121T172330Z
UID:18277-1638014400-1638018000@statelinekids.com
SUMMARY:Dasher Dash 5K
DESCRIPTION:Walk or run a 5K in downtown Rockford and check out the Stroll on State decorations. Register here
URL:https://statelinekids.com/event/dasher-dash-5k/
LOCATION:Davis Park\, 320 S. Wyman Street\, Rockford\, IL\, United States
CATEGORIES:Rockford
END:VEVENT
BEGIN:VEVENT
DTSTART;TZID=America/Chicago:20210905T100000
DTEND;TZID=America/Chicago:20210905T150000
DTSTAMP:20260424T212608
CREATED:20210829T154818Z
LAST-MODIFIED:20210829T154818Z
UID:17187-1630836000-1630854000@statelinekids.com
SUMMARY:Labor Day Picnic and Car Show (CAR SHOW)
DESCRIPTION:Check out cool cars and listen to music from Dirty Fishnet Stockings.
URL:https://statelinekids.com/event/labor-day-picnic-and-car-show-car-show/
LOCATION:Davis Park\, 320 S. Wyman Street\, Rockford\, IL\, United States
CATEGORIES:Rockford
END:VEVENT
BEGIN:VEVENT
DTSTART;TZID=America/Chicago:20210828T160000
DTEND;TZID=America/Chicago:20210828T220000
DTSTAMP:20260424T212608
CREATED:20210822T200916Z
LAST-MODIFIED:20210822T200916Z
UID:17140-1630166400-1630188000@statelinekids.com
SUMMARY:Rock River Food Truck Fest
DESCRIPTION:Enjoy food from 20+ local and Chicago food trucks\, live music\, drinks\, and families activities including face painting.
URL:https://statelinekids.com/event/rock-river-food-truck-fest-2/
LOCATION:Davis Park\, 320 S. Wyman Street\, Rockford\, IL\, United States
CATEGORIES:Rockford
END:VEVENT
BEGIN:VEVENT
DTSTART;TZID=America/Chicago:20210806T190000
DTEND;TZID=America/Chicago:20210806T220000
DTSTAMP:20260424T212608
CREATED:20210801T184327Z
LAST-MODIFIED:20210801T184327Z
UID:16962-1628276400-1628287200@statelinekids.com
SUMMARY:Friday Night Flix: Raya and the Last Dragon
DESCRIPTION:Bring your family to watch Raya and the Last Dragon with kids activities offered by the Discovery Center\, Burpee\, and Nicholas Conservatory. Free blankets and chips will be handed out while supplies last.
URL:https://statelinekids.com/event/friday-night-flix-raya-and-the-last-dragon/
LOCATION:Davis Park\, 320 S. Wyman Street\, Rockford\, IL\, United States
CATEGORIES:Rockford
END:VEVENT
BEGIN:VEVENT
DTSTART;TZID=America/Chicago:20190902T100000
DTEND;TZID=America/Chicago:20190902T150000
DTSTAMP:20260424T212608
CREATED:20190831T202405Z
LAST-MODIFIED:20190831T202405Z
UID:7172-1567418400-1567436400@statelinekids.com
SUMMARY:8th Annual Picnic
DESCRIPTION:Enjoy a car show\, kid’s games\, live music\, and food for purchase.
URL:https://statelinekids.com/event/8th-annual-picnic/
LOCATION:Davis Park\, 320 S. Wyman Street\, Rockford\, IL\, United States
CATEGORIES:Rockford
END:VEVENT
BEGIN:VEVENT
DTSTART;TZID=America/Chicago:20190829T170000
DTEND;TZID=America/Chicago:20190829T210000
DTSTAMP:20260424T212608
CREATED:20190825T151226Z
LAST-MODIFIED:20190825T151226Z
UID:7101-1567098000-1567112400@statelinekids.com
SUMMARY:Last Summer Music Concert
DESCRIPTION:Enjoy live music at Davis Park. Performer is Too Deep and So Wavy. Bring your own blankets and chairs. This is the last summer music concert of the year.
URL:https://statelinekids.com/event/last-summer-music-concert/
LOCATION:Davis Park\, 320 S. Wyman Street\, Rockford\, IL\, United States
CATEGORIES:Rockford
END:VEVENT
BEGIN:VEVENT
DTSTART;TZID=America/Chicago:20190828T173000
DTEND;TZID=America/Chicago:20190828T190000
DTSTAMP:20260424T212608
CREATED:20190825T151004Z
LAST-MODIFIED:20190825T151004Z
UID:7099-1567013400-1567018800@statelinekids.com
SUMMARY:Last Free Workout at Davis Park
DESCRIPTION:Enjoy a live workout\, music and Kid’s Zone for kids ages 5-12. Teens are welcome to join the workouts. This is the last workout of the year.
URL:https://statelinekids.com/event/last-free-workout-at-davis-park/
LOCATION:Davis Park\, 320 S. Wyman Street\, Rockford\, IL\, United States
CATEGORIES:Rockford
END:VEVENT
BEGIN:VEVENT
DTSTART;TZID=America/Chicago:20190821T173000
DTEND;TZID=America/Chicago:20190821T213000
DTSTAMP:20260424T212608
CREATED:20190817T195018Z
LAST-MODIFIED:20190817T195018Z
UID:7023-1566408600-1566423000@statelinekids.com
SUMMARY:Free Workouts
DESCRIPTION:Enjoy a live workout\, music and Kid’s Zone for kids ages 5-12. Teens are welcome to join the workouts.
URL:https://statelinekids.com/event/free-workouts/
LOCATION:Davis Park\, 320 S. Wyman Street\, Rockford\, IL\, United States
CATEGORIES:Rockford
END:VEVENT
BEGIN:VEVENT
DTSTART;TZID=America/Chicago:20190814T173000
DTEND;TZID=America/Chicago:20190814T213000
DTSTAMP:20260424T212608
CREATED:20190810T182047Z
LAST-MODIFIED:20190810T182047Z
UID:6931-1565803800-1565818200@statelinekids.com
SUMMARY:Free Workouts in Davis Park
DESCRIPTION:Enjoy a live workout\, music and Kid’s Zone for kids ages 5-12. Teens are welcome to join the workouts.
URL:https://statelinekids.com/event/free-workouts-in-davis-park/
LOCATION:Davis Park\, 320 S. Wyman Street\, Rockford\, IL\, United States
CATEGORIES:Rockford
END:VEVENT
BEGIN:VEVENT
DTSTART;TZID=America/Chicago:20190807T173000
DTEND;TZID=America/Chicago:20190807T213000
DTSTAMP:20260424T212608
CREATED:20190804T190117Z
LAST-MODIFIED:20190804T190327Z
UID:6831-1565199000-1565213400@statelinekids.com
SUMMARY:Free Workouts at Davis Park
DESCRIPTION:Enjoy a live workout\, music and Kid’s Zone for kids ages 5-12. Teens are welcome to join the workouts.
URL:https://statelinekids.com/event/free-workouts-at-davis-park/
LOCATION:Davis Park\, 320 S. Wyman Street\, Rockford\, IL\, United States
CATEGORIES:Rockford
END:VEVENT
BEGIN:VEVENT
DTSTART;TZID=America/Chicago:20190802T190000
DTEND;TZID=America/Chicago:20190802T220000
DTSTAMP:20260424T212608
CREATED:20190728T195148Z
LAST-MODIFIED:20190728T195148Z
UID:6761-1564772400-1564783200@statelinekids.com
SUMMARY:Outdoor Free Movie Friday Night Flix: Trolls
DESCRIPTION:Watch an outdoor movie at Davis Park. Bring your own chairs and blankets. The first 1\,000 people will get free popcorn vouchers.
URL:https://statelinekids.com/event/outdoor-free-movie-friday-night-flix-trolls/
LOCATION:Davis Park\, 320 S. Wyman Street\, Rockford\, IL\, United States
CATEGORIES:Rockford
END:VEVENT
BEGIN:VEVENT
DTSTART;TZID=America/Chicago:20190731T173000
DTEND;TZID=America/Chicago:20190731T213000
DTSTAMP:20260424T212608
CREATED:20190728T203356Z
LAST-MODIFIED:20190728T203356Z
UID:6786-1564594200-1564608600@statelinekids.com
SUMMARY:Free Workouts in the Park
DESCRIPTION:Enjoy a live workout and Kid’s Zone for kids ages 5-12. Teens are welcome to join the workouts.
URL:https://statelinekids.com/event/free-workouts-in-the-park/
LOCATION:Davis Park\, 320 S. Wyman Street\, Rockford\, IL\, United States
CATEGORIES:Rockford
END:VEVENT
BEGIN:VEVENT
DTSTART;TZID=America/Chicago:20190724T173000
DTEND;TZID=America/Chicago:20190724T190000
DTSTAMP:20260424T212608
CREATED:20190720T192716Z
LAST-MODIFIED:20190720T192716Z
UID:6654-1563989400-1563994800@statelinekids.com
SUMMARY:Move More Pop-Up Event: Free Workouts in the Park
DESCRIPTION:Join Transform Rockford & Go Rockford for FREE workouts\, led by YMCA of Rock River Valley fitness instructors\, and a fun giveaway at Transform Rockford’s Move More Pop-Up event on Wednesday\, July 24 (originally scheduled for July 20\, but due to the extreme heat we have rescheduled)! Let’s “Move More” as a community in the recently spruced-up Davis Park in downtown Rockford. All ages are welcome to attend! FREE Kids-Zone for children ages 5 – 12 provided by the Rockford Park District. \nSCHEDULE:\n5:30 – 6:15 PM – Les Mills BodyAttack\n6:15 – 7:00 PM – Urban Line Dance \nAttendees are encouraged to bring their own water\, although we will provide some hydration\, thanks to Pepsi.\n*First 150 people to receive a free water bottle & protein bar! \nQuestions? Contact Transform Rockford at (815) 977-5840 or Facebook message us.
URL:https://statelinekids.com/event/move-more-pop-up-event-free-workouts-in-the-park/
LOCATION:Davis Park\, 320 S. Wyman Street\, Rockford\, IL\, United States
CATEGORIES:Rockford
END:VEVENT
BEGIN:VEVENT
DTSTART;TZID=America/Chicago:20190724T173000
DTEND;TZID=America/Chicago:20190724T183000
DTSTAMP:20260424T212608
CREATED:20190714T190459Z
LAST-MODIFIED:20190720T040050Z
UID:6565-1563989400-1563993000@statelinekids.com
SUMMARY:Move More Pop-Up Event
DESCRIPTION:Join Transform Rockford & Go Rockford for FREE workouts\, led by YMCA of Rock River Valley fitness instructors\, and a fun giveaway at Transform Rockford’s Move More Pop-Up event on Wednesday\, July 24 (originally scheduled for July 20\, but due to the extreme heat we have rescheduled)! Let’s “Move More” as a community in the recently spruced-up Davis Park in downtown Rockford. All ages are welcome to attend! FREE Kids-Zone for children ages 5 – 12 provided by the Rockford Park District. \nSCHEDULE:\n5:30 – 6:15 PM – Les Mills BodyAttack\n6:15 – 7:00 PM – Urban Line Dance \nAttendees are encouraged to bring their own water\, although we will provide some hydration\, thanks to Pepsi.\n*First 150 people to receive a free water bottle & protein bar! \nQuestions? Contact Transform Rockford at (815) 977-5840 or Facebook message us.
URL:https://statelinekids.com/event/move-more-pop-up-event/
LOCATION:Davis Park\, 320 S. Wyman Street\, Rockford\, IL\, United States
CATEGORIES:Rockford
END:VEVENT
BEGIN:VEVENT
DTSTART;TZID=America/Chicago:20180903T120000
DTEND;TZID=America/Chicago:20180903T140000
DTSTAMP:20260424T212608
CREATED:20180903T021849Z
LAST-MODIFIED:20180903T021849Z
UID:2347-1535976000-1535983200@statelinekids.com
SUMMARY:We are One Labor Day Picnic and Car Show
DESCRIPTION:This event features live music\, a car show\, bounce houses\, rock climbing\, train rides\, pony rides\, and food and beverages available for purchase.
URL:https://statelinekids.com/event/we-are-one-labor-day-picnic-and-car-show/
LOCATION:Davis Park\, 320 S. Wyman Street\, Rockford\, IL\, United States
CATEGORIES:Rockford
END:VEVENT
BEGIN:VEVENT
DTSTART;TZID=America/Chicago:20180903T100000
DTEND;TZID=America/Chicago:20180903T120000
DTSTAMP:20260424T212608
CREATED:20180903T021719Z
LAST-MODIFIED:20180903T021719Z
UID:2345-1535968800-1535976000@statelinekids.com
SUMMARY:Rockford’s Labor Day Parade
DESCRIPTION:Starts at corner of Sixth Avenue and Seventh Street ends at Davis Park\nParade with 98 groups participating. The theme is “Organized Labor Promotes Strong Communities.”
URL:https://statelinekids.com/event/rockfords-labor-day-parade/
LOCATION:Davis Park\, 320 S. Wyman Street\, Rockford\, IL\, United States
CATEGORIES:Rockford
END:VEVENT
BEGIN:VEVENT
DTSTART;TZID=America/Chicago:20180803T203000
DTEND;TZID=America/Chicago:20180803T223000
DTSTAMP:20260424T212608
CREATED:20180717T202123Z
LAST-MODIFIED:20180717T202123Z
UID:1108-1533328200-1533335400@statelinekids.com
SUMMARY:Outdoor Movie: Coco at Davis Park
DESCRIPTION:Movie starts at dusk (~8:30 pm) \nGuests are allowed to set up at 7 pm. Free popcorn vouchers for the first 1\,000 people! No pets\, bicycles\, or alcohol permitted. Coolers will be checked.
URL:https://statelinekids.com/event/outdoor-movie-coco-at-davis-park/
LOCATION:Davis Park\, 320 S. Wyman Street\, Rockford\, IL\, United States
CATEGORIES:Rockford
END:VEVENT
END:VCALENDAR